BEGIN:VCALENDAR
VERSION:2.0
PRODID:-//SOBER AF ENTERTAINMENT - ECPv6.15.20//NONSGML v1.0//EN
CALSCALE:GREGORIAN
METHOD:PUBLISH
X-WR-CALNAME:SOBER AF ENTERTAINMENT
X-ORIGINAL-URL:https://soberafe.com
X-WR-CALDESC:Events for SOBER AF ENTERTAINMENT
REFRESH-INTERVAL;VALUE=DURATION:PT1H
X-Robots-Tag:noindex
X-PUBLISHED-TTL:PT1H
BEGIN:VTIMEZONE
TZID:UTC
BEGIN:STANDARD
TZOFFSETFROM:+0000
TZOFFSETTO:+0000
TZNAME:UTC
DTSTART:20240101T000000
END:STANDARD
END:VTIMEZONE
BEGIN:VEVENT
DTSTART;TZID=UTC:20250205T183000
DTEND;TZID=UTC:20250205T220000
DTSTAMP:20260419T142427
CREATED:20241126T165149Z
LAST-MODIFIED:20250107T223913Z
UID:1426-1738780200-1738792800@soberafe.com
SUMMARY:New Orleans Pelicans vs. Denver Nuggets @ Ball Arena (Denver - CO)
DESCRIPTION:Sober tailgate prior in the Tivoli Student Union starting at 5:30pm MST!  \nLocation:\nDowntown Auraria Campus Rm #329\n900 Auraria Pkwy\,\nDenver\, CO 80204
URL:https://soberafe.com/event/new-orleans-pelicans-vs-denver-nuggets-ball-arena-denver-co-2/
LOCATION:Ball Arena\, 1000 Chopper Circle\, Denver\, Colorado\, 80204\, United States
CATEGORIES:Sports (Pro)
ATTACH;FMTTYPE=image/jpeg:https://soberafe.com/wp-content/uploads/2024/11/2025-02-05-New-Orleans-Pelicans-vs.-Denver-Nuggets-@-Ball-Arena-Denver-CO.jpg
END:VEVENT
BEGIN:VEVENT
DTSTART;TZID=UTC:20250208T193000
DTEND;TZID=UTC:20250208T233000
DTSTAMP:20260419T142427
CREATED:20250205T175723Z
LAST-MODIFIED:20250206T231417Z
UID:1483-1739043000-1739057400@soberafe.com
SUMMARY:The Disco Biscuits @ The Mission Ballroom (Denver - CO)
DESCRIPTION:Peer & Recovery support provided at Mission Row inside Mission Ballroom! Look for the S.AF.E booth!
URL:https://soberafe.com/event/the-disco-biscuits-the-mission-ballroom-denver-co/
LOCATION:The Mission Ballroom\, 4242 Wynkoop Street\, Denver\, Colorado\, 80216\, United States
CATEGORIES:Concerts
ATTACH;FMTTYPE=image/jpeg:https://soberafe.com/wp-content/uploads/2025/02/an-evening-with-the-disco-biscuits-tickets_02-08-25_17_6717cd4f37211.jpg
END:VEVENT
BEGIN:VEVENT
DTSTART;TZID=UTC:20250214T173000
DTEND;TZID=UTC:20250214T210000
DTSTAMP:20260419T142427
CREATED:20241126T170439Z
LAST-MODIFIED:20250107T223939Z
UID:1434-1739554200-1739566800@soberafe.com
SUMMARY:North Dakota Fighting Hawks vs. Denver Pioneers @ Magness Arena (Denver - CO)
DESCRIPTION:Sober tailgate prior in the DU Health Center starting at 5:30pm MST!  \nLocation:\n2240 E Buchtel Blvd\, 3N\,\nDenver\, CO 80208
URL:https://soberafe.com/event/north-dakota-fighting-hawks-vs-denver-pioneers-magness-arena-denver-co/
LOCATION:Magness Arena\, 2250 East Jewell Avenue\, Denver\, Colorado\, 80210\, United States
CATEGORIES:Sports (College)
ATTACH;FMTTYPE=image/jpeg:https://soberafe.com/wp-content/uploads/2024/11/2025-02-14-North-Dakota-Fighting-Hawks-vs.-Denver-Pioneers-@-Magness-Arena-Denver-CO.jpg
END:VEVENT
BEGIN:VEVENT
DTSTART;TZID=UTC:20250222T183000
DTEND;TZID=UTC:20250222T233000
DTSTAMP:20260419T142427
CREATED:20241126T164815Z
LAST-MODIFIED:20250206T231436Z
UID:1424-1740249000-1740267000@soberafe.com
SUMMARY:Ravenscoon & Manic Focus @ The Mission Ballroom (Denver - CO)
DESCRIPTION:Peer & Recovery support provided at Mission Row inside Mission Ballroom! Look for the S.AF.E booth!
URL:https://soberafe.com/event/ravenscoon-manic-focus-the-mission-ballroom-denver-co/
LOCATION:The Mission Ballroom\, 4242 Wynkoop Street\, Denver\, Colorado\, 80216\, United States
CATEGORIES:Concerts
ATTACH;FMTTYPE=image/jpeg:https://soberafe.com/wp-content/uploads/2024/11/ravenscoon-tickets_02-22-25_17_670c85b335e93.jpg
END:VEVENT
BEGIN:VEVENT
DTSTART;TZID=UTC:20250226T180000
DTEND;TZID=UTC:20250226T220000
DTSTAMP:20260419T142427
CREATED:20241126T150100Z
LAST-MODIFIED:20250107T224041Z
UID:1421-1740592800-1740607200@soberafe.com
SUMMARY:New Jersey Devils vs. Colorado Avalanche @ Ball Arena (Denver - CO)
DESCRIPTION:Sober tailgate prior in the Tivoli Student Union starting at 6:00pm MST!  \nLocation:\nDowntown Auraria Campus Rm #329\n900 Auraria Pkwy\,\nDenver\, CO 80204
URL:https://soberafe.com/event/new-jersey-devils-vs-colorado-avalanche-ball-arena-denver-co-2/
LOCATION:Ball Arena\, 1000 Chopper Circle\, Denver\, Colorado\, 80204\, United States
CATEGORIES:Sports (Pro)
ATTACH;FMTTYPE=image/jpeg:https://soberafe.com/wp-content/uploads/2024/11/2025-02-26-New-Jersey-Devils-vs.-Colorado-Avalanche-@-Ball-Arena-Denver-CO.jpg
END:VEVENT
END:VCALENDAR