BEGIN:VCALENDAR
VERSION:2.0
PRODID:-//SOBER AF ENTERTAINMENT - ECPv6.15.20//NONSGML v1.0//EN
CALSCALE:GREGORIAN
METHOD:PUBLISH
X-WR-CALNAME:SOBER AF ENTERTAINMENT
X-ORIGINAL-URL:https://soberafe.com
X-WR-CALDESC:Events for SOBER AF ENTERTAINMENT
REFRESH-INTERVAL;VALUE=DURATION:PT1H
X-Robots-Tag:noindex
X-PUBLISHED-TTL:PT1H
BEGIN:VTIMEZONE
TZID:UTC
BEGIN:STANDARD
TZOFFSETFROM:+0000
TZOFFSETTO:+0000
TZNAME:UTC
DTSTART:20220101T000000
END:STANDARD
END:VTIMEZONE
BEGIN:VEVENT
DTSTART;TZID=UTC:20230819T160000
DTEND;TZID=UTC:20230819T200000
DTSTAMP:20260420T064104
CREATED:20241125T165005Z
LAST-MODIFIED:20241125T165005Z
UID:1230-1692460800-1692475200@soberafe.com
SUMMARY:Maverick Mania @ University Center Ballroom at Colorado Mesa University (Grand Junction - CO)
DESCRIPTION:
URL:https://soberafe.com/event/maverick-mania-university-center-ballroom-at-colorado-mesa-university-grand-junction-co/
LOCATION:University Center Ballroom at Colorado Mesa University\, 1100 North Ave\, Grand Junction\, Colorado\, 81501\, United States
CATEGORIES:Community Celebrations
ATTACH;FMTTYPE=image/jpeg:https://soberafe.com/wp-content/uploads/2024/11/23-08-19-Maverick-Mania-@-University-Center-Ballroom-at-Colorado-Mesa-University-Grand-Junction-CO-Large-copy-Medium-4qwYze.tmp_.jpg
END:VEVENT
BEGIN:VEVENT
DTSTART;TZID=UTC:20230813T160000
DTEND;TZID=UTC:20230813T200000
DTSTAMP:20260420T064104
CREATED:20241125T165003Z
LAST-MODIFIED:20241125T165003Z
UID:1228-1691942400-1691956800@soberafe.com
SUMMARY:Back To School @ Central Pueblo Center (Pueblo - CO)
DESCRIPTION:
URL:https://soberafe.com/event/back-to-school-central-pueblo-center-pueblo-co/
LOCATION:Central Pueblo Center\, 807 West 4th Street\, Pueblo\, Colorado\, 81003\, United States
CATEGORIES:Community Celebrations
ATTACH;FMTTYPE=image/jpeg:https://soberafe.com/wp-content/uploads/2024/11/23-08-13-Back-To-School-@-Central-Pueblo-Center-Pueblo-CO-Large-copy-Medium-WJlnUB.tmp_.jpg
END:VEVENT
BEGIN:VEVENT
DTSTART;TZID=UTC:20230812T160000
DTEND;TZID=UTC:20230812T200000
DTSTAMP:20260420T064104
CREATED:20241125T165002Z
LAST-MODIFIED:20241125T165002Z
UID:1226-1691856000-1691870400@soberafe.com
SUMMARY:Corndogs And Cornhole @ Rolland Moore Park (Fort Collins - CO)
DESCRIPTION:
URL:https://soberafe.com/event/corndogs-and-cornhole-rolland-moore-park-fort-collins-co/
LOCATION:Rolland Moore Park\, Rolland Moore Park Access Road\, Fort Collins\, Colorado\, 80526\, United States
CATEGORIES:Community Celebrations
ATTACH;FMTTYPE=image/jpeg:https://soberafe.com/wp-content/uploads/2024/11/23-08-12-Corndogs-And-Cornhole-@-Rolland-Moore-Park-Fort-Collins-CO-Large-copy-Medium-wvMUw5.tmp_.jpg
END:VEVENT
BEGIN:VEVENT
DTSTART;TZID=UTC:20230812T160000
DTEND;TZID=UTC:20230812T200000
DTSTAMP:20260420T064104
CREATED:20241125T165000Z
LAST-MODIFIED:20241125T165000Z
UID:1225-1691856000-1691870400@soberafe.com
SUMMARY:Skate For A Cause @ Roosevelt Park (Longmont - CO)
DESCRIPTION:
URL:https://soberafe.com/event/skate-for-a-cause-roosevelt-park-longmont-co/
LOCATION:Roosevelt Park\, 728 8th Avenue\, Longmont\, Colorado\, 80501\, United States
CATEGORIES:Charity Event/Fundraisers
ATTACH;FMTTYPE=image/jpeg:https://soberafe.com/wp-content/uploads/2024/11/23-08-12-Skate-For-A-Cause-@-Roosevelt-Park-Longmont-CO-Large-copy-Medium-MbMIlB.tmp_.jpg
END:VEVENT
BEGIN:VEVENT
DTSTART;TZID=UTC:20230809T160000
DTEND;TZID=UTC:20230809T200000
DTSTAMP:20260420T064104
CREATED:20241125T164959Z
LAST-MODIFIED:20241125T164959Z
UID:1224-1691596800-1691611200@soberafe.com
SUMMARY:Bessmemer Wellness Fair @ Ray Aguilera Park (Pueblo - CO)
DESCRIPTION:
URL:https://soberafe.com/event/bessmemer-wellness-fair-ray-aguilera-park-pueblo-co/
LOCATION:Ray Aguilera Park\, 720 West Northern Avenue\, Pueblo\, Colorado\, 81004\, United States
CATEGORIES:Community Celebrations
ATTACH;FMTTYPE=image/jpeg:https://soberafe.com/wp-content/uploads/2024/11/23-08-09-Bessmemer-Wellness-Fair-@-Ray-Aguilera-Park-Pueblo-CO-Large-copy-Medium-pbjA8W.tmp_.jpg
END:VEVENT
BEGIN:VEVENT
DTSTART;TZID=UTC:20230729T160000
DTEND;TZID=UTC:20230729T200000
DTSTAMP:20260420T064104
CREATED:20241125T164950Z
LAST-MODIFIED:20241125T164950Z
UID:1220-1690646400-1690660800@soberafe.com
SUMMARY:Overdose Prevention Memorial @ El Pueblo History Museum (Pueblo - CO)
DESCRIPTION:
URL:https://soberafe.com/event/overdose-prevention-memorial-el-pueblo-history-museum-pueblo-co/
LOCATION:El Pueblo History Museum\, 114 South Grand Avenue\, Pueblo\, Colorado\, 81003\, United States
CATEGORIES:Charity Event/Fundraisers
ATTACH;FMTTYPE=image/jpeg:https://soberafe.com/wp-content/uploads/2024/11/23-07-29-Overdose-Prevention-Memorial-@-El-Pueblo-History-Museum-Pueblo-CO-Large-copy-Medium-cXKoDw.tmp_.jpg
END:VEVENT
BEGIN:VEVENT
DTSTART;TZID=UTC:20230721T160000
DTEND;TZID=UTC:20230722T200000
DTSTAMP:20260420T064104
CREATED:20241125T164948Z
LAST-MODIFIED:20241125T164948Z
UID:1218-1689955200-1690056000@soberafe.com
SUMMARY:Global Dance Festival 2023 @ Empower Field at Mile High (Denver - CO)
DESCRIPTION:
URL:https://soberafe.com/event/global-dance-festival-2023-empower-field-at-mile-high-denver-co/
LOCATION:Empower Field at Mile High\, 1801 Mile High Stadium Circle\, Denver\, Colorado\, 80204\, United States
CATEGORIES:Music/Arts Festivals
ATTACH;FMTTYPE=image/jpeg:https://soberafe.com/wp-content/uploads/2024/11/23-07-21-Global-Dance-Festival-2023-@-Empower-Field-at-Mile-High-Denver-CO-Large-copy-Medium-MCK8oE.tmp_.jpg
END:VEVENT
BEGIN:VEVENT
DTSTART;TZID=UTC:20230713T160000
DTEND;TZID=UTC:20230713T200000
DTSTAMP:20260420T064104
CREATED:20241125T164947Z
LAST-MODIFIED:20241125T164947Z
UID:1216-1689264000-1689278400@soberafe.com
SUMMARY:DMORG Biannual Meeting @ Montrose Regional Health (Montrose - CO)
DESCRIPTION:
URL:https://soberafe.com/event/dmorg-biannual-meeting-montrose-regional-health-montrose-co/
LOCATION:Montrose Regional Health\, 902 South 4th Street\, Montrose\, Colorado\, 81401\, United States
CATEGORIES:Conferences/Industry Meetings
ATTACH;FMTTYPE=image/jpeg:https://soberafe.com/wp-content/uploads/2024/11/23-07-13-DMORG-Biannual-Meeting-@-Montrose-Regional-Health-Montrose-CO-Large-copy-Medium-9eIquU.tmp_.jpg
END:VEVENT
BEGIN:VEVENT
DTSTART;TZID=UTC:20230703T160000
DTEND;TZID=UTC:20230703T200000
DTSTAMP:20260420T064104
CREATED:20241125T164945Z
LAST-MODIFIED:20241125T164945Z
UID:1215-1688400000-1688414400@soberafe.com
SUMMARY:Dead & Co @ Folsom Field (Boulder - CO)
DESCRIPTION:
URL:https://soberafe.com/event/dead-co-folsom-field-boulder-co-4/
LOCATION:Folsom Field\, 2095 Colorado Avenue\, Boulder\, Colorado\, 80309\, United States
CATEGORIES:Concerts
ATTACH;FMTTYPE=image/jpeg:https://soberafe.com/wp-content/uploads/2024/11/23-07-03-Dead-Co-@-Folsom-Field-Boulder-CO-Large-copy-Medium-SNjdJ0.tmp_.jpg
END:VEVENT
BEGIN:VEVENT
DTSTART;TZID=UTC:20230630T160000
DTEND;TZID=UTC:20230630T200000
DTSTAMP:20260420T064104
CREATED:20241125T164944Z
LAST-MODIFIED:20241125T164944Z
UID:1214-1688140800-1688155200@soberafe.com
SUMMARY:Longmont Pride Festival @ Roosevelt Park (Longmont - CO)
DESCRIPTION:
URL:https://soberafe.com/event/longmont-pride-festival-roosevelt-park-longmont-co/
LOCATION:Roosevelt Park\, 728 8th Avenue\, Longmont\, Colorado\, 80501\, United States
CATEGORIES:Community Celebrations
ATTACH;FMTTYPE=image/jpeg:https://soberafe.com/wp-content/uploads/2024/11/23-06-30-Longmont-Pride-Festival-@-Roosevelt-Park-Longmont-CO-Large-copy-Medium-W5e90U.tmp_.jpg
END:VEVENT
BEGIN:VEVENT
DTSTART;TZID=UTC:20230628T160000
DTEND;TZID=UTC:20230628T200000
DTSTAMP:20260420T064104
CREATED:20241125T164935Z
LAST-MODIFIED:20241125T164935Z
UID:1210-1687968000-1687982400@soberafe.com
SUMMARY:Milwaukee Brewers vs. New York Mets @ Citi Field (Queens - NY)
DESCRIPTION:
URL:https://soberafe.com/event/milwaukee-brewers-vs-new-york-mets-citi-field-queens-ny/
LOCATION:Citi Field\, 41 Seaver Way\, New York\, New York\, 11368\, United States
CATEGORIES:Sports (Pro)
ATTACH;FMTTYPE=image/jpeg:https://soberafe.com/wp-content/uploads/2024/11/23-06-28-Milwaukee-Brewers-vs.-New-York-Mets-@-Citi-Field-Queens-NY-Large-copy-Medium-FlV0Lh.tmp_.jpg
END:VEVENT
BEGIN:VEVENT
DTSTART;TZID=UTC:20230624T160000
DTEND;TZID=UTC:20230624T200000
DTSTAMP:20260420T064104
CREATED:20241125T164933Z
LAST-MODIFIED:20241125T164933Z
UID:1208-1687622400-1687636800@soberafe.com
SUMMARY:S.AF.E's 3rd Annual Recovery Appreciation Day Game with The Colorado Rockies @ Coors Field (Denver - CO)
DESCRIPTION:
URL:https://soberafe.com/event/s-af-es-3rd-annual-recovery-appreciation-day-game-with-the-colorado-rockies-coors-field-denver-co/
LOCATION:Coors Field\, 2195 Blake Street\, Denver\, Colorado\, 80205\, United States
CATEGORIES:Sports (Pro)
ATTACH;FMTTYPE=image/jpeg:https://soberafe.com/wp-content/uploads/2024/11/23-06-24-S.AF_.Es-3rd-Annual-Recovery-Appreciation-Day-Game-with-The-Colorado-Rockies-@-Coors-Field-Denver-CO-Large-copy-Medium-mpr2SM.tmp_.jpg
END:VEVENT
BEGIN:VEVENT
DTSTART;TZID=UTC:20230620T160000
DTEND;TZID=UTC:20230620T200000
DTSTAMP:20260420T064104
CREATED:20241125T164932Z
LAST-MODIFIED:20241125T164932Z
UID:1206-1687276800-1687291200@soberafe.com
SUMMARY:The Anonymous Sister @ Sie FilmCenter (Denver - CO)
DESCRIPTION:
URL:https://soberafe.com/event/the-anonymous-sister-sie-filmcenter-denver-co/
LOCATION:Sie FilmCenter\, 2510 East Colfax Avenue\, Denver\, Colorado\, 80206\, United States
CATEGORIES:Movies/Watch Parties
ATTACH;FMTTYPE=image/jpeg:https://soberafe.com/wp-content/uploads/2024/11/23-06-20-The-Anonymous-Sister-@-Sie-FilmCenter-Denver-CO-Large-copy-Medium-YRdyPc.tmp_.jpg
END:VEVENT
BEGIN:VEVENT
DTSTART;TZID=UTC:20230618T160000
DTEND;TZID=UTC:20230618T200000
DTSTAMP:20260420T064104
CREATED:20241125T164930Z
LAST-MODIFIED:20241125T164930Z
UID:1205-1687104000-1687118400@soberafe.com
SUMMARY:Community Wellness Teen Kickback @ El Pueblo History Museum (Pueblo - CO)
DESCRIPTION:
URL:https://soberafe.com/event/community-wellness-teen-kickback-el-pueblo-history-museum-pueblo-co/
LOCATION:El Pueblo History Museum\, 114 South Grand Avenue\, Pueblo\, Colorado\, 81003\, United States
CATEGORIES:Community Celebrations
ATTACH;FMTTYPE=image/jpeg:https://soberafe.com/wp-content/uploads/2024/11/23-06-18-Community-Wellness-Teen-Kickback-@-El-Pueblo-History-Museum-Pueblo-CO-Large-copy-Medium-jPo0Fg.tmp_.jpg
END:VEVENT
BEGIN:VEVENT
DTSTART;TZID=UTC:20230610T160000
DTEND;TZID=UTC:20230610T200000
DTSTAMP:20260420T064104
CREATED:20241125T164929Z
LAST-MODIFIED:20241125T164929Z
UID:1204-1686412800-1686427200@soberafe.com
SUMMARY:Taste of Fort Collins @ No Venue Picked
DESCRIPTION:
URL:https://soberafe.com/event/taste-of-fort-collins-no-venue-picked/
LOCATION:Colorado
CATEGORIES:Community Celebrations
ATTACH;FMTTYPE=image/jpeg:https://soberafe.com/wp-content/uploads/2024/11/23-06-10-Taste-of-Fort-Collins-@-No-Venue-Picked-Large-copy-Medium-sfxoeQ.tmp_.jpg
END:VEVENT
BEGIN:VEVENT
DTSTART;TZID=UTC:20230609T160000
DTEND;TZID=UTC:20230609T200000
DTSTAMP:20260420T064104
CREATED:20241125T164920Z
LAST-MODIFIED:20241125T164920Z
UID:1200-1686326400-1686340800@soberafe.com
SUMMARY:NBA Finals Watch Party @ The Phoenix (Denver - CO)
DESCRIPTION:
URL:https://soberafe.com/event/nba-finals-watch-party-the-phoenix-denver-co/
LOCATION:The Phoenix\, 2239 Champa Street\, Denver\, Colorado\, 80205\, United States
CATEGORIES:Movies/Watch Parties
ATTACH;FMTTYPE=image/jpeg:https://soberafe.com/wp-content/uploads/2024/11/23-06-09-NBA-Finals-Watch-Party-@-The-Phoenix-Denver-CO-Large-copy-Medium-sxc5kq.tmp_.jpg
END:VEVENT
BEGIN:VEVENT
DTSTART;TZID=UTC:20230604T160000
DTEND;TZID=UTC:20230604T200000
DTSTAMP:20260420T064104
CREATED:20241125T164919Z
LAST-MODIFIED:20241125T164919Z
UID:1198-1685894400-1685908800@soberafe.com
SUMMARY:Joe Russo's Almost Dead @ Red Rocks Park and Amphitheatre (Morrison - CO)
DESCRIPTION:
URL:https://soberafe.com/event/joe-russos-almost-dead-red-rocks-park-and-amphitheatre-morrison-co-2/
LOCATION:Red Rocks Park and Amphitheatre\, 18300 West Alameda Parkway\, Golden\, Colorado\, 80465\, United States
CATEGORIES:Concerts
ATTACH;FMTTYPE=image/jpeg:https://soberafe.com/wp-content/uploads/2024/11/23-06-04-Joe-Russos-Almost-Dead-@-Red-Rocks-Park-and-Amphitheatre-Morrison-CO-Large-copy-Medium-VZY5Yw.tmp_.jpg
END:VEVENT
BEGIN:VEVENT
DTSTART;TZID=UTC:20230513T160000
DTEND;TZID=UTC:20230513T200000
DTSTAMP:20260420T064104
CREATED:20241125T164917Z
LAST-MODIFIED:20241125T164917Z
UID:1196-1683993600-1684008000@soberafe.com
SUMMARY:Mental Wellness Block Party: A NAMIWalks Pueblo Event @ El Pueblo History Museum (Pueblo - CO)
DESCRIPTION:
URL:https://soberafe.com/event/mental-wellness-block-party-a-namiwalks-pueblo-event-el-pueblo-history-museum-pueblo-co/
LOCATION:El Pueblo History Museum\, 114 South Grand Avenue\, Pueblo\, Colorado\, 81003\, United States
CATEGORIES:Community Celebrations
ATTACH;FMTTYPE=image/jpeg:https://soberafe.com/wp-content/uploads/2024/11/23-05-13-Mental-Wellness-Block-Party-A-NAMIWalks-Pueblo-Event-@-El-Pueblo-History-Museum-Pueblo-CO-Large-copy-Medium-4WM68M.tmp_.jpg
END:VEVENT
BEGIN:VEVENT
DTSTART;TZID=UTC:20230506T160000
DTEND;TZID=UTC:20230507T200000
DTSTAMP:20260420T064104
CREATED:20241125T164916Z
LAST-MODIFIED:20241125T164916Z
UID:1195-1683388800-1683489600@soberafe.com
SUMMARY:Ganja White Night @ Red Rocks Park and Amphitheatre (Morrison - CO)
DESCRIPTION:
URL:https://soberafe.com/event/ganja-white-night-red-rocks-park-and-amphitheatre-morrison-co/
LOCATION:Red Rocks Park and Amphitheatre\, 18300 West Alameda Parkway\, Golden\, Colorado\, 80465\, United States
CATEGORIES:Concerts
ATTACH;FMTTYPE=image/jpeg:https://soberafe.com/wp-content/uploads/2024/11/23-05-06-Ganja-White-Night-@-Red-Rocks-Park-and-Amphitheatre-Morrison-CO-Large-copy-Medium-9w2DSI.tmp_.jpg
END:VEVENT
BEGIN:VEVENT
DTSTART;TZID=UTC:20230429T160000
DTEND;TZID=UTC:20230429T200000
DTSTAMP:20260420T064104
CREATED:20241125T164914Z
LAST-MODIFIED:20241125T164914Z
UID:1194-1682784000-1682798400@soberafe.com
SUMMARY:Tipping The Scale @ Sturm Hall @ University of Denver (Denver - CO)
DESCRIPTION:
URL:https://soberafe.com/event/tipping-the-scale-sturm-hall-university-of-denver-denver-co/
LOCATION:Sturm Hall @ University of Denver\, 2000 East Asbury Avenue\, Denver\, Colorado\, 80210\, United States
CATEGORIES:Trainings/Workshops
ATTACH;FMTTYPE=image/jpeg:https://soberafe.com/wp-content/uploads/2024/11/23-04-29-Tipping-The-Scale-@-Sturm-Hall-@-University-of-Denver-Denver-CO-Large-copy-Medium-Jogwer.tmp_.jpg
END:VEVENT
BEGIN:VEVENT
DTSTART;TZID=UTC:20230422T160000
DTEND;TZID=UTC:20230422T200000
DTSTAMP:20260420T064104
CREATED:20241125T164904Z
LAST-MODIFIED:20241125T164904Z
UID:1190-1682179200-1682193600@soberafe.com
SUMMARY:Colorado Buffs Black & Gold Day @ Ball Arena (Denver - CO)
DESCRIPTION:
URL:https://soberafe.com/event/colorado-buffs-black-gold-day-ball-arena-denver-co/
LOCATION:Ball Arena\, 1000 Chopper Circle\, Denver\, Colorado\, 80204\, United States
CATEGORIES:Sports (College)
ATTACH;FMTTYPE=image/jpeg:https://soberafe.com/wp-content/uploads/2024/11/23-04-22-Colorado-Buffs-Black-Gold-Day-@-Ball-Arena-Denver-CO-Large-copy-Medium-Ld6yCz.tmp_.jpg
END:VEVENT
BEGIN:VEVENT
DTSTART;TZID=UTC:20230412T160000
DTEND;TZID=UTC:20230412T200000
DTSTAMP:20260420T064104
CREATED:20241125T164902Z
LAST-MODIFIED:20241125T164902Z
UID:1188-1681315200-1681329600@soberafe.com
SUMMARY:Mental Health Appreciation Day Event with CMU Psychology Club @ University Center Ballroom at Colorado Mesa University (Grand Junction - CO)
DESCRIPTION:
URL:https://soberafe.com/event/mental-health-appreciation-day-event-with-cmu-psychology-club-university-center-ballroom-at-colorado-mesa-university-grand-junction-co/
LOCATION:University Center Ballroom at Colorado Mesa University\, 1100 North Ave\, Grand Junction\, Colorado\, 81501\, United States
CATEGORIES:Community Celebrations
ATTACH;FMTTYPE=image/jpeg:https://soberafe.com/wp-content/uploads/2024/11/23-04-12-Mental-Health-Appreciation-Day-Event-with-CMU-Psychology-Club-@-University-Center-Ballroom-at-Colorado-Mesa-University-Grand-Junction-CO-Large-copy-Medium-SMTwtu.tmp_.jpg
END:VEVENT
BEGIN:VEVENT
DTSTART;TZID=UTC:20230325T160000
DTEND;TZID=UTC:20230325T200000
DTSTAMP:20260420T064104
CREATED:20241125T164901Z
LAST-MODIFIED:20241125T164901Z
UID:1186-1679760000-1679774400@soberafe.com
SUMMARY:Milwaukee Bucks vs. Denver Nuggets @ Ball Arena (Denver - CO)
DESCRIPTION:
URL:https://soberafe.com/event/milwaukee-bucks-vs-denver-nuggets-ball-arena-denver-co/
LOCATION:Ball Arena\, 1000 Chopper Circle\, Denver\, Colorado\, 80204\, United States
CATEGORIES:Sports (Pro)
ATTACH;FMTTYPE=image/jpeg:https://soberafe.com/wp-content/uploads/2024/11/23-03-25-Milwaukee-Bucks-vs.-Denver-Nuggets-@-Ball-Arena-Denver-CO-Large-copy-Medium-ifMoLU.tmp_.jpg
END:VEVENT
BEGIN:VEVENT
DTSTART;TZID=UTC:20230322T160000
DTEND;TZID=UTC:20230322T200000
DTSTAMP:20260420T064104
CREATED:20241125T164900Z
LAST-MODIFIED:20241125T164900Z
UID:1185-1679500800-1679515200@soberafe.com
SUMMARY:San Jose Barracuda vs. Colorado Eagles @ Blue FCU Arena (Loveland - CO)
DESCRIPTION:
URL:https://soberafe.com/event/san-jose-barracuda-vs-colorado-eagles-blue-fcu-arena-loveland-co/
LOCATION:Blue FCU Arena\, 5290 Arena Circle\, Loveland\, Colorado\, 80538\, United States
CATEGORIES:Sports (Pro)
ATTACH;FMTTYPE=image/jpeg:https://soberafe.com/wp-content/uploads/2024/11/23-03-22-San-Jose-Barracuda-vs.-Colorado-Eagles-@-Blue-FCU-Arena-Loveland-CO-Large-copy-Medium-yf8Tey.tmp_.jpg
END:VEVENT
BEGIN:VEVENT
DTSTART;TZID=UTC:20230311T170000
DTEND;TZID=UTC:20230311T220000
DTSTAMP:20260420T064104
CREATED:20241125T164858Z
LAST-MODIFIED:20241125T164858Z
UID:1184-1678554000-1678572000@soberafe.com
SUMMARY:SGA Mardi Gras @ Massari Arena (Pueblo - CO)
DESCRIPTION:
URL:https://soberafe.com/event/sga-mardi-gras-massari-arena-pueblo-co/
LOCATION:Massari Arena\, 2200 Bonforte Blvd\, Pueblo\, Colorado\, 81001\, United States
CATEGORIES:Community Celebrations
ATTACH;FMTTYPE=image/jpeg:https://soberafe.com/wp-content/uploads/2024/11/23-03-11-SGA-Mardi-Gras-@-Massari-Arena-Pueblo-CO-Large-copy-Medium-euAluS.tmp_.jpg
END:VEVENT
BEGIN:VEVENT
DTSTART;TZID=UTC:20230303T170000
DTEND;TZID=UTC:20230303T220000
DTSTAMP:20260420T064104
CREATED:20241125T164848Z
LAST-MODIFIED:20241125T164848Z
UID:1180-1677862800-1677880800@soberafe.com
SUMMARY:Denver Pioneers vs. Colorado College Tigers @ Magness Arena (Denver - CO)
DESCRIPTION:
URL:https://soberafe.com/event/denver-pioneers-vs-colorado-college-tigers-magness-arena-denver-co-2/
LOCATION:Magness Arena\, 2250 East Jewell Avenue\, Denver\, Colorado\, 80210\, United States
CATEGORIES:Sports (College)
ATTACH;FMTTYPE=image/jpeg:https://soberafe.com/wp-content/uploads/2024/11/23-03-03-Denver-Pioneers-vs.-Colorado-College-Tigers-@-Magness-Arena-Denver-CO-Large-copy-Medium-gCeOb5.tmp_.jpg
END:VEVENT
BEGIN:VEVENT
DTSTART;TZID=UTC:20230223T170000
DTEND;TZID=UTC:20230226T220000
DTSTAMP:20260420T064104
CREATED:20241125T164847Z
LAST-MODIFIED:20241125T164847Z
UID:1178-1677171600-1677448800@soberafe.com
SUMMARY:UCLA Bruins vs. Colorado Buffaloes @ CU Events Center (Boulder - CO)
DESCRIPTION:
URL:https://soberafe.com/event/ucla-bruins-vs-colorado-buffaloes-cu-events-center-boulder-co/
LOCATION:CU Events Center\, 950 Regent Drive\, Boulder\, Colorado\, 80309\, United States
CATEGORIES:Sports (College)
ATTACH;FMTTYPE=image/jpeg:https://soberafe.com/wp-content/uploads/2024/11/23-02-23-UCLA-Bruins-vs.-Colorado-Buffaloes-@-CU-Events-Center-Boulder-CO-Large-copy-Medium-H05Ts4.tmp_.jpg
END:VEVENT
BEGIN:VEVENT
DTSTART;TZID=UTC:20230219T170000
DTEND;TZID=UTC:20230219T220000
DTSTAMP:20260420T064104
CREATED:20241125T164846Z
LAST-MODIFIED:20241125T164846Z
UID:1176-1676826000-1676844000@soberafe.com
SUMMARY:Minnesota-Duluth Bulldogs vs. Denver Pioneers @ Magness Arena (Denver - CO)
DESCRIPTION:
URL:https://soberafe.com/event/minnesota-duluth-bulldogs-vs-denver-pioneers-magness-arena-denver-co/
LOCATION:Magness Arena\, 2250 East Jewell Avenue\, Denver\, Colorado\, 80210\, United States
CATEGORIES:Sports (College)
ATTACH;FMTTYPE=image/jpeg:https://soberafe.com/wp-content/uploads/2024/11/23-02-19-Minnesota-Duluth-Bulldogs-vs.-Denver-Pioneers-@-Magness-Arena-Denver-CO-Large-copy-Medium-3wi0os.tmp_.jpg
END:VEVENT
BEGIN:VEVENT
DTSTART;TZID=UTC:20230218T170000
DTEND;TZID=UTC:20230218T220000
DTSTAMP:20260420T064104
CREATED:20241125T164845Z
LAST-MODIFIED:20241125T164845Z
UID:1175-1676739600-1676757600@soberafe.com
SUMMARY:Utah Outliers vs. Pueblo Bulls @ Pueblo Ice Arena (Pueblo - CO)
DESCRIPTION:
URL:https://soberafe.com/event/utah-outliers-vs-pueblo-bulls-pueblo-ice-arena-pueblo-co/
LOCATION:Pueblo Ice Arena\, 419 West 2nd Street\, Pueblo\, Colorado\, 81003\, United States
CATEGORIES:Sports (Pro)
ATTACH;FMTTYPE=image/jpeg:https://soberafe.com/wp-content/uploads/2024/11/23-02-18-Utah-Outliers-vs.-Pueblo-Bulls-@-Pueblo-Ice-Arena-Pueblo-CO-Large-copy-Medium-xbF2bT.tmp_.jpg
END:VEVENT
BEGIN:VEVENT
DTSTART;TZID=UTC:20230212T170000
DTEND;TZID=UTC:20230212T220000
DTSTAMP:20260420T064104
CREATED:20241125T164843Z
LAST-MODIFIED:20241125T164843Z
UID:1174-1676221200-1676239200@soberafe.com
SUMMARY:The 2023 S.AF.E Bowl @ Hammer CrossFit North (Scottsdale - AZ)
DESCRIPTION:
URL:https://soberafe.com/event/the-2023-s-af-e-bowl-hammer-crossfit-north-scottsdale-az/
LOCATION:Hammer CrossFit North\, 8425 North 90th Street\, Scottsdale\, Arizona\, 85258\, United States
CATEGORIES:Movies/Watch Parties
ATTACH;FMTTYPE=image/jpeg:https://soberafe.com/wp-content/uploads/2024/11/23-02-12-The-2023-S.AF_.E-Bowl-@-Hammer-CrossFit-North-Scottsdale-AZ-Large-copy-Medium-lj5ExA.tmp_.jpg
END:VEVENT
END:VCALENDAR