BEGIN:VCALENDAR
VERSION:2.0
PRODID:-//SOBER AF ENTERTAINMENT - ECPv6.15.20//NONSGML v1.0//EN
CALSCALE:GREGORIAN
METHOD:PUBLISH
X-WR-CALNAME:SOBER AF ENTERTAINMENT
X-ORIGINAL-URL:https://soberafe.com
X-WR-CALDESC:Events for SOBER AF ENTERTAINMENT
REFRESH-INTERVAL;VALUE=DURATION:PT1H
X-Robots-Tag:noindex
X-PUBLISHED-TTL:PT1H
BEGIN:VTIMEZONE
TZID:UTC
BEGIN:STANDARD
TZOFFSETFROM:+0000
TZOFFSETTO:+0000
TZNAME:UTC
DTSTART:20220101T000000
END:STANDARD
END:VTIMEZONE
BEGIN:VEVENT
DTSTART;TZID=UTC:20231230T170000
DTEND;TZID=UTC:20231231T220000
DTSTAMP:20260419T213710
CREATED:20241125T165113Z
LAST-MODIFIED:20241125T165113Z
UID:1267-1703955600-1704060000@soberafe.com
SUMMARY:Decadence Music Festival 2023 @ Colorado Convention Center (Denver - CO)
DESCRIPTION:
URL:https://soberafe.com/event/decadence-music-festival-2023-colorado-convention-center-denver-co/
LOCATION:Colorado Convention Center\, 701 14th Street\, Denver\, Colorado\, 80203\, United States
CATEGORIES:Music/Arts Festivals
ATTACH;FMTTYPE=image/png:https://soberafe.com/wp-content/uploads/2024/11/SAFE-LOGO-SINGLE-COLOR-KDTAe4.tmp_.png
END:VEVENT
BEGIN:VEVENT
DTSTART;TZID=UTC:20231230T170000
DTEND;TZID=UTC:20231230T220000
DTSTAMP:20260419T213710
CREATED:20241125T165115Z
LAST-MODIFIED:20241125T165115Z
UID:1268-1703955600-1703973600@soberafe.com
SUMMARY:Vancouver Warriors vs. Colorado Mammoth @ Ball Arena (Denver - CO)
DESCRIPTION:
URL:https://soberafe.com/event/vancouver-warriors-vs-colorado-mammoth-ball-arena-denver-co/
LOCATION:Ball Arena\, 1000 Chopper Circle\, Denver\, Colorado\, 80204\, United States
CATEGORIES:Sports (Pro)
ATTACH;FMTTYPE=image/jpeg:https://soberafe.com/wp-content/uploads/2024/11/23-12-30-Vancouver-Warriors-vs.-Colorado-Mammoth-@-Ball-Arena-Denver-CO-Large-copy-Medium-SfXJj2.tmp_.jpg
END:VEVENT
BEGIN:VEVENT
DTSTART;TZID=UTC:20231216T170000
DTEND;TZID=UTC:20231216T220000
DTSTAMP:20260419T213710
CREATED:20241125T165104Z
LAST-MODIFIED:20241125T165104Z
UID:1264-1702746000-1702764000@soberafe.com
SUMMARY:Detroit Lions vs. Denver Broncos Watch Party @ The Phoenix (Denver - CO)
DESCRIPTION:
URL:https://soberafe.com/event/detroit-lions-vs-denver-broncos-watch-party-the-phoenix-denver-co/
LOCATION:The Phoenix\, 2239 Champa Street\, Denver\, Colorado\, 80205\, United States
CATEGORIES:Sports (Pro)
ATTACH;FMTTYPE=image/png:https://soberafe.com/wp-content/uploads/2024/11/SAFE-LOGO-SINGLE-COLOR-KDTAe4.tmp_.png
END:VEVENT
BEGIN:VEVENT
DTSTART;TZID=UTC:20231205T170000
DTEND;TZID=UTC:20231205T220000
DTSTAMP:20260419T213710
CREATED:20241125T165102Z
LAST-MODIFIED:20241125T165102Z
UID:1263-1701795600-1701813600@soberafe.com
SUMMARY:Anaheim Ducks vs. Colorado Avalanche @ Ball Arena (Denver - CO)
DESCRIPTION:
URL:https://soberafe.com/event/anaheim-ducks-vs-colorado-avalanche-ball-arena-denver-co/
LOCATION:Ball Arena\, 1000 Chopper Circle\, Denver\, Colorado\, 80204\, United States
CATEGORIES:Sports (Pro)
ATTACH;FMTTYPE=image/jpeg:https://soberafe.com/wp-content/uploads/2024/11/23-12-05-Anaheim-Ducks-vs.-Colorado-Avalanche-@-Ball-Arena-Denver-CO-Large-copy-Medium-FLXbqa.tmp_.jpg
END:VEVENT
BEGIN:VEVENT
DTSTART;TZID=UTC:20231125T170000
DTEND;TZID=UTC:20231125T220000
DTSTAMP:20260419T213710
CREATED:20241125T165101Z
LAST-MODIFIED:20241125T165101Z
UID:1261-1700931600-1700949600@soberafe.com
SUMMARY:Texas A&M Aggies vs. LSU Tigers @ Tiger Stadium (Baton Rouge - LA)
DESCRIPTION:
URL:https://soberafe.com/event/texas-am-aggies-vs-lsu-tigers-tiger-stadium-baton-rouge-la/
LOCATION:Tiger Stadium\, 1 North Stadium Road\, Baton Rouge\, Louisiana\, 70803\, United States
CATEGORIES:Sports (College)
ATTACH;FMTTYPE=image/jpeg:https://soberafe.com/wp-content/uploads/2024/11/23-11-25-Texas-AM-Aggies-vs.-LSU-Tigers-@-Tiger-Stadium-Baton-Rouge-LA-Large-copy-Medium-QEtR81.tmp_.jpg
END:VEVENT
BEGIN:VEVENT
DTSTART;TZID=UTC:20231118T170000
DTEND;TZID=UTC:20231118T220000
DTSTAMP:20260419T213710
CREATED:20241125T165100Z
LAST-MODIFIED:20241125T165100Z
UID:1260-1700326800-1700344800@soberafe.com
SUMMARY:Georgia Bulldogs vs. Tennessee Volunteers @ Neyland Stadium (Knoxville - TN)
DESCRIPTION:
URL:https://soberafe.com/event/georgia-bulldogs-vs-tennessee-volunteers-neyland-stadium-knoxville-tn/
LOCATION:Neyland Stadium\, 1300 Phillip Fulmer Way\, Knoxville\, Tennessee\, 37996\, United States
CATEGORIES:Sports (College)
ATTACH;FMTTYPE=image/png:https://soberafe.com/wp-content/uploads/2024/11/SAFE-LOGO-SINGLE-COLOR-KDTAe4.tmp_.png
END:VEVENT
BEGIN:VEVENT
DTSTART;TZID=UTC:20231104T160000
DTEND;TZID=UTC:20231104T200000
DTSTAMP:20260419T213710
CREATED:20241125T165059Z
LAST-MODIFIED:20241125T165059Z
UID:1259-1699113600-1699128000@soberafe.com
SUMMARY:LSU Tigers vs. Alabama Crimson Tide @ Bryant-Denny Stadium (Tuscaloosa - AL)
DESCRIPTION:
URL:https://soberafe.com/event/lsu-tigers-vs-alabama-crimson-tide-bryant-denny-stadium-tuscaloosa-al/
LOCATION:Bryant-Denny Stadium\, 901 8th Street\, Tuscaloosa\, Alabama\, 35401\, United States
CATEGORIES:Sports (College)
ATTACH;FMTTYPE=image/jpeg:https://soberafe.com/wp-content/uploads/2024/11/23-11-04-LSU-Tigers-vs.-Alabama-Crimson-Tide-@-Bryant-Denny-Stadium-Tuscaloosa-AL-Large-copy-Medium-itOk6l.tmp_.jpg
END:VEVENT
BEGIN:VEVENT
DTSTART;TZID=UTC:20231027T160000
DTEND;TZID=UTC:20231027T200000
DTSTAMP:20260419T213710
CREATED:20241125T165049Z
LAST-MODIFIED:20241125T165049Z
UID:1256-1698422400-1698436800@soberafe.com
SUMMARY:Augustana Vikings vs. Denver Pioneers @ Magness Arena (Denver - CO)
DESCRIPTION:
URL:https://soberafe.com/event/augustana-vikings-vs-denver-pioneers-magness-arena-denver-co/
LOCATION:Magness Arena\, 2250 East Jewell Avenue\, Denver\, Colorado\, 80210\, United States
CATEGORIES:Sports (College)
ATTACH;FMTTYPE=image/png:https://soberafe.com/wp-content/uploads/2024/11/SAFE-LOGO-SINGLE-COLOR-KDTAe4.tmp_.png
END:VEVENT
BEGIN:VEVENT
DTSTART;TZID=UTC:20231015T160000
DTEND;TZID=UTC:20231015T200000
DTSTAMP:20260419T213710
CREATED:20241125T165047Z
LAST-MODIFIED:20241125T165047Z
UID:1254-1697385600-1697400000@soberafe.com
SUMMARY:Carolina Panthers vs. Miami Dolphins @ Hard Rock Stadium (Miami Gardens - FL)
DESCRIPTION:
URL:https://soberafe.com/event/carolina-panthers-vs-miami-dolphins-hard-rock-stadium-miami-gardens-fl/
LOCATION:Hard Rock Stadium\, 347 Don Shula Dr\, Miami Gardens\, Florida\, 33056\, United States
CATEGORIES:Sports (Pro)
ATTACH;FMTTYPE=image/jpeg:https://soberafe.com/wp-content/uploads/2024/11/23-10-15-Carolina-Panthers-vs.-Miami-Dolphins-@-Hard-Rock-Stadium-Miami-Gardens-FL-Large-copy-Medium-6363r9.tmp_.jpg
END:VEVENT
BEGIN:VEVENT
DTSTART;TZID=UTC:20231014T160000
DTEND;TZID=UTC:20231014T200000
DTSTAMP:20260419T213710
CREATED:20241125T165046Z
LAST-MODIFIED:20241125T165046Z
UID:1252-1697299200-1697313600@soberafe.com
SUMMARY:Georgia Bulldogs vs. Vanderbilt Commodores @ FirstBank Stadium (Nashville - TN)
DESCRIPTION:
URL:https://soberafe.com/event/georgia-bulldogs-vs-vanderbilt-commodores-firstbank-stadium-nashville-tn-2/
LOCATION:FirstBank Stadium\, 210 Natchez Trace\, Nashville\, Tennessee\, 37212\, United States
CATEGORIES:Sports (College)
ATTACH;FMTTYPE=image/jpeg:https://soberafe.com/wp-content/uploads/2024/11/23-10-14-Georgia-Bulldogs-vs.-Vanderbilt-Commodores-@-FirstBank-Stadium-Nashville-TN-Large-copy-Medium-G64VES.tmp_.jpg
END:VEVENT
BEGIN:VEVENT
DTSTART;TZID=UTC:20231007T160000
DTEND;TZID=UTC:20231007T200000
DTSTAMP:20260419T213710
CREATED:20241125T165045Z
LAST-MODIFIED:20241125T165045Z
UID:1251-1696694400-1696708800@soberafe.com
SUMMARY:Alabama Crimson Tide vs. Texas A&M Aggies @ Kyle Field (College Station - TX)
DESCRIPTION:
URL:https://soberafe.com/event/alabama-crimson-tide-vs-texas-am-aggies-kyle-field-college-station-tx-2/
LOCATION:Kyle Field\, 1264 Texas a and M Univ\, College Station\, Texas\, 77843\, United States
CATEGORIES:Sports (College)
ATTACH;FMTTYPE=image/jpeg:https://soberafe.com/wp-content/uploads/2024/11/23-10-07-Alabama-Crimson-Tide-vs.-Texas-AM-Aggies-@-Kyle-Field-College-Station-TX-Large-copy-Medium-plgfYx.tmp_.jpg
END:VEVENT
BEGIN:VEVENT
DTSTART;TZID=UTC:20231007T160000
DTEND;TZID=UTC:20231007T200000
DTSTAMP:20260419T213710
CREATED:20241125T165044Z
LAST-MODIFIED:20241125T165044Z
UID:1250-1696694400-1696708800@soberafe.com
SUMMARY:Los Amantes Perfectos @ Paramount Theatre (Denver - CO)
DESCRIPTION:
URL:https://soberafe.com/event/los-amantes-perfectos-paramount-theatre-denver-co/
LOCATION:Paramount Theatre\, 1621 Glenarm Place\, Denver\, Colorado\, 80202\, United States
CATEGORIES:Community Celebrations
ATTACH;FMTTYPE=image/jpeg:https://soberafe.com/wp-content/uploads/2024/11/23-10-07-Los-Amantes-Perfectos-@-Paramount-Theatre-Denver-CO-Large-copy-Medium-vimJQx.tmp_.jpg
END:VEVENT
BEGIN:VEVENT
DTSTART;TZID=UTC:20231003T160000
DTEND;TZID=UTC:20231003T200000
DTSTAMP:20260419T213710
CREATED:20241125T165034Z
LAST-MODIFIED:20241125T165034Z
UID:1249-1696348800-1696363200@soberafe.com
SUMMARY:Macklemore @ The Mission Ballroom (Denver - CO)
DESCRIPTION:
URL:https://soberafe.com/event/macklemore-the-mission-ballroom-denver-co/
LOCATION:The Mission Ballroom\, 4242 Wynkoop Street\, Denver\, Colorado\, 80216\, United States
CATEGORIES:Concerts
ATTACH;FMTTYPE=image/png:https://soberafe.com/wp-content/uploads/2024/11/SAFE-LOGO-SINGLE-COLOR-KDTAe4.tmp_.png
END:VEVENT
BEGIN:VEVENT
DTSTART;TZID=UTC:20230930T160000
DTEND;TZID=UTC:20230930T200000
DTSTAMP:20260419T213710
CREATED:20241125T165033Z
LAST-MODIFIED:20241125T165033Z
UID:1248-1696089600-1696104000@soberafe.com
SUMMARY:Iliza @ Ball Arena (Denver - CO)
DESCRIPTION:
URL:https://soberafe.com/event/iliza-ball-arena-denver-co/
LOCATION:Ball Arena\, 1000 Chopper Circle\, Denver\, Colorado\, 80204\, United States
CATEGORIES:Concerts
ATTACH;FMTTYPE=image/png:https://soberafe.com/wp-content/uploads/2024/11/SAFE-LOGO-SINGLE-COLOR-KDTAe4.tmp_.png
END:VEVENT
BEGIN:VEVENT
DTSTART;TZID=UTC:20230923T160000
DTEND;TZID=UTC:20230923T200000
DTSTAMP:20260419T213710
CREATED:20241125T165031Z
LAST-MODIFIED:20241125T165031Z
UID:1246-1695484800-1695499200@soberafe.com
SUMMARY:Hoobajoob Music Festival @ Fiddler's Green Amphitheatre (Greenwood Village - CO)
DESCRIPTION:
URL:https://soberafe.com/event/hoobajoob-music-festival-fiddlers-green-amphitheatre-greenwood-village-co/
LOCATION:Fiddler’s Green Amphitheatre\, 6453 South Fiddlers Green Circle\, Greenwood Village\, Colorado\, 80111\, United States
CATEGORIES:Music/Arts Festivals
ATTACH;FMTTYPE=image/png:https://soberafe.com/wp-content/uploads/2024/11/SAFE-LOGO-SINGLE-COLOR-KDTAe4.tmp_.png
END:VEVENT
BEGIN:VEVENT
DTSTART;TZID=UTC:20230920T160000
DTEND;TZID=UTC:20230920T200000
DTSTAMP:20260419T213710
CREATED:20241125T165030Z
LAST-MODIFIED:20241125T165030Z
UID:1245-1695225600-1695240000@soberafe.com
SUMMARY:Seattle Sounders FC vs. Colorado Rapids @ Dick’s Sporting Goods Park (Commerce City - CO)
DESCRIPTION:
URL:https://soberafe.com/event/seattle-sounders-fc-vs-colorado-rapids-dicks-sporting-goods-park-commerce-city-co/
LOCATION:Dick’s Sporting Goods Park\, 6000 Victory Way\, Commerce City\, Colorado\, 80022\, United States
CATEGORIES:Sports (Pro)
ATTACH;FMTTYPE=image/png:https://soberafe.com/wp-content/uploads/2024/11/SAFE-LOGO-SINGLE-COLOR-KDTAe4.tmp_.png
END:VEVENT
BEGIN:VEVENT
DTSTART;TZID=UTC:20230919T160000
DTEND;TZID=UTC:20230919T200000
DTSTAMP:20260419T213710
CREATED:20241125T165029Z
LAST-MODIFIED:20241125T165029Z
UID:1244-1695139200-1695153600@soberafe.com
SUMMARY:Sober Night at the K @ Kauffman Stadium (Kansas City - MO)
DESCRIPTION:
URL:https://soberafe.com/event/sober-night-at-the-k-kauffman-stadium-kansas-city-mo/
LOCATION:Kauffman Stadium\, 1 Royal Way\, Kansas City\, Missouri\, 64129\, United States
CATEGORIES:Sports (Pro)
ATTACH;FMTTYPE=image/jpeg:https://soberafe.com/wp-content/uploads/2024/11/23-09-19-Sober-Night-at-the-K-@-Kauffman-Stadium-Kansas-City-MO-Large-copy-Medium-DVYyT2.tmp_.jpg
END:VEVENT
BEGIN:VEVENT
DTSTART;TZID=UTC:20230917T160000
DTEND;TZID=UTC:20230919T200000
DTSTAMP:20260419T213710
CREATED:20241125T165019Z
LAST-MODIFIED:20241125T165019Z
UID:1240-1694966400-1695153600@soberafe.com
SUMMARY:Imagine Music Festival 2023 @ Bouckaert Farm (Fairburn - GA)
DESCRIPTION:
URL:https://soberafe.com/event/imagine-music-festival-2023-bouckaert-farm-fairburn-ga/
LOCATION:Bouckaert Farm\, 9430 Browns Lake Road\, Chattahoochee Hills\, Georgia\, 30213\, United States
CATEGORIES:Music/Arts Festivals
ATTACH;FMTTYPE=image/jpeg:https://soberafe.com/wp-content/uploads/2024/11/23-09-17-Imagine-Music-Festival-2023-@-Bouckaert-Farm-Fairburn-GA-Large-copy-Medium-rR5cEW.tmp_.jpg
END:VEVENT
BEGIN:VEVENT
DTSTART;TZID=UTC:20230902T160000
DTEND;TZID=UTC:20230902T200000
DTSTAMP:20260419T213710
CREATED:20241125T165018Z
LAST-MODIFIED:20241125T165018Z
UID:1238-1693670400-1693684800@soberafe.com
SUMMARY:Washington State Cougars vs. Colorado State Rams @ Canvas Stadium (Fort Collins - CO)
DESCRIPTION:
URL:https://soberafe.com/event/washington-state-cougars-vs-colorado-state-rams-canvas-stadium-fort-collins-co/
LOCATION:Canvas Stadium\, 751 West Pitkin Street\, Fort Collins\, Colorado\, 80523\, United States
CATEGORIES:Sports (College)
ATTACH;FMTTYPE=image/jpeg:https://soberafe.com/wp-content/uploads/2024/11/23-09-02-Washington-State-Cougars-vs.-Colorado-State-Rams-@-Canvas-Stadium-Fort-Collins-CO-Large-copy-Medium-MtNt8a.tmp_.jpg
END:VEVENT
BEGIN:VEVENT
DTSTART;TZID=UTC:20230831T160000
DTEND;TZID=UTC:20230831T200000
DTSTAMP:20260419T213710
CREATED:20241125T165016Z
LAST-MODIFIED:20241125T165016Z
UID:1236-1693497600-1693512000@soberafe.com
SUMMARY:Florida Gators vs. Utah Utes @ Rice-Eccles Stadium (Salt Lake City - UT)
DESCRIPTION:
URL:https://soberafe.com/event/florida-gators-vs-utah-utes-rice-eccles-stadium-salt-lake-city-ut/
LOCATION:Rice-Eccles Stadium\, 475 S 1400 E\, Salt Lake City\, Utah\, 84112\, United States
CATEGORIES:Sports (College)
ATTACH;FMTTYPE=image/jpeg:https://soberafe.com/wp-content/uploads/2024/11/23-08-31-Florida-Gators-vs.-Utah-Utes-@-Rice-Eccles-Stadium-Salt-Lake-City-UT-Large-copy-Medium-BmJC4d.tmp_.jpg
END:VEVENT
BEGIN:VEVENT
DTSTART;TZID=UTC:20230831T160000
DTEND;TZID=UTC:20230831T200000
DTSTAMP:20260419T213710
CREATED:20241125T165015Z
LAST-MODIFIED:20241125T165015Z
UID:1235-1693497600-1693512000@soberafe.com
SUMMARY:International Overdose Awareness Day Mesa County @ Lincoln Park (Grand Junction - CO)
DESCRIPTION:
URL:https://soberafe.com/event/international-overdose-awareness-day-mesa-county-lincoln-park-grand-junction-co/
LOCATION:Lincoln Park\, 1717 Gunnison Avenue\, Grand Junction\, Colorado\, 81501\, United States
CATEGORIES:Community Celebrations
ATTACH;FMTTYPE=image/jpeg:https://soberafe.com/wp-content/uploads/2024/11/23-08-31-International-Overdose-Awareness-Day-Mesa-County-@-Lincoln-Park-Grand-Junction-CO-Large-copy-Medium-fd6LMX.tmp_.jpg
END:VEVENT
BEGIN:VEVENT
DTSTART;TZID=UTC:20230821T160000
DTEND;TZID=UTC:20230821T200000
DTSTAMP:20260419T213710
CREATED:20241125T165014Z
LAST-MODIFIED:20241125T165014Z
UID:1234-1692633600-1692648000@soberafe.com
SUMMARY:Northern Colorado Owlz vs. Grand Junction Jackalopes @ Suplizio Field (Grand Junction - CO)
DESCRIPTION:
URL:https://soberafe.com/event/northern-colorado-owlz-vs-grand-junction-jackalopes-suplizio-field-grand-junction-co/
LOCATION:Suplizio Field\, 1345 North Avenue\, Grand Junction\, Colorado\, 81501\, United States
CATEGORIES:Sports (Pro)
ATTACH;FMTTYPE=image/jpeg:https://soberafe.com/wp-content/uploads/2024/11/23-08-21-Northern-Colorado-Owlz-vs.-Grand-Junction-Jackalopes-@-Suplizio-Field-Grand-Junction-CO-Large-copy-Medium-ejCG5C.tmp_.jpg
END:VEVENT
BEGIN:VEVENT
DTSTART;TZID=UTC:20230819T160000
DTEND;TZID=UTC:20230819T200000
DTSTAMP:20260419T213710
CREATED:20241125T165005Z
LAST-MODIFIED:20241125T165005Z
UID:1230-1692460800-1692475200@soberafe.com
SUMMARY:Maverick Mania @ University Center Ballroom at Colorado Mesa University (Grand Junction - CO)
DESCRIPTION:
URL:https://soberafe.com/event/maverick-mania-university-center-ballroom-at-colorado-mesa-university-grand-junction-co/
LOCATION:University Center Ballroom at Colorado Mesa University\, 1100 North Ave\, Grand Junction\, Colorado\, 81501\, United States
CATEGORIES:Community Celebrations
ATTACH;FMTTYPE=image/jpeg:https://soberafe.com/wp-content/uploads/2024/11/23-08-19-Maverick-Mania-@-University-Center-Ballroom-at-Colorado-Mesa-University-Grand-Junction-CO-Large-copy-Medium-4qwYze.tmp_.jpg
END:VEVENT
BEGIN:VEVENT
DTSTART;TZID=UTC:20230813T160000
DTEND;TZID=UTC:20230813T200000
DTSTAMP:20260419T213710
CREATED:20241125T165003Z
LAST-MODIFIED:20241125T165003Z
UID:1228-1691942400-1691956800@soberafe.com
SUMMARY:Back To School @ Central Pueblo Center (Pueblo - CO)
DESCRIPTION:
URL:https://soberafe.com/event/back-to-school-central-pueblo-center-pueblo-co/
LOCATION:Central Pueblo Center\, 807 West 4th Street\, Pueblo\, Colorado\, 81003\, United States
CATEGORIES:Community Celebrations
ATTACH;FMTTYPE=image/jpeg:https://soberafe.com/wp-content/uploads/2024/11/23-08-13-Back-To-School-@-Central-Pueblo-Center-Pueblo-CO-Large-copy-Medium-WJlnUB.tmp_.jpg
END:VEVENT
BEGIN:VEVENT
DTSTART;TZID=UTC:20230812T160000
DTEND;TZID=UTC:20230812T200000
DTSTAMP:20260419T213710
CREATED:20241125T165002Z
LAST-MODIFIED:20241125T165002Z
UID:1226-1691856000-1691870400@soberafe.com
SUMMARY:Corndogs And Cornhole @ Rolland Moore Park (Fort Collins - CO)
DESCRIPTION:
URL:https://soberafe.com/event/corndogs-and-cornhole-rolland-moore-park-fort-collins-co/
LOCATION:Rolland Moore Park\, Rolland Moore Park Access Road\, Fort Collins\, Colorado\, 80526\, United States
CATEGORIES:Community Celebrations
ATTACH;FMTTYPE=image/jpeg:https://soberafe.com/wp-content/uploads/2024/11/23-08-12-Corndogs-And-Cornhole-@-Rolland-Moore-Park-Fort-Collins-CO-Large-copy-Medium-wvMUw5.tmp_.jpg
END:VEVENT
BEGIN:VEVENT
DTSTART;TZID=UTC:20230812T160000
DTEND;TZID=UTC:20230812T200000
DTSTAMP:20260419T213710
CREATED:20241125T165000Z
LAST-MODIFIED:20241125T165000Z
UID:1225-1691856000-1691870400@soberafe.com
SUMMARY:Skate For A Cause @ Roosevelt Park (Longmont - CO)
DESCRIPTION:
URL:https://soberafe.com/event/skate-for-a-cause-roosevelt-park-longmont-co/
LOCATION:Roosevelt Park\, 728 8th Avenue\, Longmont\, Colorado\, 80501\, United States
CATEGORIES:Charity Event/Fundraisers
ATTACH;FMTTYPE=image/jpeg:https://soberafe.com/wp-content/uploads/2024/11/23-08-12-Skate-For-A-Cause-@-Roosevelt-Park-Longmont-CO-Large-copy-Medium-MbMIlB.tmp_.jpg
END:VEVENT
BEGIN:VEVENT
DTSTART;TZID=UTC:20230809T160000
DTEND;TZID=UTC:20230809T200000
DTSTAMP:20260419T213710
CREATED:20241125T164959Z
LAST-MODIFIED:20241125T164959Z
UID:1224-1691596800-1691611200@soberafe.com
SUMMARY:Bessmemer Wellness Fair @ Ray Aguilera Park (Pueblo - CO)
DESCRIPTION:
URL:https://soberafe.com/event/bessmemer-wellness-fair-ray-aguilera-park-pueblo-co/
LOCATION:Ray Aguilera Park\, 720 West Northern Avenue\, Pueblo\, Colorado\, 81004\, United States
CATEGORIES:Community Celebrations
ATTACH;FMTTYPE=image/jpeg:https://soberafe.com/wp-content/uploads/2024/11/23-08-09-Bessmemer-Wellness-Fair-@-Ray-Aguilera-Park-Pueblo-CO-Large-copy-Medium-pbjA8W.tmp_.jpg
END:VEVENT
BEGIN:VEVENT
DTSTART;TZID=UTC:20230729T160000
DTEND;TZID=UTC:20230729T200000
DTSTAMP:20260419T213710
CREATED:20241125T164950Z
LAST-MODIFIED:20241125T164950Z
UID:1220-1690646400-1690660800@soberafe.com
SUMMARY:Overdose Prevention Memorial @ El Pueblo History Museum (Pueblo - CO)
DESCRIPTION:
URL:https://soberafe.com/event/overdose-prevention-memorial-el-pueblo-history-museum-pueblo-co/
LOCATION:El Pueblo History Museum\, 114 South Grand Avenue\, Pueblo\, Colorado\, 81003\, United States
CATEGORIES:Charity Event/Fundraisers
ATTACH;FMTTYPE=image/jpeg:https://soberafe.com/wp-content/uploads/2024/11/23-07-29-Overdose-Prevention-Memorial-@-El-Pueblo-History-Museum-Pueblo-CO-Large-copy-Medium-cXKoDw.tmp_.jpg
END:VEVENT
BEGIN:VEVENT
DTSTART;TZID=UTC:20230721T160000
DTEND;TZID=UTC:20230722T200000
DTSTAMP:20260419T213710
CREATED:20241125T164948Z
LAST-MODIFIED:20241125T164948Z
UID:1218-1689955200-1690056000@soberafe.com
SUMMARY:Global Dance Festival 2023 @ Empower Field at Mile High (Denver - CO)
DESCRIPTION:
URL:https://soberafe.com/event/global-dance-festival-2023-empower-field-at-mile-high-denver-co/
LOCATION:Empower Field at Mile High\, 1801 Mile High Stadium Circle\, Denver\, Colorado\, 80204\, United States
CATEGORIES:Music/Arts Festivals
ATTACH;FMTTYPE=image/jpeg:https://soberafe.com/wp-content/uploads/2024/11/23-07-21-Global-Dance-Festival-2023-@-Empower-Field-at-Mile-High-Denver-CO-Large-copy-Medium-MCK8oE.tmp_.jpg
END:VEVENT
BEGIN:VEVENT
DTSTART;TZID=UTC:20230713T160000
DTEND;TZID=UTC:20230713T200000
DTSTAMP:20260419T213710
CREATED:20241125T164947Z
LAST-MODIFIED:20241125T164947Z
UID:1216-1689264000-1689278400@soberafe.com
SUMMARY:DMORG Biannual Meeting @ Montrose Regional Health (Montrose - CO)
DESCRIPTION:
URL:https://soberafe.com/event/dmorg-biannual-meeting-montrose-regional-health-montrose-co/
LOCATION:Montrose Regional Health\, 902 South 4th Street\, Montrose\, Colorado\, 81401\, United States
CATEGORIES:Conferences/Industry Meetings
ATTACH;FMTTYPE=image/jpeg:https://soberafe.com/wp-content/uploads/2024/11/23-07-13-DMORG-Biannual-Meeting-@-Montrose-Regional-Health-Montrose-CO-Large-copy-Medium-9eIquU.tmp_.jpg
END:VEVENT
END:VCALENDAR