BEGIN:VCALENDAR
VERSION:2.0
PRODID:-//SOBER AF ENTERTAINMENT - ECPv6.15.20//NONSGML v1.0//EN
CALSCALE:GREGORIAN
METHOD:PUBLISH
X-WR-CALNAME:SOBER AF ENTERTAINMENT
X-ORIGINAL-URL:https://soberafe.com
X-WR-CALDESC:Events for SOBER AF ENTERTAINMENT
REFRESH-INTERVAL;VALUE=DURATION:PT1H
X-Robots-Tag:noindex
X-PUBLISHED-TTL:PT1H
BEGIN:VTIMEZONE
TZID:UTC
BEGIN:STANDARD
TZOFFSETFROM:+0000
TZOFFSETTO:+0000
TZNAME:UTC
DTSTART:20230101T000000
END:STANDARD
END:VTIMEZONE
BEGIN:VEVENT
DTSTART;TZID=UTC:20241214T173000
DTEND;TZID=UTC:20241214T210000
DTSTAMP:20260420T064222
CREATED:20241126T170612Z
LAST-MODIFIED:20241126T170612Z
UID:1437-1734197400-1734210000@soberafe.com
SUMMARY:Colorado College Tigers vs. Denver Pioneers @ Magness Arena (Denver - CO)
DESCRIPTION:Sober tailgate starting at 5:30pm MST!
URL:https://soberafe.com/event/colorado-college-tigers-vs-denver-pioneers-magness-arena-denver-co-6/
LOCATION:Magness Arena\, 2250 East Jewell Avenue\, Denver\, Colorado\, 80210\, United States
CATEGORIES:Sports (College)
ATTACH;FMTTYPE=image/jpeg:https://soberafe.com/wp-content/uploads/2024/11/2024-12-14-Sat-Colorado-College-Tigers-vs.-Denver-Pioneers.jpg
END:VEVENT
BEGIN:VEVENT
DTSTART;TZID=UTC:20241207T183000
DTEND;TZID=UTC:20241207T223000
DTSTAMP:20260420T064222
CREATED:20241126T165925Z
LAST-MODIFIED:20241205T180738Z
UID:1431-1733596200-1733610600@soberafe.com
SUMMARY:CU Buffaloes vs. CSU Rams Men's Basketball @ CU Events Center (Boulder - CO)
DESCRIPTION:Sober tailgate at Aim House: 888 13th St\, Boulder\, CO 80302 starting at 6:30pm with the game at 8pm!
URL:https://soberafe.com/event/cu-buffaloes-vs-csu-rams-mens-basketball-cu-events-center-boulder-co/
LOCATION:CU Events Center\, 950 Regent Drive\, Boulder\, Colorado\, 80309\, United States
CATEGORIES:Sports (College)
ATTACH;FMTTYPE=image/jpeg:https://soberafe.com/wp-content/uploads/2024/11/2024-12-07-CU-Buffaloes-vs.-CSU-Rams-Mens-Basketball-@-CU-Events-Center-Boulder-CO-1.jpg
END:VEVENT
BEGIN:VEVENT
DTSTART;TZID=UTC:20241129T200000
DTEND;TZID=UTC:20241129T220000
DTSTAMP:20260420T064222
CREATED:20241125T165232Z
LAST-MODIFIED:20241125T165232Z
UID:1303-1732910400-1732917600@soberafe.com
SUMMARY:Auburn Tigers vs. Alabama Crimson Tide @ Bryant-Denny Stadium (Tuscaloosa - AL)
DESCRIPTION:Sober Tailgate 2 hours before kickoff! \nGame starts TBA!
URL:https://soberafe.com/event/auburn-tigers-vs-alabama-crimson-tide-bryant-denny-stadium-tuscaloosa-al/
LOCATION:Bryant-Denny Stadium\, 901 8th Street\, Tuscaloosa\, Alabama\, 35401\, United States
CATEGORIES:Sports (College)
ATTACH;FMTTYPE=image/jpeg:https://soberafe.com/wp-content/uploads/2024/11/2024-11-29-Auburn-Tigers-vs.-Alabama-Crimson-Tide-@-Bryant-Denny-Stadium-Tuscaloosa-AL-Large-TyuM8m.tmp_.jpg
END:VEVENT
BEGIN:VEVENT
DTSTART;TZID=UTC:20241112T200000
DTEND;TZID=UTC:20241112T220000
DTSTAMP:20260420T064222
CREATED:20241125T165223Z
LAST-MODIFIED:20241125T165223Z
UID:1299-1731441600-1731448800@soberafe.com
SUMMARY:Florida State Seminoles vs. Notre Dame Fighting Irish @ Notre Dame Stadium (Notre Dame - IN)
DESCRIPTION:Sober Tailgate 2 hours before kickoff! \nGame starts 7:30pm!
URL:https://soberafe.com/event/florida-state-seminoles-vs-notre-dame-fighting-irish-notre-dame-stadium-notre-dame-in-2/
LOCATION:Notre Dame Stadium\, 18955 Moose Krause Circle\, Notre Dame\, Indiana\, 46617\, United States
CATEGORIES:Sports (College)
ATTACH;FMTTYPE=image/jpeg:https://soberafe.com/wp-content/uploads/2024/11/2024-10-12-Kansas-State-Wildcats-vs.-Colorado-Buffaloes-@-Folsom-Field-Boulder-CO-Large-1-jnk7ok.tmp_.jpg
END:VEVENT
BEGIN:VEVENT
DTSTART;TZID=UTC:20241027T130000
DTEND;TZID=UTC:20241027T210000
DTSTAMP:20260420T064222
CREATED:20241125T165305Z
LAST-MODIFIED:20241125T165305Z
UID:1325-1730034000-1730062800@soberafe.com
SUMMARY:Arizona Cardinals vs. Miami Dolphins @ Hard Rock Stadium (Miami Gardens - FL)
DESCRIPTION:Sober Tailgate 11AM at the Tennis Courts outside the Hard Rock Stadium (5A on Map) 2 hours before Kickoff! \nJoin us for a collaborative hosted with The Florida Dolphins\, Miami Open\, and our recovery group partners from Hazelden Betty Ford Foundation & Diamond Behavioral Group! \nGame starts 1PM!
URL:https://soberafe.com/event/arizona-cardinals-vs-miami-dolphins-hard-rock-stadium-miami-gardens-fl/
LOCATION:Hard Rock Stadium\, 347 Don Shula Dr\, Miami Gardens\, Florida\, 33056\, United States
CATEGORIES:Sports (Pro)
ATTACH;FMTTYPE=image/jpeg:https://soberafe.com/wp-content/uploads/2024/11/2024-10-27-Arizona-Cardinals-vs.-Miami-Dolphins-@-Hard-Rock-Stadium-Miami-Gardens-FL-YH92XE.tmp_.jpg
END:VEVENT
BEGIN:VEVENT
DTSTART;TZID=UTC:20241026T200000
DTEND;TZID=UTC:20241026T210000
DTSTAMP:20260420T064222
CREATED:20241125T165238Z
LAST-MODIFIED:20241125T165238Z
UID:1309-1729972800-1729976400@soberafe.com
SUMMARY:Florida State Seminoles vs. Miami Hurricanes @ Hard Rock Stadium (Miami Gardens - FL)
DESCRIPTION:Join our sober support group attending the game!
URL:https://soberafe.com/event/florida-state-seminoles-vs-miami-hurricanes-hard-rock-stadium-miami-gardens-fl/
LOCATION:Hard Rock Stadium\, 347 Don Shula Dr\, Miami Gardens\, Florida\, 33056\, United States
CATEGORIES:Sports (College)
ATTACH;FMTTYPE=image/jpeg:https://soberafe.com/wp-content/uploads/2024/11/2024-10-26-Florida-State-Seminoles-vs.-Miami-Hurricanes-@-Hard-Rock-Stadium-Miami-Gardens-FL-Large-vaJJCf.tmp_.jpg
END:VEVENT
BEGIN:VEVENT
DTSTART;TZID=UTC:20241019T200000
DTEND;TZID=UTC:20241019T210000
DTSTAMP:20260420T064222
CREATED:20241125T165307Z
LAST-MODIFIED:20241125T165307Z
UID:1329-1729368000-1729371600@soberafe.com
SUMMARY:CMU Fall Concert Featuring 3OH!3 @ Colorado Mesa University (Grand Junction - CO)
DESCRIPTION:Student concert tickets start at $35!
URL:https://soberafe.com/event/cmu-fall-concert-featuring-3oh3-colorado-mesa-university-grand-junction-co/
LOCATION:Colorado Mesa University\, 1100 North Ave\, Grand Junction\, Colorado\, 81501\, United States
CATEGORIES:Concerts
ATTACH;FMTTYPE=image/jpeg:https://soberafe.com/wp-content/uploads/2024/11/303-at-CMU-ZZfedS.tmp_.jpg
END:VEVENT
BEGIN:VEVENT
DTSTART;TZID=UTC:20241019T200000
DTEND;TZID=UTC:20241019T210000
DTSTAMP:20260420T064222
CREATED:20241125T165304Z
LAST-MODIFIED:20241125T165304Z
UID:1324-1729368000-1729371600@soberafe.com
SUMMARY:Homecoming @ Colorado Mesa University (Grand Junction - CO)
DESCRIPTION:Open to all students & community members!
URL:https://soberafe.com/event/homecoming-colorado-mesa-university-grand-junction-co/
LOCATION:Colorado Mesa University\, 1100 North Ave\, Grand Junction\, Colorado\, 81501\, United States
CATEGORIES:Community Celebrations
ATTACH;FMTTYPE=image/jpeg:https://soberafe.com/wp-content/uploads/2024/11/2024-10-19-_-CMU-Homecoming-@-Colorado-Mesa-University-Grand-Junction-CO-DCSWPr.tmp_.jpg
END:VEVENT
BEGIN:VEVENT
DTSTART;TZID=UTC:20241012T200000
DTEND;TZID=UTC:20241012T210000
DTSTAMP:20260420T064222
CREATED:20241125T165222Z
LAST-MODIFIED:20241125T165222Z
UID:1297-1728763200-1728766800@soberafe.com
SUMMARY:Kansas State Wildcats vs. Colorado Buffaloes @ Folsom Field (Boulder - CO)
DESCRIPTION:Sober Tailgate at 6pm @ 888 13th St.\,\nBoulder\, CO 80302 \nGame starts 8:00pm!
URL:https://soberafe.com/event/kansas-state-wildcats-vs-colorado-buffaloes-folsom-field-boulder-co/
LOCATION:Folsom Field\, 2095 Colorado Avenue\, Boulder\, Colorado\, 80309\, United States
CATEGORIES:Sports (College)
ATTACH;FMTTYPE=image/jpeg:https://soberafe.com/wp-content/uploads/2024/11/SOBERTAILGATE24-7HqWsZ.tmp_.jpg
END:VEVENT
BEGIN:VEVENT
DTSTART;TZID=UTC:20241005T200000
DTEND;TZID=UTC:20241005T210000
DTSTAMP:20260420T064222
CREATED:20241125T165253Z
LAST-MODIFIED:20241125T165253Z
UID:1317-1728158400-1728162000@soberafe.com
SUMMARY:Alabama Crimson Tide vs. Vanderbilt Commodores @ FirstBank Stadium (Nashville - TN)
DESCRIPTION:Sober Tailgate starting 3 hours before kick-off located by the stadium with the yellow balloons!
URL:https://soberafe.com/event/alabama-crimson-tide-vs-vanderbilt-commodores-firstbank-stadium-nashville-tn/
LOCATION:FirstBank Stadium\, 210 Natchez Trace\, Nashville\, Tennessee\, 37212\, United States
CATEGORIES:Sports (College)
ATTACH;FMTTYPE=image/jpeg:https://soberafe.com/wp-content/uploads/2024/11/2024-10-05-Alabama-Crimson-Tide-vs.-Vanderbilt-Commodores-@-FirstBank-Stadium-Nashville-TN-Large-qhfujY.tmp_.jpg
END:VEVENT
BEGIN:VEVENT
DTSTART;TZID=UTC:20240928T200000
DTEND;TZID=UTC:20240928T210000
DTSTAMP:20260420T064222
CREATED:20241125T165252Z
LAST-MODIFIED:20241125T165252Z
UID:1316-1727553600-1727557200@soberafe.com
SUMMARY:Arizona Wildcats vs. Utah Utes @ Rice-Eccles Stadium (Salt Lake City - UT)
DESCRIPTION:Sober Tailgate starting 3 hours before kick-off located by the stadium with the yellow balloons!
URL:https://soberafe.com/event/arizona-wildcats-vs-utah-utes-rice-eccles-stadium-salt-lake-city-ut/
LOCATION:Rice-Eccles Stadium\, 475 S 1400 E\, Salt Lake City\, Utah\, 84112\, United States
CATEGORIES:Sports (College)
ATTACH;FMTTYPE=image/jpeg:https://soberafe.com/wp-content/uploads/2024/11/2024-09-28-Arizona-Wildcats-vs.-Utah-Utes-@-Rice-Eccles-Stadium-Salt-Lake-City-UT-Large-F6zgjC.tmp_.jpg
END:VEVENT
BEGIN:VEVENT
DTSTART;TZID=UTC:20240921T200000
DTEND;TZID=UTC:20240921T210000
DTSTAMP:20260420T064222
CREATED:20241125T165220Z
LAST-MODIFIED:20241125T165220Z
UID:1295-1726948800-1726952400@soberafe.com
SUMMARY:Hoobajoob Music Festival @ Fiddler's Green Amphitheatre (Greenwood Village - CO)
DESCRIPTION:Sober Support Tent!
URL:https://soberafe.com/event/hoobajoob-music-festival-fiddlers-green-amphitheatre-greenwood-village-co-2/
LOCATION:Fiddler’s Green Amphitheatre\, 6453 South Fiddlers Green Circle\, Greenwood Village\, Colorado\, 80111\, United States
CATEGORIES:Music/Arts Festivals
ATTACH;FMTTYPE=image/jpeg:https://soberafe.com/wp-content/uploads/2024/11/2024-09-21-Hoobajoob-Music-Festival-@-Fiddlers-Green-Amphitheatre-Greenwood-Village-CO-Large-nxwX8I.tmp_.jpg
END:VEVENT
BEGIN:VEVENT
DTSTART;TZID=UTC:20240920T120000
DTEND;TZID=UTC:20240921T160000
DTSTAMP:20260420T064222
CREATED:20241125T165247Z
LAST-MODIFIED:20241125T165247Z
UID:1313-1726833600-1726934400@soberafe.com
SUMMARY:Illenium @ Dillon Amphitheater (Dillon - CO)
DESCRIPTION:
URL:https://soberafe.com/event/illenium-dillon-amphitheater-dillon-co/
LOCATION:Dillon Amphitheater\, 135 Lodgepole Street\, Dillon\, Colorado\, 80435\, United States
CATEGORIES:Concerts
ATTACH;FMTTYPE=image/jpeg:https://soberafe.com/wp-content/uploads/2024/11/2024-09-20-Illenium-@-Dillon-Amphitheater-Dillon-CO-1-1pSomV.tmp_.jpg
END:VEVENT
BEGIN:VEVENT
DTSTART;TZID=UTC:20240914T200000
DTEND;TZID=UTC:20240914T210000
DTSTAMP:20260420T064222
CREATED:20241125T165219Z
LAST-MODIFIED:20241125T165219Z
UID:1294-1726344000-1726347600@soberafe.com
SUMMARY:Colorado Buffaloes vs. Colorado State Rams @ Canvas Stadium (Fort Collins - CO)
DESCRIPTION:Sober Tailgate starting 3 hours before kick-off located by the stadium with the yellow balloons!
URL:https://soberafe.com/event/colorado-buffaloes-vs-colorado-state-rams-canvas-stadium-fort-collins-co/
LOCATION:Canvas Stadium\, 751 West Pitkin Street\, Fort Collins\, Colorado\, 80523\, United States
CATEGORIES:Sports (College)
ATTACH;FMTTYPE=image/jpeg:https://soberafe.com/wp-content/uploads/2024/11/2024-09-14-Colorado-Buffaloes-vs.-Colorado-State-Rams-@-Canvas-Stadium-Fort-Collins-CO-SPONSOR-Large-2K0Brq.tmp_.jpg
END:VEVENT
BEGIN:VEVENT
DTSTART;TZID=UTC:20240913T163000
DTEND;TZID=UTC:20240913T163000
DTSTAMP:20260420T064222
CREATED:20241125T165204Z
LAST-MODIFIED:20241125T165204Z
UID:1284-1726245000-1726245000@soberafe.com
SUMMARY:S.AF.E's 4th Annual Recovery Appreciation Day @ Coors Field (Denver - CO)
DESCRIPTION:Sober Tailgate at 5pm @ X2 Denver\, Game starts 6:40pm!
URL:https://soberafe.com/event/s-af-es-4th-annual-recovery-appreciation-day-coors-field-denver-co/
LOCATION:Coors Field\, 2195 Blake Street\, Denver\, Colorado\, 80205\, United States
CATEGORIES:Sports (Pro)
ATTACH;FMTTYPE=image/jpeg:https://soberafe.com/wp-content/uploads/2024/11/2024-09-13-S.AF_.Es-4th-Annual-Recovery-Appreciation-Day-@-Coors-Field-Denver-CO-Large-97R2vj.tmp_.jpg
END:VEVENT
BEGIN:VEVENT
DTSTART;TZID=UTC:20240907T200000
DTEND;TZID=UTC:20240907T210000
DTSTAMP:20260420T064222
CREATED:20241125T165217Z
LAST-MODIFIED:20241125T165217Z
UID:1293-1725739200-1725742800@soberafe.com
SUMMARY:Texas Longhorns vs. Michigan Wolverines @ Michigan Stadium (Ann Arbor - MI)
DESCRIPTION:Sober Tailgate starting 3 hours before kick-off located by the stadium with the yellow balloons!
URL:https://soberafe.com/event/texas-longhorns-vs-michigan-wolverines-michigan-stadium-ann-arbor-mi/
LOCATION:Michigan Stadium\, 1201 South Main Street\, Ann Arbor\, Michigan\, 48104\, United States
CATEGORIES:Sports (College)
ATTACH;FMTTYPE=image/jpeg:https://soberafe.com/wp-content/uploads/2024/11/2024-09-07-Texas-Longhorns-vs.-Michigan-Wolverines-@-Michigan-Stadium-Ann-Arbor-MI-SPONSOR-Large-bU4cI7.tmp_.jpg
END:VEVENT
BEGIN:VEVENT
DTSTART;TZID=UTC:20240831T120000
DTEND;TZID=UTC:20240831T210000
DTSTAMP:20260420T064222
CREATED:20241125T165208Z
LAST-MODIFIED:20241125T165208Z
UID:1289-1725105600-1725138000@soberafe.com
SUMMARY:Notre Dame Fighting Irish vs. Texas A&M Aggies @ Kyle Field (College Station - TX)
DESCRIPTION:Sober Tailgate starting 3 hours before kick-off located by the stadium with the yellow balloons!
URL:https://soberafe.com/event/notre-dame-fighting-irish-vs-texas-am-aggies-kyle-field-college-station-tx/
LOCATION:Kyle Field\, 1264 Texas a and M Univ\, College Station\, Texas\, 77843\, United States
CATEGORIES:Sports (College)
ATTACH;FMTTYPE=image/jpeg:https://soberafe.com/wp-content/uploads/2024/11/2024-08-31-Notre-Dame-Fighting-Irish-vs.-Texas-AM-Aggies-@-Kyle-Field-College-Station-TX-SPONSOR-Large-rKXOnc.tmp_.jpg
END:VEVENT
BEGIN:VEVENT
DTSTART;TZID=UTC:20240816T120000
DTEND;TZID=UTC:20240818T160000
DTSTAMP:20260420T064222
CREATED:20241125T165254Z
LAST-MODIFIED:20241125T165254Z
UID:1319-1723809600-1723996800@soberafe.com
SUMMARY:Rocky Mountain Symposium 2024 @ Gaylord Rockies Resort & Convention Center (Aurora - CO)
DESCRIPTION:Rocky Mountain Symposium 2024 @ Gaylord Rockies Resort & Convention Center (Aurora – CO) \nPlease visit their website for more information! \nhttps://www.hmpglobalevents.com/rocky-mountain-symposium
URL:https://soberafe.com/event/rocky-mountain-symposium-2024-gaylord-rockies-resort-convention-center-aurora-co/
LOCATION:Gaylord Rockies Resort & Convention Center\, North Gaylord Rockies Boulevard 6700\, Aurora\, Colorado\, United States
CATEGORIES:Conferences/Industry Meetings
ATTACH;FMTTYPE=image/jpeg:https://soberafe.com/wp-content/uploads/2024/11/2024-08-16-Rocky-Mountain-Symposium-2024-@-Gaylord-Rockies-Resort-Convention-Center-Aurora-CO-Large-Z27Kbg.tmp_.jpg
END:VEVENT
BEGIN:VEVENT
DTSTART;TZID=UTC:20240807T170000
DTEND;TZID=UTC:20240807T170000
DTSTAMP:20260420T064222
CREATED:20241125T165203Z
LAST-MODIFIED:20241125T165203Z
UID:1283-1723050000-1723050000@soberafe.com
SUMMARY:New York Mets vs. Colorado Rockies @ Coors Field (Denver - CO)
DESCRIPTION:Sober Tailgate at 5pm @ X2 Denver\, Game starts 6:40pm!
URL:https://soberafe.com/event/new-york-mets-vs-colorado-rockies-coors-field-denver-co/
LOCATION:Coors Field\, 2195 Blake Street\, Denver\, Colorado\, 80205\, United States
CATEGORIES:Sports (Pro)
ATTACH;FMTTYPE=image/jpeg:https://soberafe.com/wp-content/uploads/2024/11/2024-08-07-New-York-Mets-vs.-Colorado-Rockies-@-Coors-Field-Denver-CO-Large-23LF8P.tmp_.jpg
END:VEVENT
BEGIN:VEVENT
DTSTART;TZID=UTC:20240726T120000
DTEND;TZID=UTC:20240727T160000
DTSTAMP:20260420T064222
CREATED:20241125T165236Z
LAST-MODIFIED:20241125T165236Z
UID:1307-1721995200-1722096000@soberafe.com
SUMMARY:Global Dance Festival 2024 @ Colorado Convention Center (Denver - CO)
DESCRIPTION:Sober Support Tent!
URL:https://soberafe.com/event/global-dance-festival-2024-colorado-convention-center-denver-co/
LOCATION:Colorado Convention Center\, 701 14th Street\, Denver\, Colorado\, 80203\, United States
CATEGORIES:Music/Arts Festivals
ATTACH;FMTTYPE=image/jpeg:https://soberafe.com/wp-content/uploads/2024/11/2024-07-26-Global-Dance-Festival-2024-@-Colorado-Convention-Center-Denver-CO-xsLkPF.tmp_.jpg
END:VEVENT
BEGIN:VEVENT
DTSTART;TZID=UTC:20240724T120000
DTEND;TZID=UTC:20240728T160000
DTSTAMP:20260420T064222
CREATED:20241125T165207Z
LAST-MODIFIED:20241125T165207Z
UID:1287-1721822400-1722182400@soberafe.com
SUMMARY:Floydfest 2024 @ Festival Park (Check - VA)
DESCRIPTION:Sober Support Camping & Tent!
URL:https://soberafe.com/event/floydfest-2024-festival-park-check-va/
LOCATION:Festival Park (VA)\, Floyd Highway North 5826\, Check\, Virginia\, United States
CATEGORIES:Music/Arts Festivals
ATTACH;FMTTYPE=image/jpeg:https://soberafe.com/wp-content/uploads/2024/11/2024-07-24-Floydfest-2024-@-Festival-Park-Check-VA-u5xlew.tmp_.jpg
END:VEVENT
BEGIN:VEVENT
DTSTART;TZID=UTC:20240712T130000
DTEND;TZID=UTC:20240712T170000
DTSTAMP:20260420T064222
CREATED:20241125T165302Z
LAST-MODIFIED:20241125T165302Z
UID:1323-1720789200-1720803600@soberafe.com
SUMMARY:Second Chance Comedy @ Dickens Opera House (Longmont - CO)
DESCRIPTION:Sober Comedy Fundraiser!
URL:https://soberafe.com/event/second-chance-comedy-dickens-opera-house-longmont-co/
LOCATION:Dickens Opera House\, Main Street 302\, Longmont\, Colorado\, United States
CATEGORIES:Charity Event/Fundraisers
ATTACH;FMTTYPE=image/jpeg:https://soberafe.com/wp-content/uploads/2024/11/Second-Chance-Comedy-td3RoP.tmp_.jpg
END:VEVENT
BEGIN:VEVENT
DTSTART;TZID=UTC:20240609T120000
DTEND;TZID=UTC:20240609T153000
DTSTAMP:20260420T064222
CREATED:20241125T165235Z
LAST-MODIFIED:20241125T165235Z
UID:1305-1717934400-1717947000@soberafe.com
SUMMARY:KYGO Birthday Bash 2024 @ Fiddler's Green Amphitheatre (Greenwood Village - CO)
DESCRIPTION:Sober Support Tent!
URL:https://soberafe.com/event/kygo-birthday-bash-2024-fiddlers-green-amphitheatre-greenwood-village-co/
LOCATION:Fiddler’s Green Amphitheatre\, 6453 South Fiddlers Green Circle\, Greenwood Village\, Colorado\, 80111\, United States
CATEGORIES:Music/Arts Festivals
ATTACH;FMTTYPE=image/jpeg:https://soberafe.com/wp-content/uploads/2024/11/2024-06-09-KYGO-Birthday-Bash-2024-@-Fiddlers-Green-Amphitheatre-Greenwood-Village-CO-0Cyjbn.tmp_.jpg
END:VEVENT
BEGIN:VEVENT
DTSTART;TZID=UTC:20240603T170000
DTEND;TZID=UTC:20240603T170000
DTSTAMP:20260420T064222
CREATED:20241125T165152Z
LAST-MODIFIED:20241125T165152Z
UID:1279-1717434000-1717434000@soberafe.com
SUMMARY:Cincinnati Reds vs. Colorado Rockies @ Coors Field (Denver - CO)
DESCRIPTION:Sober Tailgate at 5pm @ X2 Denver\, Game starts 6:40pm!
URL:https://soberafe.com/event/cincinnati-reds-vs-colorado-rockies-coors-field-denver-co/
LOCATION:Coors Field\, 2195 Blake Street\, Denver\, Colorado\, 80205\, United States
CATEGORIES:Sports (Pro)
ATTACH;FMTTYPE=image/jpeg:https://soberafe.com/wp-content/uploads/2024/11/2024-06-03-Cincinnati-Reds-vs.-Colorado-Rockies-@-Coors-Field-Denver-CO-Large-1AZMlg.tmp_.jpg
END:VEVENT
BEGIN:VEVENT
DTSTART;TZID=UTC:20240602T120000
DTEND;TZID=UTC:20240605T160000
DTSTAMP:20260420T064222
CREATED:20241125T165249Z
LAST-MODIFIED:20241125T165249Z
UID:1314-1717329600-1717603200@soberafe.com
SUMMARY:Faces & Voices Recovery Leadership Summit 2024 @ Hyatt Regency Denver at Colorado Convention Center (Denver - CO)
DESCRIPTION:Faces & Voices Recovery Leadership Summit 2024 @ Hyatt Regency Denver at Colorado Convention Center (Denver – CO) \nPlease visit their website for more information! \nhttps://rls.facesandvoicesofrecovery.org/
URL:https://soberafe.com/event/faces-voices-recovery-leadership-summit-2024-hyatt-regency-denver-at-colorado-convention-center-denver-co/
LOCATION:Hyatt Regency Denver at Colorado Convention Center\, 15th Street 650\, Denver\, Colorado\, United States
CATEGORIES:Conferences/Industry Meetings
ATTACH;FMTTYPE=image/jpeg:https://soberafe.com/wp-content/uploads/2024/11/2024-06-02-Faces-Voices-Recovery-Leadership-Summit-2024-YQ0BhK.tmp_.jpg
END:VEVENT
BEGIN:VEVENT
DTSTART;TZID=UTC:20240516T120000
DTEND;TZID=UTC:20240519T210000
DTSTAMP:20260420T064222
CREATED:20241125T165234Z
LAST-MODIFIED:20241125T165234Z
UID:1304-1715860800-1716152400@soberafe.com
SUMMARY:Joshua Tree Festival Spring 2024 @ Joshua Tree Lake RV Park (Joshua Tree - CA)
DESCRIPTION:Sober Support Camping & Tent!
URL:https://soberafe.com/event/joshua-tree-festival-spring-2024-joshua-tree-lake-rv-park-joshua-tree-ca/
LOCATION:Joshua Tree Lake RV Park\, Sunfair Road 2601\, Joshua Tree\, California\, United States
CATEGORIES:Music/Arts Festivals
ATTACH;FMTTYPE=image/jpeg:https://soberafe.com/wp-content/uploads/2024/11/2024-05-16-Joshua-Tree-Festival-Spring-2024-@-Joshua-Tree-Lake-RV-Park-Joshua-Tree-CA-mGyMII.tmp_.jpg
END:VEVENT
BEGIN:VEVENT
DTSTART;TZID=UTC:20240507T220000
DTEND;TZID=UTC:20240507T220000
DTSTAMP:20260420T064222
CREATED:20241125T165151Z
LAST-MODIFIED:20241125T165151Z
UID:1278-1715119200-1715119200@soberafe.com
SUMMARY:National Fentanyl Awareness Day @ Coors Field (Denver - CO)
DESCRIPTION:Sober Tailgate at 5pm @ X2 Denver\, Game starts 6:40pm!
URL:https://soberafe.com/event/national-fentanyl-awareness-day-coors-field-denver-co/
LOCATION:Coors Field\, 2195 Blake Street\, Denver\, Colorado\, 80205\, United States
CATEGORIES:Sports (Pro)
ATTACH;FMTTYPE=image/jpeg:https://soberafe.com/wp-content/uploads/2024/11/2024-05-07-National-Fentanyl-Awareness-Day-@-Coors-Field-Denver-CO-Large-eQL1ff.tmp_.jpg
END:VEVENT
BEGIN:VEVENT
DTSTART;TZID=UTC:20240405T220000
DTEND;TZID=UTC:20240405T220000
DTSTAMP:20260420T064222
CREATED:20241125T165150Z
LAST-MODIFIED:20241125T165150Z
UID:1276-1712354400-1712354400@soberafe.com
SUMMARY:Buffalo Bandits vs. Colorado Mammoth @ Ball Arena (Denver - CO)
DESCRIPTION:
URL:https://soberafe.com/event/buffalo-bandits-vs-colorado-mammoth-ball-arena-denver-co/
LOCATION:Ball Arena\, 1000 Chopper Circle\, Denver\, Colorado\, 80204\, United States
CATEGORIES:Sports (Pro)
ATTACH;FMTTYPE=image/jpeg:https://soberafe.com/wp-content/uploads/2024/11/24-04-05-Buffalo-Bandits-vs.-Colorado-Mammoth-@-Ball-Arena-Denver-CO-Large-copy-Medium-vMvYh1.tmp_.jpg
END:VEVENT
BEGIN:VEVENT
DTSTART;TZID=UTC:20240405T210000
DTEND;TZID=UTC:20240405T210000
DTSTAMP:20260420T064222
CREATED:20241125T165206Z
LAST-MODIFIED:20241125T165206Z
UID:1285-1712350800-1712350800@soberafe.com
SUMMARY:Open Mix X Silent Disco w/ Recovery CAFE Longmont
DESCRIPTION:
URL:https://soberafe.com/event/open-mix-x-silent-disco-w-recovery-cafe-longmont/
LOCATION:Recovery Cafe Longmont\, 801 Main Street Longmont\, Longmont\, CO\, United States
CATEGORIES:Community Celebrations
ATTACH;FMTTYPE=image/jpeg:https://soberafe.com/wp-content/uploads/2024/11/OMNxSilentDisco-2-frf5uP.tmp_.jpg
END:VEVENT
BEGIN:VEVENT
DTSTART;TZID=UTC:20240326T220000
DTEND;TZID=UTC:20240326T220000
DTSTAMP:20260420T064222
CREATED:20241125T165149Z
LAST-MODIFIED:20241125T165149Z
UID:1275-1711490400-1711490400@soberafe.com
SUMMARY:Montreal Canadiens vs. Colorado Avalanche @ Ball Arena (Denver - CO)
DESCRIPTION:
URL:https://soberafe.com/event/montreal-canadiens-vs-colorado-avalanche-ball-arena-denver-co/
LOCATION:Ball Arena\, 1000 Chopper Circle\, Denver\, Colorado\, 80204\, United States
CATEGORIES:Sports (Pro)
ATTACH;FMTTYPE=image/png:https://soberafe.com/wp-content/uploads/2024/11/SAFE-LOGO-SINGLE-COLOR-KDTAe4.tmp_.png
END:VEVENT
END:VCALENDAR