BEGIN:VCALENDAR
VERSION:2.0
PRODID:-//SOBER AF ENTERTAINMENT - ECPv6.15.20//NONSGML v1.0//EN
CALSCALE:GREGORIAN
METHOD:PUBLISH
X-WR-CALNAME:SOBER AF ENTERTAINMENT
X-ORIGINAL-URL:https://soberafe.com
X-WR-CALDESC:Events for SOBER AF ENTERTAINMENT
REFRESH-INTERVAL;VALUE=DURATION:PT1H
X-Robots-Tag:noindex
X-PUBLISHED-TTL:PT1H
BEGIN:VTIMEZONE
TZID:UTC
BEGIN:STANDARD
TZOFFSETFROM:+0000
TZOFFSETTO:+0000
TZNAME:UTC
DTSTART:20170101T000000
END:STANDARD
END:VTIMEZONE
BEGIN:VEVENT
DTSTART;TZID=UTC:20190927T160000
DTEND;TZID=UTC:20190927T200000
DTSTAMP:20260421T164355
CREATED:20241125T164249Z
LAST-MODIFIED:20241125T164249Z
UID:980-1569600000-1569614400@soberafe.com
SUMMARY:Penn State Nittany Lions vs. Maryland Terrapins @ Maryland Stadium (College Park - MD)
DESCRIPTION:
URL:https://soberafe.com/event/penn-state-nittany-lions-vs-maryland-terrapins-maryland-stadium-college-park-md/
LOCATION:Maryland Stadium\, 90 Stadium Drive\, College Park\, Maryland\, 20742\, United States
CATEGORIES:Sports (College)
ATTACH;FMTTYPE=image/jpeg:https://soberafe.com/wp-content/uploads/2024/11/19-09-27-Penn-State-Nittany-Lions-vs.-Maryland-Terrapins-@-Maryland-Stadium-College-Park-MD-Large-copy-Medium-mvSuVm.tmp_.jpg
END:VEVENT
BEGIN:VEVENT
DTSTART;TZID=UTC:20190921T160000
DTEND;TZID=UTC:20190921T200000
DTSTAMP:20260421T164355
CREATED:20241125T164247Z
LAST-MODIFIED:20241125T164247Z
UID:977-1569081600-1569096000@soberafe.com
SUMMARY:Notre Dame Fighting Irish vs. Georgia Bulldogs @ Sanford Stadium (Athens - GA)
DESCRIPTION:
URL:https://soberafe.com/event/notre-dame-fighting-irish-vs-georgia-bulldogs-sanford-stadium-athens-ga/
LOCATION:Sanford Stadium\, 200 Sanford Drive\, Athens\, Georgia\, 30602\, United States
CATEGORIES:Sports (College)
ATTACH;FMTTYPE=image/jpeg:https://soberafe.com/wp-content/uploads/2024/11/19-09-21-Notre-Dame-Fighting-Irish-vs.-Georgia-Bulldogs-@-Sanford-Stadium-Athens-GA-Large-copy-Medium-YcthBi.tmp_.jpg
END:VEVENT
BEGIN:VEVENT
DTSTART;TZID=UTC:20190831T160000
DTEND;TZID=UTC:20190831T200000
DTSTAMP:20260421T164355
CREATED:20241125T164246Z
LAST-MODIFIED:20241125T164246Z
UID:975-1567267200-1567281600@soberafe.com
SUMMARY:Polo Fest 2019 @ Denver Polo Club (Sedalia - CO)
DESCRIPTION:
URL:https://soberafe.com/event/polo-fest-2019-denver-polo-club-sedalia-co/
LOCATION:Denver Polo Club\, 6359 Airport Road\, Sedalia\, Colorado\, 80135\, United States
CATEGORIES:Music/Arts Festivals
ATTACH;FMTTYPE=image/jpeg:https://soberafe.com/wp-content/uploads/2024/11/19-08-31-Polo-Fest-2019-@-Denver-Polo-Club-Sedalia-CO-Large-copy-Medium-MSXUts.tmp_.jpg
END:VEVENT
BEGIN:VEVENT
DTSTART;TZID=UTC:20190830T160000
DTEND;TZID=UTC:20190830T200000
DTSTAMP:20260421T164355
CREATED:20241125T164245Z
LAST-MODIFIED:20241125T164245Z
UID:974-1567180800-1567195200@soberafe.com
SUMMARY:Colorado State Rams vs. Colorado Buffaloes @ Folsom Field (Boulder - CO)
DESCRIPTION:
URL:https://soberafe.com/event/colorado-state-rams-vs-colorado-buffaloes-folsom-field-boulder-co-2/
LOCATION:Folsom Field\, 2095 Colorado Avenue\, Boulder\, Colorado\, 80309\, United States
CATEGORIES:Sports (College)
ATTACH;FMTTYPE=image/jpeg:https://soberafe.com/wp-content/uploads/2024/11/19-08-30-Colorado-State-Rams-vs.-Colorado-Buffaloes-@-Folsom-Field-Boulder-CO-Large-copy-Medium-XJx06n.tmp_.jpg
END:VEVENT
BEGIN:VEVENT
DTSTART;TZID=UTC:20190817T160000
DTEND;TZID=UTC:20190817T200000
DTSTAMP:20260421T164355
CREATED:20241125T164243Z
LAST-MODIFIED:20241125T164243Z
UID:973-1566057600-1566072000@soberafe.com
SUMMARY:Miami Marlins vs. Colorado Rockies @ Coors Field (Denver - CO)
DESCRIPTION:
URL:https://soberafe.com/event/miami-marlins-vs-colorado-rockies-coors-field-denver-co-2/
LOCATION:Coors Field\, 2195 Blake Street\, Denver\, Colorado\, 80205\, United States
CATEGORIES:Sports (Pro)
ATTACH;FMTTYPE=image/jpeg:https://soberafe.com/wp-content/uploads/2024/11/19-08-17-Miami-Marlins-vs.-Colorado-Rockies-@-Coors-Field-Denver-CO-Large-copy-Medium-OkuGN2.tmp_.jpg
END:VEVENT
BEGIN:VEVENT
DTSTART;TZID=UTC:20190809T160000
DTEND;TZID=UTC:20190809T200000
DTSTAMP:20260421T164355
CREATED:20241125T164234Z
LAST-MODIFIED:20241125T164234Z
UID:970-1565366400-1565380800@soberafe.com
SUMMARY:Bohemian Nights at NeWWEstFest 2019 @ Old Town Square (Fort Collins - CO)
DESCRIPTION:
URL:https://soberafe.com/event/bohemian-nights-at-newwestfest-2019-old-town-square-fort-collins-co/
LOCATION:Old Town Square\, 1 Old Town Square\, Fort Collins\, Colorado\, 80524\, United States
CATEGORIES:Music/Arts Festivals
ATTACH;FMTTYPE=image/jpeg:https://soberafe.com/wp-content/uploads/2024/11/19-08-09-Bohemian-Nights-at-NeWWEstFest-2019-@-Old-Town-Square-Fort-Collins-CO-Large-copy-Medium-b1r3AE.tmp_.jpg
END:VEVENT
BEGIN:VEVENT
DTSTART;TZID=UTC:20190806T160000
DTEND;TZID=UTC:20190806T200000
DTSTAMP:20260421T164355
CREATED:20241125T164232Z
LAST-MODIFIED:20241125T164232Z
UID:969-1565107200-1565121600@soberafe.com
SUMMARY:Flume @ Red Rocks Park and Amphitheatre (Morrison - CO)
DESCRIPTION:
URL:https://soberafe.com/event/flume-red-rocks-park-and-amphitheatre-morrison-co/
LOCATION:Red Rocks Park and Amphitheatre\, 18300 West Alameda Parkway\, Golden\, Colorado\, 80465\, United States
CATEGORIES:Concerts
ATTACH;FMTTYPE=image/png:https://soberafe.com/wp-content/uploads/2024/11/SAFE-LOGO-SINGLE-COLOR-KDTAe4.tmp_.png
END:VEVENT
BEGIN:VEVENT
DTSTART;TZID=UTC:20190719T160000
DTEND;TZID=UTC:20190720T200000
DTSTAMP:20260421T164355
CREATED:20241125T164231Z
LAST-MODIFIED:20241125T164231Z
UID:967-1563552000-1563652800@soberafe.com
SUMMARY:Global Dance Music Festival 2019 @ Empower Field at Mile High (Denver - CO)
DESCRIPTION:
URL:https://soberafe.com/event/global-dance-music-festival-2019-empower-field-at-mile-high-denver-co/
LOCATION:Empower Field at Mile High\, 1801 Mile High Stadium Circle\, Denver\, Colorado\, 80204\, United States
CATEGORIES:Music/Arts Festivals
ATTACH;FMTTYPE=image/jpeg:https://soberafe.com/wp-content/uploads/2024/11/19-07-19-Global-Dance-Music-Festival-2019-@-Empower-Field-at-Mile-High-Denver-CO-Large-copy-Medium-G4lZDi.tmp_.jpg
END:VEVENT
BEGIN:VEVENT
DTSTART;TZID=UTC:20190705T160000
DTEND;TZID=UTC:20190705T200000
DTSTAMP:20260421T164355
CREATED:20241125T164230Z
LAST-MODIFIED:20241125T164230Z
UID:966-1562342400-1562356800@soberafe.com
SUMMARY:Dead & Co. @ Folsom Field (Boulder - CO)
DESCRIPTION:
URL:https://soberafe.com/event/dead-co-folsom-field-boulder-co-2/
LOCATION:Folsom Field\, 2095 Colorado Avenue\, Boulder\, Colorado\, 80309\, United States
CATEGORIES:Concerts
ATTACH;FMTTYPE=image/png:https://soberafe.com/wp-content/uploads/2024/11/SAFE-LOGO-SINGLE-COLOR-KDTAe4.tmp_.png
END:VEVENT
BEGIN:VEVENT
DTSTART;TZID=UTC:20190629T160000
DTEND;TZID=UTC:20190629T200000
DTSTAMP:20260421T164355
CREATED:20241125T164228Z
LAST-MODIFIED:20241125T164228Z
UID:965-1561824000-1561838400@soberafe.com
SUMMARY:Los Angeles Dodgers vs. Colorado Rockies @ Coors Field (Denver - CO)
DESCRIPTION:
URL:https://soberafe.com/event/los-angeles-dodgers-vs-colorado-rockies-coors-field-denver-co/
LOCATION:Coors Field\, 2195 Blake Street\, Denver\, Colorado\, 80205\, United States
CATEGORIES:Sports (Pro)
ATTACH;FMTTYPE=image/jpeg:https://soberafe.com/wp-content/uploads/2024/11/19-06-29-Los-Angeles-Dodgers-vs.-Colorado-Rockies-@-Coors-Field-Denver-CO-Large-copy-Medium-S8czjw.tmp_.jpg
END:VEVENT
BEGIN:VEVENT
DTSTART;TZID=UTC:20190607T160000
DTEND;TZID=UTC:20190609T200000
DTSTAMP:20260421T164355
CREATED:20241125T164219Z
LAST-MODIFIED:20241125T164219Z
UID:962-1559923200-1560110400@soberafe.com
SUMMARY:Bassnectar Freestyle Sessions 2019 @ 1STBANK Center (Broomfield - CO)
DESCRIPTION:
URL:https://soberafe.com/event/bassnectar-freestyle-sessions-2019-1stbank-center-broomfield-co/
LOCATION:1STBANK Center\, 11450 Broomfield Lane\, Broomfield\, Colorado\, 80021\, United States
CATEGORIES:Music/Arts Festivals
ATTACH;FMTTYPE=image/jpeg:https://soberafe.com/wp-content/uploads/2024/11/19-06-07-Bassnectar-Freestyle-Sessions-2019-@-1STBANK-Center-Broomfield-CO-Large-copy-Medium-baRdqw.tmp_.jpg
END:VEVENT
BEGIN:VEVENT
DTSTART;TZID=UTC:20190328T160000
DTEND;TZID=UTC:20190328T200000
DTSTAMP:20260421T164355
CREATED:20241125T164218Z
LAST-MODIFIED:20241125T164218Z
UID:960-1553788800-1553803200@soberafe.com
SUMMARY:Bohemian Rhapsody Movie @ Red Rocks Park and Amphitheatre (Morrison - CO)
DESCRIPTION:
URL:https://soberafe.com/event/bohemian-rhapsody-movie-red-rocks-park-and-amphitheatre-morrison-co/
LOCATION:Red Rocks Park and Amphitheatre\, 18300 West Alameda Parkway\, Golden\, Colorado\, 80465\, United States
CATEGORIES:Movies/Watch Parties
ATTACH;FMTTYPE=image/png:https://soberafe.com/wp-content/uploads/2024/11/SAFE-LOGO-SINGLE-COLOR-KDTAe4.tmp_.png
END:VEVENT
BEGIN:VEVENT
DTSTART;TZID=UTC:20190317T160000
DTEND;TZID=UTC:20190317T200000
DTSTAMP:20260421T164355
CREATED:20241125T164216Z
LAST-MODIFIED:20241125T164216Z
UID:958-1552838400-1552852800@soberafe.com
SUMMARY:New Jersey Devils vs. Colorado Avalanche @ Ball Arena (Denver - CO)
DESCRIPTION:
URL:https://soberafe.com/event/new-jersey-devils-vs-colorado-avalanche-ball-arena-denver-co/
LOCATION:Ball Arena\, 1000 Chopper Circle\, Denver\, Colorado\, 80204\, United States
CATEGORIES:Sports (Pro)
ATTACH;FMTTYPE=image/jpeg:https://soberafe.com/wp-content/uploads/2024/11/19-03-17-New-Jersey-Devils-vs.-Colorado-Avalanche-@-Ball-Arena-Denver-CO-Large-copy-Medium-aSQLWk.tmp_.jpg
END:VEVENT
BEGIN:VEVENT
DTSTART;TZID=UTC:20190316T160000
DTEND;TZID=UTC:20190316T200000
DTSTAMP:20260421T164355
CREATED:20241125T164215Z
LAST-MODIFIED:20241125T164215Z
UID:957-1552752000-1552766400@soberafe.com
SUMMARY:Calgary Roughnecks vs. Colorado Mammoth @ Ball Arena (Denver - CO)
DESCRIPTION:
URL:https://soberafe.com/event/calgary-roughnecks-vs-colorado-mammoth-ball-arena-denver-co/
LOCATION:Ball Arena\, 1000 Chopper Circle\, Denver\, Colorado\, 80204\, United States
CATEGORIES:Sports (Pro)
ATTACH;FMTTYPE=image/jpeg:https://soberafe.com/wp-content/uploads/2024/11/19-03-16-Calgary-Roughnecks-vs.-Colorado-Mammoth-@-Ball-Arena-Denver-CO-Large-copy-Medium-cUpzGO.tmp_.jpg
END:VEVENT
BEGIN:VEVENT
DTSTART;TZID=UTC:20190308T170000
DTEND;TZID=UTC:20190308T220000
DTSTAMP:20260421T164355
CREATED:20241125T164213Z
LAST-MODIFIED:20241125T164213Z
UID:956-1552064400-1552082400@soberafe.com
SUMMARY:Colorado College Tigers vs. Denver Pioneers @ Magness Arena (Denver - CO)
DESCRIPTION:
URL:https://soberafe.com/event/colorado-college-tigers-vs-denver-pioneers-magness-arena-denver-co-2/
LOCATION:Magness Arena\, 2250 East Jewell Avenue\, Denver\, Colorado\, 80210\, United States
CATEGORIES:Sports (College)
ATTACH;FMTTYPE=image/jpeg:https://soberafe.com/wp-content/uploads/2024/11/19-03-08-Colorado-College-Tigers-vs.-Denver-Pioneers-@-Magness-Arena-Denver-CO-Large-copy-Medium-70Rnhl.tmp_.jpg
END:VEVENT
BEGIN:VEVENT
DTSTART;TZID=UTC:20190302T170000
DTEND;TZID=UTC:20190302T220000
DTSTAMP:20260421T164355
CREATED:20241125T164204Z
LAST-MODIFIED:20241125T164204Z
UID:952-1551546000-1551564000@soberafe.com
SUMMARY:New Orleans Pelicans vs. Denver Nuggets @ Ball Arena (Denver - CO)
DESCRIPTION:
URL:https://soberafe.com/event/new-orleans-pelicans-vs-denver-nuggets-ball-arena-denver-co/
LOCATION:Ball Arena\, 1000 Chopper Circle\, Denver\, Colorado\, 80204\, United States
CATEGORIES:Sports (Pro)
ATTACH;FMTTYPE=image/jpeg:https://soberafe.com/wp-content/uploads/2024/11/19-03-02-New-Orleans-Pelicans-vs.-Denver-Nuggets-@-Ball-Arena-Denver-CO-Large-copy-Medium-3zWj8E.tmp_.jpg
END:VEVENT
BEGIN:VEVENT
DTSTART;TZID=UTC:20190218T170000
DTEND;TZID=UTC:20190218T220000
DTSTAMP:20260421T164355
CREATED:20241125T164203Z
LAST-MODIFIED:20241125T164203Z
UID:951-1550509200-1550527200@soberafe.com
SUMMARY:Vegas Golden Knights vs. Colorado Avalanche @ Ball Arena (Denver - CO)
DESCRIPTION:
URL:https://soberafe.com/event/vegas-golden-knights-vs-colorado-avalanche-ball-arena-denver-co/
LOCATION:Ball Arena\, 1000 Chopper Circle\, Denver\, Colorado\, 80204\, United States
CATEGORIES:Sports (Pro)
ATTACH;FMTTYPE=image/jpeg:https://soberafe.com/wp-content/uploads/2024/11/19-02-18-Vegas-Golden-Knights-vs.-Colorado-Avalanche-@-Ball-Arena-Denver-CO-Large-copy-Medium-2Ra4lD.tmp_.jpg
END:VEVENT
BEGIN:VEVENT
DTSTART;TZID=UTC:20190119T170000
DTEND;TZID=UTC:20190119T220000
DTSTAMP:20260421T164355
CREATED:20241125T164201Z
LAST-MODIFIED:20241125T164201Z
UID:948-1547917200-1547935200@soberafe.com
SUMMARY:Colorado College Tigers vs. Denver Pioneers @ Magness Arena (Denver - CO)
DESCRIPTION:
URL:https://soberafe.com/event/colorado-college-tigers-vs-denver-pioneers-magness-arena-denver-co/
LOCATION:Magness Arena\, 2250 East Jewell Avenue\, Denver\, Colorado\, 80210\, United States
CATEGORIES:Sports (College)
ATTACH;FMTTYPE=image/jpeg:https://soberafe.com/wp-content/uploads/2024/11/19-01-19-Colorado-College-Tigers-vs.-Denver-Pioneers-@-Magness-Arena-Denver-CO-Large-copy-Medium-LVTwgU.tmp_.jpg
END:VEVENT
BEGIN:VEVENT
DTSTART;TZID=UTC:20181231T170000
DTEND;TZID=UTC:20181231T220000
DTSTAMP:20260421T164355
CREATED:20241125T164200Z
LAST-MODIFIED:20241125T164200Z
UID:947-1546275600-1546293600@soberafe.com
SUMMARY:Sacramento Kings vs. Colorado Avalanche @ Ball Arena (Denver - CO)
DESCRIPTION:
URL:https://soberafe.com/event/sacramento-kings-vs-colorado-avalanche-ball-arena-denver-co/
LOCATION:Ball Arena\, 1000 Chopper Circle\, Denver\, Colorado\, 80204\, United States
CATEGORIES:Sports (Pro)
ATTACH;FMTTYPE=image/jpeg:https://soberafe.com/wp-content/uploads/2024/11/18-12-31-Sacramento-Kings-vs.-Colorado-Avalanche-@-Ball-Arena-Denver-CO-Large-copy-Medium-VSOwc2.tmp_.jpg
END:VEVENT
BEGIN:VEVENT
DTSTART;TZID=UTC:20181124T170000
DTEND;TZID=UTC:20181124T220000
DTSTAMP:20260421T164355
CREATED:20241125T164158Z
LAST-MODIFIED:20241125T164158Z
UID:946-1543078800-1543096800@soberafe.com
SUMMARY:Notre Dame Fighting Irish vs. USC Trojans @ Los Angeles Memorial Coliseum (Los Angeles - CA)
DESCRIPTION:
URL:https://soberafe.com/event/notre-dame-fighting-irish-vs-usc-trojans-los-angeles-memorial-coliseum-los-angeles-ca/
LOCATION:Los Angeles Memorial Coliseum\, South Coliseum Drive\, Los Angeles\, California\, 90037\, United States
CATEGORIES:Sports (College)
ATTACH;FMTTYPE=image/jpeg:https://soberafe.com/wp-content/uploads/2024/11/18-11-24-Notre-Dame-Fighting-Irish-vs.-USC-Trojans-@-Los-Angeles-Memorial-Coliseum-Los-Angeles-CA-Large-copy-Medium-H9zclR.tmp_.jpg
END:VEVENT
BEGIN:VEVENT
DTSTART;TZID=UTC:20181115T170000
DTEND;TZID=UTC:20181115T220000
DTSTAMP:20260421T164355
CREATED:20241125T164148Z
LAST-MODIFIED:20241125T164148Z
UID:943-1542301200-1542319200@soberafe.com
SUMMARY:Hot Dub Time Machine & 2AR @ Marquis Theater (Denver - CO)
DESCRIPTION:
URL:https://soberafe.com/event/hot-dub-time-machine-2ar-marquis-theater-denver-co/
LOCATION:Marquis Theater\, 2009 Larimer Street\, Denver\, Colorado\, 80205\, United States
CATEGORIES:Concerts
ATTACH;FMTTYPE=image/png:https://soberafe.com/wp-content/uploads/2024/11/SAFE-LOGO-SINGLE-COLOR-KDTAe4.tmp_.png
END:VEVENT
BEGIN:VEVENT
DTSTART;TZID=UTC:20181114T170000
DTEND;TZID=UTC:20181114T220000
DTSTAMP:20260421T164355
CREATED:20241125T164147Z
LAST-MODIFIED:20241125T164147Z
UID:941-1542214800-1542232800@soberafe.com
SUMMARY:Boston Bruins vs. Colorado Avalanche @ Ball Arena (Denver - CO)
DESCRIPTION:
URL:https://soberafe.com/event/boston-bruins-vs-colorado-avalanche-ball-arena-denver-co/
LOCATION:Ball Arena\, 1000 Chopper Circle\, Denver\, Colorado\, 80204\, United States
CATEGORIES:Sports (Pro)
ATTACH;FMTTYPE=image/jpeg:https://soberafe.com/wp-content/uploads/2024/11/18-11-14-Boston-Bruins-vs.-Colorado-Avalanche-@-Ball-Arena-Denver-CO-Large-copy-Medium-TIYqnX.tmp_.jpg
END:VEVENT
BEGIN:VEVENT
DTSTART;TZID=UTC:20181113T170000
DTEND;TZID=UTC:20181113T220000
DTSTAMP:20260421T164355
CREATED:20241125T164146Z
LAST-MODIFIED:20241125T164146Z
UID:939-1542128400-1542146400@soberafe.com
SUMMARY:Houston Rockets vs. Denver Nuggets @ Ball Arena (Denver - CO)
DESCRIPTION:
URL:https://soberafe.com/event/houston-rockets-vs-denver-nuggets-ball-arena-denver-co/
LOCATION:Ball Arena\, 1000 Chopper Circle\, Denver\, Colorado\, 80204\, United States
CATEGORIES:Sports (Pro)
ATTACH;FMTTYPE=image/jpeg:https://soberafe.com/wp-content/uploads/2024/11/18-11-13-Houston-Rockets-vs.-Denver-Nuggets-@-Ball-Arena-Denver-CO-Large-copy-Medium-B5Gpi4.tmp_.jpg
END:VEVENT
BEGIN:VEVENT
DTSTART;TZID=UTC:20181110T170000
DTEND;TZID=UTC:20181110T220000
DTSTAMP:20260421T164355
CREATED:20241125T164145Z
LAST-MODIFIED:20241125T164145Z
UID:938-1541869200-1541887200@soberafe.com
SUMMARY:Florida State Seminoles vs. Notre Dame Fighting Irish @ Notre Dame Stadium (Notre Dame - IN)
DESCRIPTION:
URL:https://soberafe.com/event/florida-state-seminoles-vs-notre-dame-fighting-irish-notre-dame-stadium-notre-dame-in/
LOCATION:Notre Dame Stadium\, 18955 Moose Krause Circle\, Notre Dame\, Indiana\, 46617\, United States
CATEGORIES:Sports (College)
ATTACH;FMTTYPE=image/jpeg:https://soberafe.com/wp-content/uploads/2024/11/18-11-10-Florida-State-Seminoles-vs.-Notre-Dame-Fighting-Irish-@-Notre-Dame-Stadium-Notre-Dame-IN-Large-copy-Medium-BX6AzB.tmp_.jpg
END:VEVENT
BEGIN:VEVENT
DTSTART;TZID=UTC:20181027T160000
DTEND;TZID=UTC:20181027T200000
DTSTAMP:20260421T164355
CREATED:20241125T164143Z
LAST-MODIFIED:20241125T164143Z
UID:937-1540656000-1540670400@soberafe.com
SUMMARY:Oregon State Beavers vs. Colorado Buffaloes @ Folsom Field (Boulder - CO)
DESCRIPTION:
URL:https://soberafe.com/event/oregon-state-beavers-vs-colorado-buffaloes-folsom-field-boulder-co/
LOCATION:Folsom Field\, 2095 Colorado Avenue\, Boulder\, Colorado\, 80309\, United States
CATEGORIES:Sports (College)
ATTACH;FMTTYPE=image/jpeg:https://soberafe.com/wp-content/uploads/2024/11/18-10-27-Oregon-State-Beavers-vs.-Colorado-Buffaloes-@-Folsom-Field-Boulder-CO-Large-copy-Medium-myvNzn.tmp_.jpg
END:VEVENT
BEGIN:VEVENT
DTSTART;TZID=UTC:20181003T160000
DTEND;TZID=UTC:20181003T200000
DTSTAMP:20260421T164355
CREATED:20241125T164134Z
LAST-MODIFIED:20241125T164134Z
UID:934-1538582400-1538596800@soberafe.com
SUMMARY:The Wombats @ Ogden Theatre (Denver - CO)
DESCRIPTION:
URL:https://soberafe.com/event/the-wombats-ogden-theatre-denver-co/
LOCATION:Ogden Theatre\, 935 East Colfax Avenue\, Denver\, Colorado\, 80218\, United States
CATEGORIES:Concerts
ATTACH;FMTTYPE=image/png:https://soberafe.com/wp-content/uploads/2024/11/SAFE-LOGO-SINGLE-COLOR-KDTAe4.tmp_.png
END:VEVENT
BEGIN:VEVENT
DTSTART;TZID=UTC:20180929T160000
DTEND;TZID=UTC:20180929T200000
DTSTAMP:20260421T164355
CREATED:20241125T164132Z
LAST-MODIFIED:20241125T164132Z
UID:933-1538236800-1538251200@soberafe.com
SUMMARY:Recovery Fest 2018 @ McCoy Stadium (Pawtucket - RI)
DESCRIPTION:
URL:https://soberafe.com/event/recovery-fest-2018-mccoy-stadium-pawtucket-ri/
LOCATION:McCoy Stadium\, 1 Columbus Avenue\, Pawtucket\, Rhode Island\, 02860\, United States
CATEGORIES:Music/Arts Festivals
ATTACH;FMTTYPE=image/jpeg:https://soberafe.com/wp-content/uploads/2024/11/18-09-29-Recovery-Fest-2018-@-McCoy-Stadium-Pawtucket-RI-Large-copy-Medium-QdIakp.tmp_.jpg
END:VEVENT
BEGIN:VEVENT
DTSTART;TZID=UTC:20180929T160000
DTEND;TZID=UTC:20180929T200000
DTSTAMP:20260421T164355
CREATED:20241125T164131Z
LAST-MODIFIED:20241125T164131Z
UID:931-1538236800-1538251200@soberafe.com
SUMMARY:UCLA Bruins vs. Colorado Buffaloes @ Folsom Field (Boulder - CO)
DESCRIPTION:
URL:https://soberafe.com/event/ucla-bruins-vs-colorado-buffaloes-folsom-field-boulder-co/
LOCATION:Folsom Field\, 2095 Colorado Avenue\, Boulder\, Colorado\, 80309\, United States
CATEGORIES:Sports (College)
ATTACH;FMTTYPE=image/jpeg:https://soberafe.com/wp-content/uploads/2024/11/18-09-29-UCLA-Bruins-vs.-Colorado-Buffaloes-@-Folsom-Field-Boulder-CO-Large-copy-Medium-umD2wT.tmp_.jpg
END:VEVENT
BEGIN:VEVENT
DTSTART;TZID=UTC:20180922T160000
DTEND;TZID=UTC:20180922T200000
DTSTAMP:20260421T164355
CREATED:20241125T164130Z
LAST-MODIFIED:20241125T164130Z
UID:930-1537632000-1537646400@soberafe.com
SUMMARY:Nebraska Cornhuskers vs. Michigan Wolverines @ Michigan Stadium (Ann Arbor - MI)
DESCRIPTION:
URL:https://soberafe.com/event/nebraska-cornhuskers-vs-michigan-wolverines-michigan-stadium-ann-arbor-mi/
LOCATION:Michigan Stadium\, 1201 South Main Street\, Ann Arbor\, Michigan\, 48104\, United States
CATEGORIES:Sports (College)
ATTACH;FMTTYPE=image/png:https://soberafe.com/wp-content/uploads/2024/11/SAFE-LOGO-SINGLE-COLOR-KDTAe4.tmp_.png
END:VEVENT
BEGIN:VEVENT
DTSTART;TZID=UTC:20180914T160000
DTEND;TZID=UTC:20180916T200000
DTSTAMP:20260421T164355
CREATED:20241125T164128Z
LAST-MODIFIED:20241125T164128Z
UID:929-1536940800-1537128000@soberafe.com
SUMMARY:Grandoozy Music Festival 2018 @ Overland Pond Park (Denver - CO)
DESCRIPTION:
URL:https://soberafe.com/event/grandoozy-music-festival-2018-overland-pond-park-denver-co/
LOCATION:Overland Pond Park\, 800 South Platte River Drive West\, Denver\, Colorado\, 80223\, United States
CATEGORIES:Music/Arts Festivals
ATTACH;FMTTYPE=image/jpeg:https://soberafe.com/wp-content/uploads/2024/11/18-09-14-Grandoozy-Music-Festival-2018-@-Overland-Pond-Park-Denver-CO-Large-copy-Medium-RXLLw2.tmp_.jpg
END:VEVENT
END:VCALENDAR