BEGIN:VCALENDAR
VERSION:2.0
PRODID:-//SOBER AF ENTERTAINMENT - ECPv6.15.20//NONSGML v1.0//EN
CALSCALE:GREGORIAN
METHOD:PUBLISH
X-WR-CALNAME:SOBER AF ENTERTAINMENT
X-ORIGINAL-URL:https://soberafe.com
X-WR-CALDESC:Events for SOBER AF ENTERTAINMENT
REFRESH-INTERVAL;VALUE=DURATION:PT1H
X-Robots-Tag:noindex
X-PUBLISHED-TTL:PT1H
BEGIN:VTIMEZONE
TZID:UTC
BEGIN:STANDARD
TZOFFSETFROM:+0000
TZOFFSETTO:+0000
TZNAME:UTC
DTSTART:20200101T000000
END:STANDARD
END:VTIMEZONE
BEGIN:VEVENT
DTSTART;TZID=UTC:20211229T170000
DTEND;TZID=UTC:20211229T220000
DTSTAMP:20260421T054114
CREATED:20241125T164545Z
LAST-MODIFIED:20241125T164545Z
UID:1086-1640797200-1640815200@soberafe.com
SUMMARY:Dallas Stars vs. Colorado Avalanche @ Ball Arena (Denver - CO)
DESCRIPTION:
URL:https://soberafe.com/event/dallas-stars-vs-colorado-avalanche-ball-arena-denver-co/
LOCATION:Ball Arena\, 1000 Chopper Circle\, Denver\, Colorado\, 80204\, United States
CATEGORIES:Sports (Pro)
ATTACH;FMTTYPE=image/png:https://soberafe.com/wp-content/uploads/2024/11/SAFE-LOGO-SINGLE-COLOR-KDTAe4.tmp_.png
END:VEVENT
BEGIN:VEVENT
DTSTART;TZID=UTC:20211219T170000
DTEND;TZID=UTC:20211219T220000
DTSTAMP:20260421T054114
CREATED:20241125T164543Z
LAST-MODIFIED:20241125T164543Z
UID:1085-1639933200-1639951200@soberafe.com
SUMMARY:New York Jets vs. Miami Dolphins @ Hard Rock Stadium (Miami Gardens - FL)
DESCRIPTION:
URL:https://soberafe.com/event/new-york-jets-vs-miami-dolphins-hard-rock-stadium-miami-gardens-fl/
LOCATION:Hard Rock Stadium\, 347 Don Shula Dr\, Miami Gardens\, Florida\, 33056\, United States
CATEGORIES:Sports (Pro)
ATTACH;FMTTYPE=image/png:https://soberafe.com/wp-content/uploads/2024/11/SAFE-LOGO-SINGLE-COLOR-KDTAe4.tmp_.png
END:VEVENT
BEGIN:VEVENT
DTSTART;TZID=UTC:20211127T170000
DTEND;TZID=UTC:20211127T220000
DTSTAMP:20260421T054114
CREATED:20241125T164534Z
LAST-MODIFIED:20241125T164534Z
UID:1081-1638032400-1638050400@soberafe.com
SUMMARY:Arizona Wildcats vs. Arizona State Sun Devils @ Sun Devil Stadium (Tempe - AZ)
DESCRIPTION:
URL:https://soberafe.com/event/arizona-wildcats-vs-arizona-state-sun-devils-sun-devil-stadium-tempe-az/
LOCATION:Sun Devil Stadium\, 655 South Athletes Place\, Tempe\, Arizona\, 85281\, United States
CATEGORIES:Sports (College)
ATTACH;FMTTYPE=image/jpeg:https://soberafe.com/wp-content/uploads/2024/11/21-11-27-Arizona-Wildcats-vs.-Arizona-State-Sun-Devils-@-Sun-Devil-Stadium-Tempe-AZ-Large-copy-Medium-cToPQE.tmp_.jpg
END:VEVENT
BEGIN:VEVENT
DTSTART;TZID=UTC:20211114T170000
DTEND;TZID=UTC:20211114T220000
DTSTAMP:20260421T054114
CREATED:20241125T164533Z
LAST-MODIFIED:20241125T164533Z
UID:1079-1636909200-1636927200@soberafe.com
SUMMARY:Dallas Cowboys vs. Denver Broncos Watch Party @ King Center Dr & Barclay Dr (Franconia - VA)
DESCRIPTION:
URL:https://soberafe.com/event/dallas-cowboys-vs-denver-broncos-watch-party-king-center-dr-barclay-dr-franconia-va/
LOCATION:King Center Dr & Barclay Dr\, 5851 King Centre Drive\, Alexandria\, Virginia\, 22315\, United States
CATEGORIES:Movies/Watch Parties
ATTACH;FMTTYPE=image/jpeg:https://soberafe.com/wp-content/uploads/2024/11/21-11-14-Dallas-Cowboys-vs.-Denver-Broncos-Watch-Party-@-King-Center-Dr-Barclay-Dr-Franconia-VA-Large-copy-Medium-9d6Kwa.tmp_.jpg
END:VEVENT
BEGIN:VEVENT
DTSTART;TZID=UTC:20211113T170000
DTEND;TZID=UTC:20211113T220000
DTSTAMP:20260421T054114
CREATED:20241125T164531Z
LAST-MODIFIED:20241125T164531Z
UID:1077-1636822800-1636840800@soberafe.com
SUMMARY:Sober Cinema Movie Night @ Junction Community Church (Grand Junction - CO)
DESCRIPTION:
URL:https://soberafe.com/event/sober-cinema-movie-night-junction-community-church-grand-junction-co/
LOCATION:Junction Community Church\, 2867 Orchard Avenue\, Grand Junction\, Colorado\, 81501\, United States
CATEGORIES:Movies/Watch Parties
ATTACH;FMTTYPE=image/jpeg:https://soberafe.com/wp-content/uploads/2024/11/21-11-13-Sober-Cinema-Movie-Night-@-Junction-Community-Church-Grand-Junction-CO-Large-copy-Medium-DFQsra.tmp_.jpg
END:VEVENT
BEGIN:VEVENT
DTSTART;TZID=UTC:20211107T140000
DTEND;TZID=UTC:20211107T220000
DTSTAMP:20260421T054114
CREATED:20241125T164530Z
LAST-MODIFIED:20241125T164530Z
UID:1076-1636293600-1636322400@soberafe.com
SUMMARY:Dallas Cowboys vs. Denver Broncos Watch Party @ Advocates for Recovery Colorado (Denver - CO)
DESCRIPTION:
URL:https://soberafe.com/event/dallas-cowboys-vs-denver-broncos-watch-party-advocates-for-recovery-colorado-denver-co/
LOCATION:Advocates for Recovery Colorado\, 6981 Federal Boulevard\, Westminster\, Colorado\, 80221\, United States
CATEGORIES:Community Celebrations
ATTACH;FMTTYPE=image/jpeg:https://soberafe.com/wp-content/uploads/2024/11/21-11-07-Dallas-Cowboys-vs.-Denver-Broncos-Watch-Party-@-Advocates-for-Recovery-Colorado-Denver-CO-Large-copy-Medium-4Qhz1c.tmp_.jpg
END:VEVENT
BEGIN:VEVENT
DTSTART;TZID=UTC:20211106T160000
DTEND;TZID=UTC:20211106T200000
DTSTAMP:20260421T054114
CREATED:20241125T164528Z
LAST-MODIFIED:20241125T164528Z
UID:1075-1636214400-1636228800@soberafe.com
SUMMARY:Baylor Bears vs. TCU Horned Frogs @ Amon G. Carter Stadium (Fort Worth - TX)
DESCRIPTION:
URL:https://soberafe.com/event/baylor-bears-vs-tcu-horned-frogs-amon-g-carter-stadium-fort-worth-tx/
LOCATION:Amon G. Carter Stadium\, 2850 Stadium Drive\, Fort Worth\, Texas\, 76109\, United States
CATEGORIES:Sports (College)
ATTACH;FMTTYPE=image/jpeg:https://soberafe.com/wp-content/uploads/2024/11/21-11-06-Baylor-Bears-vs.-TCU-Horned-Frogs-@-Amon-G.-Carter-Stadium-Fort-Worth-TX-Large-copy-Medium-aL6xIl.tmp_.jpg
END:VEVENT
BEGIN:VEVENT
DTSTART;TZID=UTC:20211030T160000
DTEND;TZID=UTC:20211030T200000
DTSTAMP:20260421T054114
CREATED:20241125T164519Z
LAST-MODIFIED:20241125T164519Z
UID:1072-1635609600-1635624000@soberafe.com
SUMMARY:Boise State Broncos vs. Colorado State Rams @ Canvas Stadium (Fort Collins - CO)
DESCRIPTION:
URL:https://soberafe.com/event/boise-state-broncos-vs-colorado-state-rams-canvas-stadium-fort-collins-co/
LOCATION:Canvas Stadium\, 751 West Pitkin Street\, Fort Collins\, Colorado\, 80523\, United States
CATEGORIES:Sports (College)
ATTACH;FMTTYPE=image/jpeg:https://soberafe.com/wp-content/uploads/2024/11/21-10-30-Boise-State-Broncos-vs.-Colorado-State-Rams-@-Canvas-Stadium-Fort-Collins-CO-Large-copy-Medium-hytR24.tmp_.jpg
END:VEVENT
BEGIN:VEVENT
DTSTART;TZID=UTC:20211030T160000
DTEND;TZID=UTC:20211030T200000
DTSTAMP:20260421T054114
CREATED:20241125T164517Z
LAST-MODIFIED:20241125T164517Z
UID:1070-1635609600-1635624000@soberafe.com
SUMMARY:Michigan Wolverines vs. Michigan State Spartans @ Spartan Stadium (East Lansing - MI)
DESCRIPTION:
URL:https://soberafe.com/event/michigan-wolverines-vs-michigan-state-spartans-spartan-stadium-east-lansing-mi/
LOCATION:Spartan Stadium\, 325 West Shaw Lane\, East Lansing\, Michigan\, 48824\, United States
CATEGORIES:Sports (College)
ATTACH;FMTTYPE=image/jpeg:https://soberafe.com/wp-content/uploads/2024/11/21-10-30-Michigan-Wolverines-vs.-Michigan-State-Spartans-@-Spartan-Stadium-East-Lansing-MI-Large-copy-Medium-VfE7wB.tmp_.jpg
END:VEVENT
BEGIN:VEVENT
DTSTART;TZID=UTC:20211016T160000
DTEND;TZID=UTC:20211016T200000
DTSTAMP:20260421T054114
CREATED:20241125T164516Z
LAST-MODIFIED:20241125T164516Z
UID:1068-1634400000-1634414400@soberafe.com
SUMMARY:Fun Run Fundraiser with Addict II Athlete @ Rawlings Field (Pueblo - CO)
DESCRIPTION:
URL:https://soberafe.com/event/fun-run-fundraiser-with-addict-ii-athlete-rawlings-field-pueblo-co/
LOCATION:Rawlings Field\, Bartley Boulevard\, Pueblo\, Colorado\, 81001\, United States
CATEGORIES:Charity Event/Fundraisers
ATTACH;FMTTYPE=image/png:https://soberafe.com/wp-content/uploads/2024/11/SAFE-LOGO-SINGLE-COLOR-KDTAe4.tmp_.png
END:VEVENT
BEGIN:VEVENT
DTSTART;TZID=UTC:20211009T160000
DTEND;TZID=UTC:20211009T200000
DTSTAMP:20260421T054114
CREATED:20241125T164515Z
LAST-MODIFIED:20241125T164515Z
UID:1067-1633795200-1633809600@soberafe.com
SUMMARY:Alabama Crimson Tide vs. Texas A&M Aggies @ Kyle Field (College Station - TX)
DESCRIPTION:
URL:https://soberafe.com/event/alabama-crimson-tide-vs-texas-am-aggies-kyle-field-college-station-tx/
LOCATION:Kyle Field\, 1264 Texas a and M Univ\, College Station\, Texas\, 77843\, United States
CATEGORIES:Sports (College)
ATTACH;FMTTYPE=image/jpeg:https://soberafe.com/wp-content/uploads/2024/11/21-10-09-Alabama-Crimson-Tide-vs.-Texas-AM-Aggies-@-Kyle-Field-College-Station-TX-Large-copy-Medium-WHnkDA.tmp_.jpg
END:VEVENT
BEGIN:VEVENT
DTSTART;TZID=UTC:20211002T160000
DTEND;TZID=UTC:20211002T200000
DTSTAMP:20260421T054114
CREATED:20241125T164513Z
LAST-MODIFIED:20241125T164513Z
UID:1066-1633190400-1633204800@soberafe.com
SUMMARY:USC Trojans vs. Colorado Buffaloes @ Folsom Field (Boulder - CO)
DESCRIPTION:
URL:https://soberafe.com/event/usc-trojans-vs-colorado-buffaloes-folsom-field-boulder-co-2/
LOCATION:Folsom Field\, 2095 Colorado Avenue\, Boulder\, Colorado\, 80309\, United States
CATEGORIES:Sports (College)
ATTACH;FMTTYPE=image/jpeg:https://soberafe.com/wp-content/uploads/2024/11/21-10-02-USC-Trojans-vs.-Colorado-Buffaloes-@-Folsom-Field-Boulder-CO-Large-copy-Medium-nnM65i.tmp_.jpg
END:VEVENT
BEGIN:VEVENT
DTSTART;TZID=UTC:20211002T160000
DTEND;TZID=UTC:20211002T200000
DTSTAMP:20260421T054114
CREATED:20241125T164505Z
LAST-MODIFIED:20241125T164505Z
UID:1064-1633190400-1633204800@soberafe.com
SUMMARY:Harvard Crimson vs. Holy Cross Crusaders @ Fitton Field (Worcester - MA)
DESCRIPTION:
URL:https://soberafe.com/event/harvard-crimson-vs-holy-cross-crusaders-fitton-field-worcester-ma/
LOCATION:Fitton Field\, Fitton Avenue\, Worcester\, Massachusetts\, 01610\, United States
CATEGORIES:Sports (College)
ATTACH;FMTTYPE=image/jpeg:https://soberafe.com/wp-content/uploads/2024/11/21-10-02-Harvard-Crimson-vs.-Holy-Cross-Crusaders-@-Fitton-Field-Worcester-MA-Large-copy-Medium-Mjplts.tmp_.jpg
END:VEVENT
BEGIN:VEVENT
DTSTART;TZID=UTC:20211001T160000
DTEND;TZID=UTC:20211001T200000
DTSTAMP:20260421T054114
CREATED:20241125T164504Z
LAST-MODIFIED:20241125T164504Z
UID:1062-1633104000-1633118400@soberafe.com
SUMMARY:S.AF.E's TopGolf Fundraiser @ TopGolf Denver (Centennial - CO)
DESCRIPTION:
URL:https://soberafe.com/event/s-af-es-topgolf-fundraiser-topgolf-denver-centennial-co/
LOCATION:TopGolf Denver\, 10601 East Easter Avenue\, Centennial\, Colorado\, 80112\, United States
CATEGORIES:Charity Event/Fundraisers
ATTACH;FMTTYPE=image/png:https://soberafe.com/wp-content/uploads/2024/11/SAFE-LOGO-SINGLE-COLOR-KDTAe4.tmp_.png
END:VEVENT
BEGIN:VEVENT
DTSTART;TZID=UTC:20210928T160000
DTEND;TZID=UTC:20210928T200000
DTSTAMP:20260421T054114
CREATED:20241125T164502Z
LAST-MODIFIED:20241125T164502Z
UID:1061-1632844800-1632859200@soberafe.com
SUMMARY:MCORG Conference 2021 @ Western Colorado Area Health (Grand Junction - CO)
DESCRIPTION:
URL:https://soberafe.com/event/mcorg-conference-2021-western-colorado-area-health-grand-junction-co/
LOCATION:Western Colorado Area Health\, 2938 North Avenue\, Grand Junction\, Colorado\, 81504\, United States
CATEGORIES:Conferences/Industry Meetings
ATTACH;FMTTYPE=image/png:https://soberafe.com/wp-content/uploads/2024/11/SAFE-LOGO-SINGLE-COLOR-KDTAe4.tmp_.png
END:VEVENT
BEGIN:VEVENT
DTSTART;TZID=UTC:20210925T160000
DTEND;TZID=UTC:20210925T200000
DTSTAMP:20260421T054114
CREATED:20241125T164501Z
LAST-MODIFIED:20241125T164501Z
UID:1060-1632585600-1632600000@soberafe.com
SUMMARY:Georgia Bulldogs vs. Vanderbilt Commodores @ FirstBank Stadium (Nashville - TN)
DESCRIPTION:
URL:https://soberafe.com/event/georgia-bulldogs-vs-vanderbilt-commodores-firstbank-stadium-nashville-tn/
LOCATION:FirstBank Stadium\, 210 Natchez Trace\, Nashville\, Tennessee\, 37212\, United States
CATEGORIES:Sports (College)
ATTACH;FMTTYPE=image/jpeg:https://soberafe.com/wp-content/uploads/2024/11/21-09-25-Georgia-Bulldogs-vs.-Vanderbilt-Commodores-@-FirstBank-Stadium-Nashville-TN-Large-copy-Medium-b2Pjpo.tmp_.jpg
END:VEVENT
BEGIN:VEVENT
DTSTART;TZID=UTC:20210917T160000
DTEND;TZID=UTC:20210917T200000
DTSTAMP:20260421T054114
CREATED:20241125T164458Z
LAST-MODIFIED:20241125T164458Z
UID:1059-1631894400-1631908800@soberafe.com
SUMMARY:Lee Brice @ Weidner Field (Colorado Springs - CO)
DESCRIPTION:
URL:https://soberafe.com/event/lee-brice-weidner-field-colorado-springs-co/
LOCATION:Weidner Field\, 111 West Cimarron Street\, Colorado Springs\, Colorado\, 80903\, United States
CATEGORIES:Concerts
ATTACH;FMTTYPE=image/png:https://soberafe.com/wp-content/uploads/2024/11/SAFE-LOGO-SINGLE-COLOR-KDTAe4.tmp_.png
END:VEVENT
BEGIN:VEVENT
DTSTART;TZID=UTC:20210915T160000
DTEND;TZID=UTC:20210915T200000
DTSTAMP:20260421T054114
CREATED:20241125T164449Z
LAST-MODIFIED:20241125T164449Z
UID:1055-1631721600-1631736000@soberafe.com
SUMMARY:El Paso Locomotive FC vs. Colorado Springs Switchbacks FC @ Weidner Field (Colorado Springs - CO)
DESCRIPTION:
URL:https://soberafe.com/event/el-paso-locomotive-fc-vs-colorado-springs-switchbacks-fc-weidner-field-colorado-springs-co/
LOCATION:Weidner Field\, 111 West Cimarron Street\, Colorado Springs\, Colorado\, 80903\, United States
CATEGORIES:Sports (Pro)
ATTACH;FMTTYPE=image/jpeg:https://soberafe.com/wp-content/uploads/2024/11/21-09-15-El-Paso-Locomotive-FC-vs.-Colorado-Springs-Switchbacks-FC-@-Weidner-Field-Colorado-Springs-CO-Large-copy-Medium-MTSNb3.tmp_.jpg
END:VEVENT
BEGIN:VEVENT
DTSTART;TZID=UTC:20210905T160000
DTEND;TZID=UTC:20210905T200000
DTSTAMP:20260421T054114
CREATED:20241125T164448Z
LAST-MODIFIED:20241125T164448Z
UID:1054-1630857600-1630872000@soberafe.com
SUMMARY:Notre Dame Fighting Irish vs. Florida State Seminoles @ Doak S. Campbell Stadium (Tallahassee - FL)
DESCRIPTION:
URL:https://soberafe.com/event/notre-dame-fighting-irish-vs-florida-state-seminoles-doak-s-campbell-stadium-tallahassee-fl/
LOCATION:Doak S. Campbell Stadium\, 282 Champions Way\, Tallahassee\, Florida\, 32306\, United States
CATEGORIES:Sports (College)
ATTACH;FMTTYPE=image/jpeg:https://soberafe.com/wp-content/uploads/2024/11/21-09-05-Notre-Dame-Fighting-Irish-vs.-Florida-State-Seminoles-@-Doak-S.-Campbell-Stadium-Tallahassee-FL-Large-copy-Medium-hE7u6o.tmp_.jpg
END:VEVENT
BEGIN:VEVENT
DTSTART;TZID=UTC:20210903T160000
DTEND;TZID=UTC:20210903T200000
DTSTAMP:20260421T054114
CREATED:20241125T164446Z
LAST-MODIFIED:20241125T164446Z
UID:1052-1630684800-1630699200@soberafe.com
SUMMARY:North Carolina Tar Heels vs. Virginia Tech Hokies @ Lane Stadium (Blacksburg - VA)
DESCRIPTION:
URL:https://soberafe.com/event/north-carolina-tar-heels-vs-virginia-tech-hokies-lane-stadium-blacksburg-va/
LOCATION:Lane Stadium\, 185 Beamer Way\, Blacksburg\, Virginia\, 24060\, United States
CATEGORIES:Sports (College)
ATTACH;FMTTYPE=image/jpeg:https://soberafe.com/wp-content/uploads/2024/11/21-09-03-North-Carolina-Tar-Heels-vs.-Virginia-Tech-Hokies-@-Lane-Stadium-Blacksburg-VA-Large-copy-Medium-thm0IF.tmp_.jpg
END:VEVENT
BEGIN:VEVENT
DTSTART;TZID=UTC:20210831T160000
DTEND;TZID=UTC:20210831T200000
DTSTAMP:20260421T054114
CREATED:20241125T164445Z
LAST-MODIFIED:20241125T164445Z
UID:1051-1630425600-1630440000@soberafe.com
SUMMARY:CMU International Overdose Awareness Day Tribute @ Colorado Mesa University (Grand Junction - CO)
DESCRIPTION:
URL:https://soberafe.com/event/cmu-international-overdose-awareness-day-tribute-colorado-mesa-university-grand-junction-co/
LOCATION:Colorado Mesa University\, 1100 North Ave\, Grand Junction\, Colorado\, 81501\, United States
CATEGORIES:Community Celebrations
ATTACH;FMTTYPE=image/png:https://soberafe.com/wp-content/uploads/2024/11/SAFE-LOGO-SINGLE-COLOR-KDTAe4.tmp_.png
END:VEVENT
BEGIN:VEVENT
DTSTART;TZID=UTC:20210822T160000
DTEND;TZID=UTC:20210822T200000
DTSTAMP:20260421T054114
CREATED:20241125T164443Z
LAST-MODIFIED:20241125T164443Z
UID:1050-1629648000-1629662400@soberafe.com
SUMMARY:S.AF.E's 2021 International Overdose Awareness Day Game with The Colorado Rockies @ Coors Field (Denver - CO)
DESCRIPTION:
URL:https://soberafe.com/event/s-af-es-2021-international-overdose-awareness-day-game-with-the-colorado-rockies-coors-field-denver-co/
LOCATION:Coors Field\, 2195 Blake Street\, Denver\, Colorado\, 80205\, United States
CATEGORIES:Sports (Pro)
ATTACH;FMTTYPE=image/jpeg:https://soberafe.com/wp-content/uploads/2024/11/21-08-22-S.AF_.Es-2021-International-Overdose-Awareness-Day-Game-with-The-Colorado-Rockies-@-Coors-Field-Denver-CO-Large-copy-Medium-kDImuj.tmp_.jpg
END:VEVENT
BEGIN:VEVENT
DTSTART;TZID=UTC:20210806T160000
DTEND;TZID=UTC:20210806T200000
DTSTAMP:20260421T054114
CREATED:20241125T164433Z
LAST-MODIFIED:20241125T164433Z
UID:1047-1628265600-1628280000@soberafe.com
SUMMARY:Summertime Sober BBQ @ BHG Longmont Treatment Center (Longmont - CO)
DESCRIPTION:
URL:https://soberafe.com/event/summertime-sober-bbq-bhg-longmont-treatment-center-longmont-co/
LOCATION:BHG Longmont Treatment Center\, 850 23rd Avenue\, Longmont\, Colorado\, 80501\, United States
CATEGORIES:Community Celebrations
ATTACH;FMTTYPE=image/png:https://soberafe.com/wp-content/uploads/2024/11/SAFE-LOGO-SINGLE-COLOR-KDTAe4.tmp_.png
END:VEVENT
BEGIN:VEVENT
DTSTART;TZID=UTC:20210723T160000
DTEND;TZID=UTC:20210724T200000
DTSTAMP:20260421T054114
CREATED:20241125T164432Z
LAST-MODIFIED:20241125T164432Z
UID:1045-1627056000-1627156800@soberafe.com
SUMMARY:Global Dance Music Festival 2021 @ Empower Field at Mile High (Denver - CO)
DESCRIPTION:
URL:https://soberafe.com/event/global-dance-music-festival-2021-empower-field-at-mile-high-denver-co/
LOCATION:Empower Field at Mile High\, 1801 Mile High Stadium Circle\, Denver\, Colorado\, 80204\, United States
CATEGORIES:Music/Arts Festivals
ATTACH;FMTTYPE=image/jpeg:https://soberafe.com/wp-content/uploads/2024/11/21-07-23-Global-Dance-Music-Festival-2021-@-Empower-Field-at-Mile-High-Denver-CO-Large-copy-Medium-MT4sLh.tmp_.jpg
END:VEVENT
BEGIN:VEVENT
DTSTART;TZID=UTC:20210710T160000
DTEND;TZID=UTC:20210711T200000
DTSTAMP:20260421T054114
CREATED:20241125T164431Z
LAST-MODIFIED:20241125T164431Z
UID:1043-1625932800-1626033600@soberafe.com
SUMMARY:This Is Pueblo Not LA Music Festival 2021 @ The Grind Haus CAFE (Pueblo - CO)
DESCRIPTION:
URL:https://soberafe.com/event/this-is-pueblo-not-la-music-festival-2021-the-grind-haus-cafe-pueblo-co/
LOCATION:The Grind Haus CAFE\, 209 South Union Avenue\, Pueblo\, Colorado\, 81003\, United States
CATEGORIES:Music/Arts Festivals
ATTACH;FMTTYPE=image/jpeg:https://soberafe.com/wp-content/uploads/2024/11/21-07-10-This-Is-Pueblo-Not-LA-Music-Festival-2021-@-The-Grind-Haus-CAFE-Pueblo-CO-Large-copy-Medium-JPATDU.tmp_.jpg
END:VEVENT
BEGIN:VEVENT
DTSTART;TZID=UTC:20210624T160000
DTEND;TZID=UTC:20210626T200000
DTSTAMP:20260421T054114
CREATED:20241125T164430Z
LAST-MODIFIED:20241125T164430Z
UID:1042-1624550400-1624737600@soberafe.com
SUMMARY:Country Jam 2021 @ Winstock Festival Grounds (Grand Junction - CO)
DESCRIPTION:
URL:https://soberafe.com/event/country-jam-2021-winstock-festival-grounds-grand-junction-co/
LOCATION:Winstock Festival Grounds\, 1345 North Avenue\, Grand Junction\, Colorado\, 81501\, United States
CATEGORIES:Music/Arts Festivals
ATTACH;FMTTYPE=image/jpeg:https://soberafe.com/wp-content/uploads/2024/11/21-06-24-Country-Jam-2021-@-Winstock-Festival-Grounds-Grand-Junction-CO-Large-copy-Medium-c4cfNw.tmp_.jpg
END:VEVENT
BEGIN:VEVENT
DTSTART;TZID=UTC:20210618T160000
DTEND;TZID=UTC:20210618T200000
DTSTAMP:20260421T054114
CREATED:20241125T164428Z
LAST-MODIFIED:20241125T164428Z
UID:1041-1624032000-1624046400@soberafe.com
SUMMARY:S.AF.E's 2021 Recovery Appreciation & Juneteenth Celebration Game with The Colorado Rockies @ Coors Field (Denver - CO)
DESCRIPTION:
URL:https://soberafe.com/event/s-af-es-2021-recovery-appreciation-juneteenth-celebration-game-with-the-colorado-rockies-coors-field-denver-co/
LOCATION:Coors Field\, 2195 Blake Street\, Denver\, Colorado\, 80205\, United States
CATEGORIES:Sports (Pro)
ATTACH;FMTTYPE=image/jpeg:https://soberafe.com/wp-content/uploads/2024/11/21-06-18-S.AF_.Es-2021-Recovery-Appreciation-Juneteenth-Celebration-Game-with-The-Colorado-Rockies-@-Coors-Field-Denver-CO-Large-copy-Medium-3OxavR.tmp_.jpg
END:VEVENT
BEGIN:VEVENT
DTSTART;TZID=UTC:20210522T160000
DTEND;TZID=UTC:20210522T200000
DTSTAMP:20260421T054114
CREATED:20241125T164419Z
LAST-MODIFIED:20241125T164419Z
UID:1038-1621699200-1621713600@soberafe.com
SUMMARY:Recovery Community BBQ with BHG @ BHG Longmont Treatment Center (Longmont - CO)
DESCRIPTION:
URL:https://soberafe.com/event/recovery-community-bbq-with-bhg-bhg-longmont-treatment-center-longmont-co/
LOCATION:BHG Longmont Treatment Center\, 850 23rd Avenue\, Longmont\, Colorado\, 80501\, United States
CATEGORIES:Community Celebrations
ATTACH;FMTTYPE=image/jpeg:https://soberafe.com/wp-content/uploads/2024/11/21-05-22-Recovery-Community-BBQ-with-BHG-@-BHG-Longmont-Treatment-Center-Longmont-CO-Large-copy-Medium-cXhMau.tmp_.jpg
END:VEVENT
BEGIN:VEVENT
DTSTART;TZID=UTC:20210507T160000
DTEND;TZID=UTC:20210508T200000
DTSTAMP:20260421T054114
CREATED:20241125T164417Z
LAST-MODIFIED:20241125T164417Z
UID:1036-1620403200-1620504000@soberafe.com
SUMMARY:Monster Outbreak Tour with Subtronics 2021 @ Terry Bison Ranch Resort (Cheyenne - WY)
DESCRIPTION:
URL:https://soberafe.com/event/monster-outbreak-tour-with-subtronics-2021-terry-bison-ranch-resort-cheyenne-wy/
LOCATION:Terry Bison Ranch Resort\, 51 Dwight D. Eisenhower Highway\, Cheyenne\, Wyoming\, 82007\, United States
CATEGORIES:Music/Arts Festivals
ATTACH;FMTTYPE=image/jpeg:https://soberafe.com/wp-content/uploads/2024/11/21-05-07-Monster-Outbreak-Tour-with-Subtronics-2021-@-Terry-Bison-Ranch-Resort-Cheyenne-WY-Large-copy-Medium-etsAgA.tmp_.jpg
END:VEVENT
BEGIN:VEVENT
DTSTART;TZID=UTC:20210420T160000
DTEND;TZID=UTC:20210420T200000
DTSTAMP:20260421T054114
CREATED:20241125T164416Z
LAST-MODIFIED:20241125T164416Z
UID:1034-1618934400-1618948800@soberafe.com
SUMMARY:Pueblo Recovery Leaders Summit Pt. 2 @ Cinemark Tinseltown Pueblo (Pueblo - CO)
DESCRIPTION:
URL:https://soberafe.com/event/pueblo-recovery-leaders-summit-pt-2-cinemark-tinseltown-pueblo-pueblo-co/
LOCATION:Cinemark Tinseltown Pueblo\, 4140 North Freeway Frontage Road\, Pueblo\, Colorado\, 81008\, United States
CATEGORIES:Movies/Watch Parties
ATTACH;FMTTYPE=image/png:https://soberafe.com/wp-content/uploads/2024/11/SAFE-LOGO-SINGLE-COLOR-KDTAe4.tmp_.png
END:VEVENT
END:VCALENDAR