BEGIN:VCALENDAR
VERSION:2.0
PRODID:-//SOBER AF ENTERTAINMENT - ECPv6.15.20//NONSGML v1.0//EN
CALSCALE:GREGORIAN
METHOD:PUBLISH
X-WR-CALNAME:SOBER AF ENTERTAINMENT
X-ORIGINAL-URL:https://soberafe.com
X-WR-CALDESC:Events for SOBER AF ENTERTAINMENT
REFRESH-INTERVAL;VALUE=DURATION:PT1H
X-Robots-Tag:noindex
X-PUBLISHED-TTL:PT1H
BEGIN:VTIMEZONE
TZID:UTC
BEGIN:STANDARD
TZOFFSETFROM:+0000
TZOFFSETTO:+0000
TZNAME:UTC
DTSTART:20210101T000000
END:STANDARD
END:VTIMEZONE
BEGIN:VEVENT
DTSTART;TZID=UTC:20220928T160000
DTEND;TZID=UTC:20220928T200000
DTSTAMP:20260420T220613
CREATED:20241125T164745Z
LAST-MODIFIED:20241125T164745Z
UID:1142-1664380800-1664395200@soberafe.com
SUMMARY:Movie Night with CMU Psychology Club & MCORG @ University Center Ballroom at Colorado Mesa University (Grand Junction - CO)
DESCRIPTION:
URL:https://soberafe.com/event/movie-night-with-cmu-psychology-club-mcorg-university-center-ballroom-at-colorado-mesa-university-grand-junction-co/
LOCATION:University Center Ballroom at Colorado Mesa University\, 1100 North Ave\, Grand Junction\, Colorado\, 81501\, United States
CATEGORIES:Movies/Watch Parties
ATTACH;FMTTYPE=image/png:https://soberafe.com/wp-content/uploads/2024/11/SAFE-LOGO-SINGLE-COLOR-KDTAe4.tmp_.png
END:VEVENT
BEGIN:VEVENT
DTSTART;TZID=UTC:20220924T160000
DTEND;TZID=UTC:20220924T200000
DTSTAMP:20260420T220613
CREATED:20241125T164743Z
LAST-MODIFIED:20241125T164743Z
UID:1141-1664035200-1664049600@soberafe.com
SUMMARY:UCLA Bruins vs. Colorado Buffaloes @ Folsom Field (Boulder - CO)
DESCRIPTION:
URL:https://soberafe.com/event/ucla-bruins-vs-colorado-buffaloes-folsom-field-boulder-co-2/
LOCATION:Folsom Field\, 2095 Colorado Avenue\, Boulder\, Colorado\, 80309\, United States
CATEGORIES:Sports (College)
ATTACH;FMTTYPE=image/jpeg:https://soberafe.com/wp-content/uploads/2024/11/22-09-24-UCLA-Bruins-vs.-Colorado-Buffaloes-@-Folsom-Field-Boulder-CO-Large-copy-Medium-V1Qrg8.tmp_.jpg
END:VEVENT
BEGIN:VEVENT
DTSTART;TZID=UTC:20220923T160000
DTEND;TZID=UTC:20220923T200000
DTSTAMP:20260420T220613
CREATED:20241125T164735Z
LAST-MODIFIED:20241125T164735Z
UID:1138-1663948800-1663963200@soberafe.com
SUMMARY:Silent Disco with Recovery Cafe & LCR @ Longmont Public Media (Longmont - CO)
DESCRIPTION:
URL:https://soberafe.com/event/silent-disco-with-recovery-cafe-lcr-longmont-public-media-longmont-co/
LOCATION:Longmont Public Media\, 457 4th Avenue\, Longmont\, Colorado\, 80501\, United States
CATEGORIES:Community Celebrations
ATTACH;FMTTYPE=image/png:https://soberafe.com/wp-content/uploads/2024/11/SAFE-LOGO-SINGLE-COLOR-KDTAe4.tmp_.png
END:VEVENT
BEGIN:VEVENT
DTSTART;TZID=UTC:20220922T160000
DTEND;TZID=UTC:20220922T200000
DTSTAMP:20260420T220613
CREATED:20241125T164733Z
LAST-MODIFIED:20241125T164733Z
UID:1136-1663862400-1663876800@soberafe.com
SUMMARY:Virginia Tech Hokies vs. West Virginia Mountaineers @ Mountaineer Field at Milan Puskar Stadium (Morgantown - WV)
DESCRIPTION:
URL:https://soberafe.com/event/virginia-tech-hokies-vs-west-virginia-mountaineers-mountaineer-field-at-milan-puskar-stadium-morgantown-wv/
LOCATION:Mountaineer Field at Milan Puskar Stadium\, 126 Mccullough Street\, Morgantown\, West Virginia\, 26505\, United States
CATEGORIES:Sports (College)
ATTACH;FMTTYPE=image/jpeg:https://soberafe.com/wp-content/uploads/2024/11/22-09-22-Virginia-Tech-Hokies-vs.-West-Virginia-Mountaineers-@-Mountaineer-Field-at-Milan-Puskar-Stadium-Morgantown-WV-Large-copy-Medium-XfbIQh.tmp_.jpg
END:VEVENT
BEGIN:VEVENT
DTSTART;TZID=UTC:20220915T160000
DTEND;TZID=UTC:20220918T200000
DTSTAMP:20260420T220613
CREATED:20241125T164732Z
LAST-MODIFIED:20241125T164732Z
UID:1135-1663257600-1663531200@soberafe.com
SUMMARY:Imagine Music Festival 2022 @ Kingston Downs (Rome - GA)
DESCRIPTION:
URL:https://soberafe.com/event/imagine-music-festival-2022-kingston-downs-rome-ga/
LOCATION:Kingston Downs\, 51 Gore Springs Road Southeast\, Kingston\, Georgia\, 30120\, United States
CATEGORIES:Music/Arts Festivals
ATTACH;FMTTYPE=image/jpeg:https://soberafe.com/wp-content/uploads/2024/11/22-09-15-Imagine-Music-Festival-2022-@-Kingston-Downs-Rome-GA-Large-copy-Medium-nVt5VT.tmp_.jpg
END:VEVENT
BEGIN:VEVENT
DTSTART;TZID=UTC:20220910T160000
DTEND;TZID=UTC:20220910T200000
DTSTAMP:20260420T220613
CREATED:20241125T164730Z
LAST-MODIFIED:20241125T164730Z
UID:1133-1662825600-1662840000@soberafe.com
SUMMARY:Alabama Crimson Tide vs. Texas Longhorns @ Darrell K Royal Texas Memorial Stadium (Austin - TX)
DESCRIPTION:
URL:https://soberafe.com/event/alabama-crimson-tide-vs-texas-longhorns-darrell-k-royal-texas-memorial-stadium-austin-tx/
LOCATION:Darrell K Royal Texas Memorial Stadium\, 2200 Robert Dedman Drive\, Austin\, Texas\, 78712\, United States
CATEGORIES:Sports (College)
ATTACH;FMTTYPE=image/jpeg:https://soberafe.com/wp-content/uploads/2024/11/22-09-10-Alabama-Crimson-Tide-vs.-Texas-Longhorns-@-Darrell-K-Royal-Texas-Memorial-Stadium-Austin-TX-Large-copy-Medium-36aSq5.tmp_.jpg
END:VEVENT
BEGIN:VEVENT
DTSTART;TZID=UTC:20220902T160000
DTEND;TZID=UTC:20220902T200000
DTSTAMP:20260420T220613
CREATED:20241125T164729Z
LAST-MODIFIED:20241125T164729Z
UID:1132-1662134400-1662148800@soberafe.com
SUMMARY:TCU Horned Frogs vs. Colorado Buffaloes @ Folsom Field (Boulder - CO)
DESCRIPTION:
URL:https://soberafe.com/event/tcu-horned-frogs-vs-colorado-buffaloes-folsom-field-boulder-co/
LOCATION:Folsom Field\, 2095 Colorado Avenue\, Boulder\, Colorado\, 80309\, United States
CATEGORIES:Sports (College)
ATTACH;FMTTYPE=image/jpeg:https://soberafe.com/wp-content/uploads/2024/11/22-09-02-TCU-Horned-Frogs-vs.-Colorado-Buffaloes-@-Folsom-Field-Boulder-CO-Large-copy-Medium-IM0Bfh.tmp_.jpg
END:VEVENT
BEGIN:VEVENT
DTSTART;TZID=UTC:20220831T160000
DTEND;TZID=UTC:20220831T200000
DTSTAMP:20260420T220613
CREATED:20241125T164719Z
LAST-MODIFIED:20241125T164719Z
UID:1129-1661961600-1661976000@soberafe.com
SUMMARY:S.AF.E's 2022 International Overdose Awareness Day Game with The New York Mets @ Citi Field (Queens - NY)
DESCRIPTION:
URL:https://soberafe.com/event/s-af-es-2022-international-overdose-awareness-day-game-with-the-new-york-mets-citi-field-queens-ny/
LOCATION:Citi Field\, 41 Seaver Way\, New York\, New York\, 11368\, United States
CATEGORIES:Sports (Pro)
ATTACH;FMTTYPE=image/jpeg:https://soberafe.com/wp-content/uploads/2024/11/22-08-31-S.AF_.Es-2022-International-Overdose-Awareness-Day-Game-with-The-New-York-Mets-@-Citi-Field-Queens-NY-Large-copy-Medium-2Mg4ma.tmp_.jpg
END:VEVENT
BEGIN:VEVENT
DTSTART;TZID=UTC:20220827T160000
DTEND;TZID=UTC:20220827T200000
DTSTAMP:20260420T220613
CREATED:20241125T164717Z
LAST-MODIFIED:20241125T164717Z
UID:1128-1661616000-1661630400@soberafe.com
SUMMARY:Shine Music Festival 2022 @ Civic Center Park (Denver - CO)
DESCRIPTION:
URL:https://soberafe.com/event/shine-music-festival-2022-civic-center-park-denver-co/
LOCATION:Civic Center Park\, 105 West 14th Avenue\, Denver\, Colorado\, 80202\, United States
CATEGORIES:Music/Arts Festivals
ATTACH;FMTTYPE=image/jpeg:https://soberafe.com/wp-content/uploads/2024/11/22-08-27-Shine-Music-Festival-2022-@-Civic-Center-Park-Denver-CO-Large-copy-Medium-VVAbVl.tmp_.jpg
END:VEVENT
BEGIN:VEVENT
DTSTART;TZID=UTC:20220825T160000
DTEND;TZID=UTC:20220904T200000
DTSTAMP:20260420T220613
CREATED:20241125T164716Z
LAST-MODIFIED:20241125T164716Z
UID:1127-1661443200-1662321600@soberafe.com
SUMMARY:Colorado State Fair 2022 RCO Network Booth @ Colorado State Fairgrounds (Pueblo - CO)
DESCRIPTION:
URL:https://soberafe.com/event/colorado-state-fair-2022-rco-network-booth-colorado-state-fairgrounds-pueblo-co/
LOCATION:Colorado State Fairgrounds\, Gate #5\, Pueblo\, Colorado\, 81004\, United States
CATEGORIES:Community Celebrations
ATTACH;FMTTYPE=image/png:https://soberafe.com/wp-content/uploads/2024/11/SAFE-LOGO-SINGLE-COLOR-KDTAe4.tmp_.png
END:VEVENT
BEGIN:VEVENT
DTSTART;TZID=UTC:20220816T160000
DTEND;TZID=UTC:20220816T200000
DTSTAMP:20260420T220613
CREATED:20241125T164715Z
LAST-MODIFIED:20241125T164715Z
UID:1126-1660665600-1660680000@soberafe.com
SUMMARY:Positive Recovery Celebration & DJ Party @ Pueblo Convention Center (Pueblo - CO)
DESCRIPTION:
URL:https://soberafe.com/event/positive-recovery-celebration-dj-party-pueblo-convention-center-pueblo-co/
LOCATION:Pueblo Convention Center\, 320 Central Main Street\, Pueblo\, Colorado\, 81003\, United States
CATEGORIES:Community Celebrations
ATTACH;FMTTYPE=image/png:https://soberafe.com/wp-content/uploads/2024/11/SAFE-LOGO-SINGLE-COLOR-KDTAe4.tmp_.png
END:VEVENT
BEGIN:VEVENT
DTSTART;TZID=UTC:20220805T160000
DTEND;TZID=UTC:20220805T200000
DTSTAMP:20260420T220613
CREATED:20241125T164713Z
LAST-MODIFIED:20241125T164713Z
UID:1125-1659715200-1659729600@soberafe.com
SUMMARY:Lindsey Lou @ Dillon Amphitheater (Dillon - CO)
DESCRIPTION:
URL:https://soberafe.com/event/lindsey-lou-dillon-amphitheater-dillon-co/
LOCATION:Dillon Amphitheater\, 135 Lodgepole Street\, Dillon\, Colorado\, 80435\, United States
CATEGORIES:Concerts
ATTACH;FMTTYPE=image/png:https://soberafe.com/wp-content/uploads/2024/11/SAFE-LOGO-SINGLE-COLOR-KDTAe4.tmp_.png
END:VEVENT
BEGIN:VEVENT
DTSTART;TZID=UTC:20220715T160000
DTEND;TZID=UTC:20220716T200000
DTSTAMP:20260420T220613
CREATED:20241125T164705Z
LAST-MODIFIED:20241125T164705Z
UID:1122-1657900800-1658001600@soberafe.com
SUMMARY:Global Dance 2022 @ Empower Field at Mile High (Denver - CO)
DESCRIPTION:
URL:https://soberafe.com/event/global-dance-2022-empower-field-at-mile-high-denver-co/
LOCATION:Empower Field at Mile High\, 1801 Mile High Stadium Circle\, Denver\, Colorado\, 80204\, United States
CATEGORIES:Music/Arts Festivals
ATTACH;FMTTYPE=image/jpeg:https://soberafe.com/wp-content/uploads/2024/11/22-07-15-Global-Dance-2022-@-Empower-Field-at-Mile-High-Denver-CO-Large-copy-Medium-I2Uxg7.tmp_.jpg
END:VEVENT
BEGIN:VEVENT
DTSTART;TZID=UTC:20220709T160000
DTEND;TZID=UTC:20220710T200000
DTSTAMP:20260420T220613
CREATED:20241125T164703Z
LAST-MODIFIED:20241125T164703Z
UID:1121-1657382400-1657483200@soberafe.com
SUMMARY:This Is Pueblo - Not LA 2022 @ The Grind Haus CAFE (Pueblo - CO)
DESCRIPTION:
URL:https://soberafe.com/event/this-is-pueblo-not-la-2022-the-grind-haus-cafe-pueblo-co/
LOCATION:The Grind Haus CAFE\, 209 South Union Avenue\, Pueblo\, Colorado\, 81003\, United States
CATEGORIES:Music/Arts Festivals
ATTACH;FMTTYPE=image/jpeg:https://soberafe.com/wp-content/uploads/2024/11/22-07-09-This-Is-Pueblo-Not-LA-2022-@-The-Grind-Haus-CAFE-Pueblo-CO-Large-copy-Medium-DhZTQW.tmp_.jpg
END:VEVENT
BEGIN:VEVENT
DTSTART;TZID=UTC:20220704T160000
DTEND;TZID=UTC:20220704T200000
DTSTAMP:20260420T220613
CREATED:20241125T164701Z
LAST-MODIFIED:20241125T164701Z
UID:1120-1656950400-1656964800@soberafe.com
SUMMARY:Recovery Community Center Grand Opening @ Peer 180 RCO (Grand Junction - CO)
DESCRIPTION:
URL:https://soberafe.com/event/recovery-community-center-grand-opening-peer-180-rco-grand-junction-co/
LOCATION:Peer 180 RCO\, 201 South Avenue\, Grand Junction\, Colorado\, 81501\, United States
CATEGORIES:Community Celebrations
ATTACH;FMTTYPE=image/png:https://soberafe.com/wp-content/uploads/2024/11/SAFE-LOGO-SINGLE-COLOR-KDTAe4.tmp_.png
END:VEVENT
BEGIN:VEVENT
DTSTART;TZID=UTC:20220701T160000
DTEND;TZID=UTC:20220701T200000
DTSTAMP:20260420T220613
CREATED:20241125T164700Z
LAST-MODIFIED:20241125T164700Z
UID:1119-1656691200-1656705600@soberafe.com
SUMMARY:Nacho Men @ Dillon Amphitheater (Dillon - CO)
DESCRIPTION:
URL:https://soberafe.com/event/nacho-men-dillon-amphitheater-dillon-co/
LOCATION:Dillon Amphitheater\, 135 Lodgepole Street\, Dillon\, Colorado\, 80435\, United States
CATEGORIES:Concerts
ATTACH;FMTTYPE=image/png:https://soberafe.com/wp-content/uploads/2024/11/SAFE-LOGO-SINGLE-COLOR-KDTAe4.tmp_.png
END:VEVENT
BEGIN:VEVENT
DTSTART;TZID=UTC:20220626T160000
DTEND;TZID=UTC:20220626T200000
DTSTAMP:20260420T220613
CREATED:20241125T164658Z
LAST-MODIFIED:20241125T164658Z
UID:1118-1656259200-1656273600@soberafe.com
SUMMARY:Ogden Raptors vs. Grand Junction Jackalopes @ Suplizio Field (Grand Junction - CO)
DESCRIPTION:
URL:https://soberafe.com/event/ogden-raptors-vs-grand-junction-jackalopes-suplizio-field-grand-junction-co/
LOCATION:Suplizio Field\, 1345 North Avenue\, Grand Junction\, Colorado\, 81501\, United States
CATEGORIES:Sports (Pro)
ATTACH;FMTTYPE=image/png:https://soberafe.com/wp-content/uploads/2024/11/SAFE-LOGO-SINGLE-COLOR-KDTAe4.tmp_.png
END:VEVENT
BEGIN:VEVENT
DTSTART;TZID=UTC:20220623T160000
DTEND;TZID=UTC:20220625T200000
DTSTAMP:20260420T220613
CREATED:20241125T164649Z
LAST-MODIFIED:20241125T164649Z
UID:1117-1656000000-1656187200@soberafe.com
SUMMARY:Country Jam 2022 @ Winstock Festival Grounds (Grand Junction - CO)
DESCRIPTION:
URL:https://soberafe.com/event/country-jam-2022-winstock-festival-grounds-grand-junction-co/
LOCATION:Winstock Festival Grounds\, 1345 North Avenue\, Grand Junction\, Colorado\, 81501\, United States
CATEGORIES:Music/Arts Festivals
ATTACH;FMTTYPE=image/png:https://soberafe.com/wp-content/uploads/2024/11/SAFE-LOGO-SINGLE-COLOR-KDTAe4.tmp_.png
END:VEVENT
BEGIN:VEVENT
DTSTART;TZID=UTC:20220618T160000
DTEND;TZID=UTC:20220618T200000
DTSTAMP:20260420T220613
CREATED:20241125T164647Z
LAST-MODIFIED:20241125T164647Z
UID:1116-1655568000-1655582400@soberafe.com
SUMMARY:S.AF.E's 2022 Recovery Appreciation Game with The Colorado Rockies @ Coors Field (Denver - CO)
DESCRIPTION:
URL:https://soberafe.com/event/s-af-es-2022-recovery-appreciation-game-with-the-colorado-rockies-coors-field-denver-co/
LOCATION:Coors Field\, 2195 Blake Street\, Denver\, Colorado\, 80205\, United States
CATEGORIES:Sports (Pro)
ATTACH;FMTTYPE=image/png:https://soberafe.com/wp-content/uploads/2024/11/SAFE-LOGO-SINGLE-COLOR-KDTAe4.tmp_.png
END:VEVENT
BEGIN:VEVENT
DTSTART;TZID=UTC:20220617T160000
DTEND;TZID=UTC:20220617T200000
DTSTAMP:20260420T220613
CREATED:20241125T164646Z
LAST-MODIFIED:20241125T164646Z
UID:1114-1655481600-1655496000@soberafe.com
SUMMARY:Dead & Co. @ Folsom Field (Boulder - CO)
DESCRIPTION:
URL:https://soberafe.com/event/dead-co-folsom-field-boulder-co-3/
LOCATION:Folsom Field\, 2095 Colorado Avenue\, Boulder\, Colorado\, 80309\, United States
CATEGORIES:Concerts
ATTACH;FMTTYPE=image/png:https://soberafe.com/wp-content/uploads/2024/11/SAFE-LOGO-SINGLE-COLOR-KDTAe4.tmp_.png
END:VEVENT
BEGIN:VEVENT
DTSTART;TZID=UTC:20220601T160000
DTEND;TZID=UTC:20220603T200000
DTSTAMP:20260420T220613
CREATED:20241125T164645Z
LAST-MODIFIED:20241125T164645Z
UID:1113-1654099200-1654286400@soberafe.com
SUMMARY:Shared Risk and Protective Factors Conference 2022 @ Keystone Conference Center (Dillon - CO)
DESCRIPTION:
URL:https://soberafe.com/event/shared-risk-and-protective-factors-conference-2022-keystone-conference-center-dillon-co/
LOCATION:Keystone Conference Center\, 633 Tennis Club Road\, Keystone\, Colorado\, 80435\, United States
CATEGORIES:Conferences/Industry Meetings
ATTACH;FMTTYPE=image/png:https://soberafe.com/wp-content/uploads/2024/11/SAFE-LOGO-SINGLE-COLOR-KDTAe4.tmp_.png
END:VEVENT
BEGIN:VEVENT
DTSTART;TZID=UTC:20220530T160000
DTEND;TZID=UTC:20220530T200000
DTSTAMP:20260420T220613
CREATED:20241125T164643Z
LAST-MODIFIED:20241125T164643Z
UID:1112-1653926400-1653940800@soberafe.com
SUMMARY:Boulder Boulder 2022 @ Walnut St & S 30th St (Philadelphia - PA)
DESCRIPTION:
URL:https://soberafe.com/event/boulder-boulder-2022-walnut-st-s-30th-st-philadelphia-pa/
LOCATION:Walnut St & S 30th St\, Lower South 30th Street\, Philadelphia\, Pennsylvania\, 19104\, United States
CATEGORIES:Charity Event/Fundraisers
ATTACH;FMTTYPE=image/jpeg:https://soberafe.com/wp-content/uploads/2024/11/22-05-30-Boulder-Boulder-2022-@-Walnut-St-S-30th-St-Philadelphia-PA-Large-copy-Medium-aXLRCd.tmp_.jpg
END:VEVENT
BEGIN:VEVENT
DTSTART;TZID=UTC:20220421T160000
DTEND;TZID=UTC:20220421T200000
DTSTAMP:20260420T220613
CREATED:20241125T164634Z
LAST-MODIFIED:20241125T164634Z
UID:1109-1650556800-1650571200@soberafe.com
SUMMARY:Detroit Red Wings vs. Florida Panthers @ Amerant Bank Arena (Sunrise - FL)
DESCRIPTION:
URL:https://soberafe.com/event/detroit-red-wings-vs-florida-panthers-amerant-bank-arena-sunrise-fl/
LOCATION:Amerant Bank Arena\, 1 Panther Pkwy\, Sunrise\, Florida\, 33323\, United States
CATEGORIES:Sports (Pro)
ATTACH;FMTTYPE=image/jpeg:https://soberafe.com/wp-content/uploads/2024/11/22-04-21-Detroit-Red-Wings-vs.-Florida-Panthers-@-Amerant-Bank-Arena-Sunrise-FL-Large-copy-Medium-f6W3Jt.tmp_.jpg
END:VEVENT
BEGIN:VEVENT
DTSTART;TZID=UTC:20220419T160000
DTEND;TZID=UTC:20220421T200000
DTSTAMP:20260420T220613
CREATED:20241125T164633Z
LAST-MODIFIED:20241125T164633Z
UID:1107-1650384000-1650571200@soberafe.com
SUMMARY:Rx Drug Abuse & Heroin Summit @ Georgia World Congress Center (Atlanta - GA)
DESCRIPTION:
URL:https://soberafe.com/event/rx-drug-abuse-heroin-summit-georgia-world-congress-center-atlanta-ga/
LOCATION:Georgia World Congress Center\, 192 Northside Drive Northwest\, Atlanta\, Georgia\, 30314\, United States
CATEGORIES:Conferences/Industry Meetings
ATTACH;FMTTYPE=image/png:https://soberafe.com/wp-content/uploads/2024/11/SAFE-LOGO-SINGLE-COLOR-KDTAe4.tmp_.png
END:VEVENT
BEGIN:VEVENT
DTSTART;TZID=UTC:20220416T160000
DTEND;TZID=UTC:20220416T200000
DTSTAMP:20260420T220613
CREATED:20241125T164631Z
LAST-MODIFIED:20241125T164631Z
UID:1106-1650124800-1650139200@soberafe.com
SUMMARY:Carolina Hurricanes vs. Colorado Avalanche @ Ball Arena (Denver - CO)
DESCRIPTION:
URL:https://soberafe.com/event/carolina-hurricanes-vs-colorado-avalanche-ball-arena-denver-co/
LOCATION:Ball Arena\, 1000 Chopper Circle\, Denver\, Colorado\, 80204\, United States
CATEGORIES:Sports (Pro)
ATTACH;FMTTYPE=image/jpeg:https://soberafe.com/wp-content/uploads/2024/11/22-04-16-Carolina-Hurricanes-vs.-Colorado-Avalanche-@-Ball-Arena-Denver-CO-Large-copy-Medium-nnvAOv.tmp_.jpg
END:VEVENT
BEGIN:VEVENT
DTSTART;TZID=UTC:20220318T160000
DTEND;TZID=UTC:20220318T200000
DTSTAMP:20260420T220613
CREATED:20241125T164630Z
LAST-MODIFIED:20241125T164630Z
UID:1105-1647619200-1647633600@soberafe.com
SUMMARY:Stockton Heat vs. Colorado Eagles @ Blue FCU Arena (Loveland - CO)
DESCRIPTION:
URL:https://soberafe.com/event/stockton-heat-vs-colorado-eagles-blue-fcu-arena-loveland-co/
LOCATION:Blue FCU Arena\, 5290 Arena Circle\, Loveland\, Colorado\, 80538\, United States
CATEGORIES:Sports (Pro)
ATTACH;FMTTYPE=image/jpeg:https://soberafe.com/wp-content/uploads/2024/11/22-03-18-Stockton-Heat-vs.-Colorado-Eagles-@-Blue-FCU-Arena-Loveland-CO-Large-copy-Medium-N6kuhY.tmp_.jpg
END:VEVENT
BEGIN:VEVENT
DTSTART;TZID=UTC:20220312T170000
DTEND;TZID=UTC:20220312T220000
DTSTAMP:20260420T220613
CREATED:20241125T164629Z
LAST-MODIFIED:20241125T164629Z
UID:1104-1647104400-1647122400@soberafe.com
SUMMARY:Project Sell Out @ CR23 Bombshelter (Pueblo - CO)
DESCRIPTION:
URL:https://soberafe.com/event/project-sell-out-cr23-bombshelter-pueblo-co/
LOCATION:CR23 Bombshelter\, 2271 Daniel Road\, Pueblo\, Colorado\, 81006\, United States
CATEGORIES:Concerts
ATTACH;FMTTYPE=image/png:https://soberafe.com/wp-content/uploads/2024/11/SAFE-LOGO-SINGLE-COLOR-KDTAe4.tmp_.png
END:VEVENT
BEGIN:VEVENT
DTSTART;TZID=UTC:20220312T170000
DTEND;TZID=UTC:20220312T220000
DTSTAMP:20260420T220613
CREATED:20241125T164619Z
LAST-MODIFIED:20241125T164619Z
UID:1102-1647104400-1647122400@soberafe.com
SUMMARY:Spring Into Sobriety Meeting @ University Center Ballroom at Colorado Mesa University (Grand Junction - CO)
DESCRIPTION:
URL:https://soberafe.com/event/spring-into-sobriety-meeting-university-center-ballroom-at-colorado-mesa-university-grand-junction-co/
LOCATION:University Center Ballroom at Colorado Mesa University\, 1100 North Ave\, Grand Junction\, Colorado\, 81501\, United States
CATEGORIES:Conferences/Industry Meetings
ATTACH;FMTTYPE=image/png:https://soberafe.com/wp-content/uploads/2024/11/SAFE-LOGO-SINGLE-COLOR-KDTAe4.tmp_.png
END:VEVENT
BEGIN:VEVENT
DTSTART;TZID=UTC:20220307T170000
DTEND;TZID=UTC:20220307T220000
DTSTAMP:20260420T220613
CREATED:20241125T164618Z
LAST-MODIFIED:20241125T164618Z
UID:1101-1646672400-1646690400@soberafe.com
SUMMARY:Golden State Warriors vs. Denver Nuggets @ Ball Arena (Denver - CO)
DESCRIPTION:
URL:https://soberafe.com/event/golden-state-warriors-vs-denver-nuggets-ball-arena-denver-co-2/
LOCATION:Ball Arena\, 1000 Chopper Circle\, Denver\, Colorado\, 80204\, United States
CATEGORIES:Sports (Pro)
ATTACH;FMTTYPE=image/jpeg:https://soberafe.com/wp-content/uploads/2024/11/22-03-07-Golden-State-Warriors-vs.-Denver-Nuggets-@-Ball-Arena-Denver-CO-Large-copy-Medium-a8KOfw.tmp_.jpg
END:VEVENT
BEGIN:VEVENT
DTSTART;TZID=UTC:20220305T170000
DTEND;TZID=UTC:20220305T220000
DTSTAMP:20260420T220613
CREATED:20241125T164616Z
LAST-MODIFIED:20241125T164616Z
UID:1099-1646499600-1646517600@soberafe.com
SUMMARY:Denver Pioneers vs. Colorado College Tigers @ Magness Arena (Denver - CO)
DESCRIPTION:
URL:https://soberafe.com/event/denver-pioneers-vs-colorado-college-tigers-magness-arena-denver-co/
LOCATION:Magness Arena\, 2250 East Jewell Avenue\, Denver\, Colorado\, 80210\, United States
CATEGORIES:Sports (College)
ATTACH;FMTTYPE=image/png:https://soberafe.com/wp-content/uploads/2024/11/SAFE-LOGO-SINGLE-COLOR-KDTAe4.tmp_.png
END:VEVENT
END:VCALENDAR