BEGIN:VCALENDAR
VERSION:2.0
PRODID:-//SOBER AF ENTERTAINMENT - ECPv6.15.20//NONSGML v1.0//EN
CALSCALE:GREGORIAN
METHOD:PUBLISH
X-ORIGINAL-URL:https://soberafe.com
X-WR-CALDESC:Events for SOBER AF ENTERTAINMENT
REFRESH-INTERVAL;VALUE=DURATION:PT1H
X-Robots-Tag:noindex
X-PUBLISHED-TTL:PT1H
BEGIN:VTIMEZONE
TZID:UTC
BEGIN:STANDARD
TZOFFSETFROM:+0000
TZOFFSETTO:+0000
TZNAME:UTC
DTSTART:20170101T000000
END:STANDARD
END:VTIMEZONE
BEGIN:VEVENT
DTSTART;TZID=UTC:20220831T160000
DTEND;TZID=UTC:20220831T200000
DTSTAMP:20260423T190438
CREATED:20241125T164719Z
LAST-MODIFIED:20241125T164719Z
UID:1129-1661961600-1661976000@soberafe.com
SUMMARY:S.AF.E's 2022 International Overdose Awareness Day Game with The New York Mets @ Citi Field (Queens - NY)
DESCRIPTION:
URL:https://soberafe.com/event/s-af-es-2022-international-overdose-awareness-day-game-with-the-new-york-mets-citi-field-queens-ny/
LOCATION:Citi Field\, 41 Seaver Way\, New York\, New York\, 11368\, United States
CATEGORIES:Sports (Pro)
ATTACH;FMTTYPE=image/jpeg:https://soberafe.com/wp-content/uploads/2024/11/22-08-31-S.AF_.Es-2022-International-Overdose-Awareness-Day-Game-with-The-New-York-Mets-@-Citi-Field-Queens-NY-Large-copy-Medium-2Mg4ma.tmp_.jpg
END:VEVENT
BEGIN:VEVENT
DTSTART;TZID=UTC:20220626T160000
DTEND;TZID=UTC:20220626T200000
DTSTAMP:20260423T190438
CREATED:20241125T164658Z
LAST-MODIFIED:20241125T164658Z
UID:1118-1656259200-1656273600@soberafe.com
SUMMARY:Ogden Raptors vs. Grand Junction Jackalopes @ Suplizio Field (Grand Junction - CO)
DESCRIPTION:
URL:https://soberafe.com/event/ogden-raptors-vs-grand-junction-jackalopes-suplizio-field-grand-junction-co/
LOCATION:Suplizio Field\, 1345 North Avenue\, Grand Junction\, Colorado\, 81501\, United States
CATEGORIES:Sports (Pro)
ATTACH;FMTTYPE=image/png:https://soberafe.com/wp-content/uploads/2024/11/SAFE-LOGO-SINGLE-COLOR-KDTAe4.tmp_.png
END:VEVENT
BEGIN:VEVENT
DTSTART;TZID=UTC:20220618T160000
DTEND;TZID=UTC:20220618T200000
DTSTAMP:20260423T190438
CREATED:20241125T164647Z
LAST-MODIFIED:20241125T164647Z
UID:1116-1655568000-1655582400@soberafe.com
SUMMARY:S.AF.E's 2022 Recovery Appreciation Game with The Colorado Rockies @ Coors Field (Denver - CO)
DESCRIPTION:
URL:https://soberafe.com/event/s-af-es-2022-recovery-appreciation-game-with-the-colorado-rockies-coors-field-denver-co/
LOCATION:Coors Field\, 2195 Blake Street\, Denver\, Colorado\, 80205\, United States
CATEGORIES:Sports (Pro)
ATTACH;FMTTYPE=image/png:https://soberafe.com/wp-content/uploads/2024/11/SAFE-LOGO-SINGLE-COLOR-KDTAe4.tmp_.png
END:VEVENT
BEGIN:VEVENT
DTSTART;TZID=UTC:20220421T160000
DTEND;TZID=UTC:20220421T200000
DTSTAMP:20260423T190438
CREATED:20241125T164634Z
LAST-MODIFIED:20241125T164634Z
UID:1109-1650556800-1650571200@soberafe.com
SUMMARY:Detroit Red Wings vs. Florida Panthers @ Amerant Bank Arena (Sunrise - FL)
DESCRIPTION:
URL:https://soberafe.com/event/detroit-red-wings-vs-florida-panthers-amerant-bank-arena-sunrise-fl/
LOCATION:Amerant Bank Arena\, 1 Panther Pkwy\, Sunrise\, Florida\, 33323\, United States
CATEGORIES:Sports (Pro)
ATTACH;FMTTYPE=image/jpeg:https://soberafe.com/wp-content/uploads/2024/11/22-04-21-Detroit-Red-Wings-vs.-Florida-Panthers-@-Amerant-Bank-Arena-Sunrise-FL-Large-copy-Medium-f6W3Jt.tmp_.jpg
END:VEVENT
BEGIN:VEVENT
DTSTART;TZID=UTC:20220416T160000
DTEND;TZID=UTC:20220416T200000
DTSTAMP:20260423T190438
CREATED:20241125T164631Z
LAST-MODIFIED:20241125T164631Z
UID:1106-1650124800-1650139200@soberafe.com
SUMMARY:Carolina Hurricanes vs. Colorado Avalanche @ Ball Arena (Denver - CO)
DESCRIPTION:
URL:https://soberafe.com/event/carolina-hurricanes-vs-colorado-avalanche-ball-arena-denver-co/
LOCATION:Ball Arena\, 1000 Chopper Circle\, Denver\, Colorado\, 80204\, United States
CATEGORIES:Sports (Pro)
ATTACH;FMTTYPE=image/jpeg:https://soberafe.com/wp-content/uploads/2024/11/22-04-16-Carolina-Hurricanes-vs.-Colorado-Avalanche-@-Ball-Arena-Denver-CO-Large-copy-Medium-nnvAOv.tmp_.jpg
END:VEVENT
BEGIN:VEVENT
DTSTART;TZID=UTC:20220318T160000
DTEND;TZID=UTC:20220318T200000
DTSTAMP:20260423T190438
CREATED:20241125T164630Z
LAST-MODIFIED:20241125T164630Z
UID:1105-1647619200-1647633600@soberafe.com
SUMMARY:Stockton Heat vs. Colorado Eagles @ Blue FCU Arena (Loveland - CO)
DESCRIPTION:
URL:https://soberafe.com/event/stockton-heat-vs-colorado-eagles-blue-fcu-arena-loveland-co/
LOCATION:Blue FCU Arena\, 5290 Arena Circle\, Loveland\, Colorado\, 80538\, United States
CATEGORIES:Sports (Pro)
ATTACH;FMTTYPE=image/jpeg:https://soberafe.com/wp-content/uploads/2024/11/22-03-18-Stockton-Heat-vs.-Colorado-Eagles-@-Blue-FCU-Arena-Loveland-CO-Large-copy-Medium-N6kuhY.tmp_.jpg
END:VEVENT
BEGIN:VEVENT
DTSTART;TZID=UTC:20220307T170000
DTEND;TZID=UTC:20220307T220000
DTSTAMP:20260423T190438
CREATED:20241125T164618Z
LAST-MODIFIED:20241125T164618Z
UID:1101-1646672400-1646690400@soberafe.com
SUMMARY:Golden State Warriors vs. Denver Nuggets @ Ball Arena (Denver - CO)
DESCRIPTION:
URL:https://soberafe.com/event/golden-state-warriors-vs-denver-nuggets-ball-arena-denver-co-2/
LOCATION:Ball Arena\, 1000 Chopper Circle\, Denver\, Colorado\, 80204\, United States
CATEGORIES:Sports (Pro)
ATTACH;FMTTYPE=image/jpeg:https://soberafe.com/wp-content/uploads/2024/11/22-03-07-Golden-State-Warriors-vs.-Denver-Nuggets-@-Ball-Arena-Denver-CO-Large-copy-Medium-a8KOfw.tmp_.jpg
END:VEVENT
BEGIN:VEVENT
DTSTART;TZID=UTC:20220215T170000
DTEND;TZID=UTC:20220215T220000
DTSTAMP:20260423T190438
CREATED:20241125T164613Z
LAST-MODIFIED:20241125T164613Z
UID:1097-1644944400-1644962400@soberafe.com
SUMMARY:Dallas Stars vs. Colorado Avalanche @ Ball Arena (Denver - CO)
DESCRIPTION:
URL:https://soberafe.com/event/dallas-stars-vs-colorado-avalanche-ball-arena-denver-co-2/
LOCATION:Ball Arena\, 1000 Chopper Circle\, Denver\, Colorado\, 80204\, United States
CATEGORIES:Sports (Pro)
ATTACH;FMTTYPE=image/jpeg:https://soberafe.com/wp-content/uploads/2024/11/22-02-15-Dallas-Stars-vs.-Colorado-Avalanche-@-Ball-Arena-Denver-CO-Large-copy-Medium-wAuILI.tmp_.jpg
END:VEVENT
BEGIN:VEVENT
DTSTART;TZID=UTC:20211230T170000
DTEND;TZID=UTC:20211230T220000
DTSTAMP:20260423T190438
CREATED:20241125T164546Z
LAST-MODIFIED:20241125T164546Z
UID:1087-1640883600-1640901600@soberafe.com
SUMMARY:Golden State Warriors vs. Denver Nuggets @ Ball Arena (Denver - CO)
DESCRIPTION:
URL:https://soberafe.com/event/golden-state-warriors-vs-denver-nuggets-ball-arena-denver-co/
LOCATION:Ball Arena\, 1000 Chopper Circle\, Denver\, Colorado\, 80204\, United States
CATEGORIES:Sports (Pro)
ATTACH;FMTTYPE=image/png:https://soberafe.com/wp-content/uploads/2024/11/SAFE-LOGO-SINGLE-COLOR-KDTAe4.tmp_.png
END:VEVENT
BEGIN:VEVENT
DTSTART;TZID=UTC:20211229T170000
DTEND;TZID=UTC:20211229T220000
DTSTAMP:20260423T190438
CREATED:20241125T164545Z
LAST-MODIFIED:20241125T164545Z
UID:1086-1640797200-1640815200@soberafe.com
SUMMARY:Dallas Stars vs. Colorado Avalanche @ Ball Arena (Denver - CO)
DESCRIPTION:
URL:https://soberafe.com/event/dallas-stars-vs-colorado-avalanche-ball-arena-denver-co/
LOCATION:Ball Arena\, 1000 Chopper Circle\, Denver\, Colorado\, 80204\, United States
CATEGORIES:Sports (Pro)
ATTACH;FMTTYPE=image/png:https://soberafe.com/wp-content/uploads/2024/11/SAFE-LOGO-SINGLE-COLOR-KDTAe4.tmp_.png
END:VEVENT
BEGIN:VEVENT
DTSTART;TZID=UTC:20211219T170000
DTEND;TZID=UTC:20211219T220000
DTSTAMP:20260423T190438
CREATED:20241125T164543Z
LAST-MODIFIED:20241125T164543Z
UID:1085-1639933200-1639951200@soberafe.com
SUMMARY:New York Jets vs. Miami Dolphins @ Hard Rock Stadium (Miami Gardens - FL)
DESCRIPTION:
URL:https://soberafe.com/event/new-york-jets-vs-miami-dolphins-hard-rock-stadium-miami-gardens-fl/
LOCATION:Hard Rock Stadium\, 347 Don Shula Dr\, Miami Gardens\, Florida\, 33056\, United States
CATEGORIES:Sports (Pro)
ATTACH;FMTTYPE=image/png:https://soberafe.com/wp-content/uploads/2024/11/SAFE-LOGO-SINGLE-COLOR-KDTAe4.tmp_.png
END:VEVENT
BEGIN:VEVENT
DTSTART;TZID=UTC:20210915T160000
DTEND;TZID=UTC:20210915T200000
DTSTAMP:20260423T190438
CREATED:20241125T164449Z
LAST-MODIFIED:20241125T164449Z
UID:1055-1631721600-1631736000@soberafe.com
SUMMARY:El Paso Locomotive FC vs. Colorado Springs Switchbacks FC @ Weidner Field (Colorado Springs - CO)
DESCRIPTION:
URL:https://soberafe.com/event/el-paso-locomotive-fc-vs-colorado-springs-switchbacks-fc-weidner-field-colorado-springs-co/
LOCATION:Weidner Field\, 111 West Cimarron Street\, Colorado Springs\, Colorado\, 80903\, United States
CATEGORIES:Sports (Pro)
ATTACH;FMTTYPE=image/jpeg:https://soberafe.com/wp-content/uploads/2024/11/21-09-15-El-Paso-Locomotive-FC-vs.-Colorado-Springs-Switchbacks-FC-@-Weidner-Field-Colorado-Springs-CO-Large-copy-Medium-MTSNb3.tmp_.jpg
END:VEVENT
BEGIN:VEVENT
DTSTART;TZID=UTC:20210822T160000
DTEND;TZID=UTC:20210822T200000
DTSTAMP:20260423T190438
CREATED:20241125T164443Z
LAST-MODIFIED:20241125T164443Z
UID:1050-1629648000-1629662400@soberafe.com
SUMMARY:S.AF.E's 2021 International Overdose Awareness Day Game with The Colorado Rockies @ Coors Field (Denver - CO)
DESCRIPTION:
URL:https://soberafe.com/event/s-af-es-2021-international-overdose-awareness-day-game-with-the-colorado-rockies-coors-field-denver-co/
LOCATION:Coors Field\, 2195 Blake Street\, Denver\, Colorado\, 80205\, United States
CATEGORIES:Sports (Pro)
ATTACH;FMTTYPE=image/jpeg:https://soberafe.com/wp-content/uploads/2024/11/21-08-22-S.AF_.Es-2021-International-Overdose-Awareness-Day-Game-with-The-Colorado-Rockies-@-Coors-Field-Denver-CO-Large-copy-Medium-kDImuj.tmp_.jpg
END:VEVENT
BEGIN:VEVENT
DTSTART;TZID=UTC:20210618T160000
DTEND;TZID=UTC:20210618T200000
DTSTAMP:20260423T190438
CREATED:20241125T164428Z
LAST-MODIFIED:20241125T164428Z
UID:1041-1624032000-1624046400@soberafe.com
SUMMARY:S.AF.E's 2021 Recovery Appreciation & Juneteenth Celebration Game with The Colorado Rockies @ Coors Field (Denver - CO)
DESCRIPTION:
URL:https://soberafe.com/event/s-af-es-2021-recovery-appreciation-juneteenth-celebration-game-with-the-colorado-rockies-coors-field-denver-co/
LOCATION:Coors Field\, 2195 Blake Street\, Denver\, Colorado\, 80205\, United States
CATEGORIES:Sports (Pro)
ATTACH;FMTTYPE=image/jpeg:https://soberafe.com/wp-content/uploads/2024/11/21-06-18-S.AF_.Es-2021-Recovery-Appreciation-Juneteenth-Celebration-Game-with-The-Colorado-Rockies-@-Coors-Field-Denver-CO-Large-copy-Medium-3OxavR.tmp_.jpg
END:VEVENT
BEGIN:VEVENT
DTSTART;TZID=UTC:20191231T170000
DTEND;TZID=UTC:20191231T220000
DTSTAMP:20260423T190438
CREATED:20241125T164317Z
LAST-MODIFIED:20241125T164317Z
UID:997-1577811600-1577829600@soberafe.com
SUMMARY:Winnipeg Jets vs. Colorado Avalanche @ Ball Arena (Denver - CO)
DESCRIPTION:
URL:https://soberafe.com/event/winnipeg-jets-vs-colorado-avalanche-ball-arena-denver-co/
LOCATION:Ball Arena\, 1000 Chopper Circle\, Denver\, Colorado\, 80204\, United States
CATEGORIES:Sports (Pro)
ATTACH;FMTTYPE=image/jpeg:https://soberafe.com/wp-content/uploads/2024/11/19-12-31-Winnipeg-Jets-vs.-Colorado-Avalanche-@-Ball-Arena-Denver-CO-Large-copy-Medium-Y8boD9.tmp_.jpg
END:VEVENT
BEGIN:VEVENT
DTSTART;TZID=UTC:20190817T160000
DTEND;TZID=UTC:20190817T200000
DTSTAMP:20260423T190438
CREATED:20241125T164243Z
LAST-MODIFIED:20241125T164243Z
UID:973-1566057600-1566072000@soberafe.com
SUMMARY:Miami Marlins vs. Colorado Rockies @ Coors Field (Denver - CO)
DESCRIPTION:
URL:https://soberafe.com/event/miami-marlins-vs-colorado-rockies-coors-field-denver-co-2/
LOCATION:Coors Field\, 2195 Blake Street\, Denver\, Colorado\, 80205\, United States
CATEGORIES:Sports (Pro)
ATTACH;FMTTYPE=image/jpeg:https://soberafe.com/wp-content/uploads/2024/11/19-08-17-Miami-Marlins-vs.-Colorado-Rockies-@-Coors-Field-Denver-CO-Large-copy-Medium-OkuGN2.tmp_.jpg
END:VEVENT
BEGIN:VEVENT
DTSTART;TZID=UTC:20190629T160000
DTEND;TZID=UTC:20190629T200000
DTSTAMP:20260423T190438
CREATED:20241125T164228Z
LAST-MODIFIED:20241125T164228Z
UID:965-1561824000-1561838400@soberafe.com
SUMMARY:Los Angeles Dodgers vs. Colorado Rockies @ Coors Field (Denver - CO)
DESCRIPTION:
URL:https://soberafe.com/event/los-angeles-dodgers-vs-colorado-rockies-coors-field-denver-co/
LOCATION:Coors Field\, 2195 Blake Street\, Denver\, Colorado\, 80205\, United States
CATEGORIES:Sports (Pro)
ATTACH;FMTTYPE=image/jpeg:https://soberafe.com/wp-content/uploads/2024/11/19-06-29-Los-Angeles-Dodgers-vs.-Colorado-Rockies-@-Coors-Field-Denver-CO-Large-copy-Medium-S8czjw.tmp_.jpg
END:VEVENT
BEGIN:VEVENT
DTSTART;TZID=UTC:20190317T160000
DTEND;TZID=UTC:20190317T200000
DTSTAMP:20260423T190438
CREATED:20241125T164216Z
LAST-MODIFIED:20241125T164216Z
UID:958-1552838400-1552852800@soberafe.com
SUMMARY:New Jersey Devils vs. Colorado Avalanche @ Ball Arena (Denver - CO)
DESCRIPTION:
URL:https://soberafe.com/event/new-jersey-devils-vs-colorado-avalanche-ball-arena-denver-co/
LOCATION:Ball Arena\, 1000 Chopper Circle\, Denver\, Colorado\, 80204\, United States
CATEGORIES:Sports (Pro)
ATTACH;FMTTYPE=image/jpeg:https://soberafe.com/wp-content/uploads/2024/11/19-03-17-New-Jersey-Devils-vs.-Colorado-Avalanche-@-Ball-Arena-Denver-CO-Large-copy-Medium-aSQLWk.tmp_.jpg
END:VEVENT
BEGIN:VEVENT
DTSTART;TZID=UTC:20190316T160000
DTEND;TZID=UTC:20190316T200000
DTSTAMP:20260423T190438
CREATED:20241125T164215Z
LAST-MODIFIED:20241125T164215Z
UID:957-1552752000-1552766400@soberafe.com
SUMMARY:Calgary Roughnecks vs. Colorado Mammoth @ Ball Arena (Denver - CO)
DESCRIPTION:
URL:https://soberafe.com/event/calgary-roughnecks-vs-colorado-mammoth-ball-arena-denver-co/
LOCATION:Ball Arena\, 1000 Chopper Circle\, Denver\, Colorado\, 80204\, United States
CATEGORIES:Sports (Pro)
ATTACH;FMTTYPE=image/jpeg:https://soberafe.com/wp-content/uploads/2024/11/19-03-16-Calgary-Roughnecks-vs.-Colorado-Mammoth-@-Ball-Arena-Denver-CO-Large-copy-Medium-cUpzGO.tmp_.jpg
END:VEVENT
BEGIN:VEVENT
DTSTART;TZID=UTC:20190302T170000
DTEND;TZID=UTC:20190302T220000
DTSTAMP:20260423T190438
CREATED:20241125T164204Z
LAST-MODIFIED:20241125T164204Z
UID:952-1551546000-1551564000@soberafe.com
SUMMARY:New Orleans Pelicans vs. Denver Nuggets @ Ball Arena (Denver - CO)
DESCRIPTION:
URL:https://soberafe.com/event/new-orleans-pelicans-vs-denver-nuggets-ball-arena-denver-co/
LOCATION:Ball Arena\, 1000 Chopper Circle\, Denver\, Colorado\, 80204\, United States
CATEGORIES:Sports (Pro)
ATTACH;FMTTYPE=image/jpeg:https://soberafe.com/wp-content/uploads/2024/11/19-03-02-New-Orleans-Pelicans-vs.-Denver-Nuggets-@-Ball-Arena-Denver-CO-Large-copy-Medium-3zWj8E.tmp_.jpg
END:VEVENT
BEGIN:VEVENT
DTSTART;TZID=UTC:20190218T170000
DTEND;TZID=UTC:20190218T220000
DTSTAMP:20260423T190438
CREATED:20241125T164203Z
LAST-MODIFIED:20241125T164203Z
UID:951-1550509200-1550527200@soberafe.com
SUMMARY:Vegas Golden Knights vs. Colorado Avalanche @ Ball Arena (Denver - CO)
DESCRIPTION:
URL:https://soberafe.com/event/vegas-golden-knights-vs-colorado-avalanche-ball-arena-denver-co/
LOCATION:Ball Arena\, 1000 Chopper Circle\, Denver\, Colorado\, 80204\, United States
CATEGORIES:Sports (Pro)
ATTACH;FMTTYPE=image/jpeg:https://soberafe.com/wp-content/uploads/2024/11/19-02-18-Vegas-Golden-Knights-vs.-Colorado-Avalanche-@-Ball-Arena-Denver-CO-Large-copy-Medium-2Ra4lD.tmp_.jpg
END:VEVENT
BEGIN:VEVENT
DTSTART;TZID=UTC:20181231T170000
DTEND;TZID=UTC:20181231T220000
DTSTAMP:20260423T190438
CREATED:20241125T164200Z
LAST-MODIFIED:20241125T164200Z
UID:947-1546275600-1546293600@soberafe.com
SUMMARY:Sacramento Kings vs. Colorado Avalanche @ Ball Arena (Denver - CO)
DESCRIPTION:
URL:https://soberafe.com/event/sacramento-kings-vs-colorado-avalanche-ball-arena-denver-co/
LOCATION:Ball Arena\, 1000 Chopper Circle\, Denver\, Colorado\, 80204\, United States
CATEGORIES:Sports (Pro)
ATTACH;FMTTYPE=image/jpeg:https://soberafe.com/wp-content/uploads/2024/11/18-12-31-Sacramento-Kings-vs.-Colorado-Avalanche-@-Ball-Arena-Denver-CO-Large-copy-Medium-VSOwc2.tmp_.jpg
END:VEVENT
BEGIN:VEVENT
DTSTART;TZID=UTC:20181114T170000
DTEND;TZID=UTC:20181114T220000
DTSTAMP:20260423T190438
CREATED:20241125T164147Z
LAST-MODIFIED:20241125T164147Z
UID:941-1542214800-1542232800@soberafe.com
SUMMARY:Boston Bruins vs. Colorado Avalanche @ Ball Arena (Denver - CO)
DESCRIPTION:
URL:https://soberafe.com/event/boston-bruins-vs-colorado-avalanche-ball-arena-denver-co/
LOCATION:Ball Arena\, 1000 Chopper Circle\, Denver\, Colorado\, 80204\, United States
CATEGORIES:Sports (Pro)
ATTACH;FMTTYPE=image/jpeg:https://soberafe.com/wp-content/uploads/2024/11/18-11-14-Boston-Bruins-vs.-Colorado-Avalanche-@-Ball-Arena-Denver-CO-Large-copy-Medium-TIYqnX.tmp_.jpg
END:VEVENT
BEGIN:VEVENT
DTSTART;TZID=UTC:20181113T170000
DTEND;TZID=UTC:20181113T220000
DTSTAMP:20260423T190438
CREATED:20241125T164146Z
LAST-MODIFIED:20241125T164146Z
UID:939-1542128400-1542146400@soberafe.com
SUMMARY:Houston Rockets vs. Denver Nuggets @ Ball Arena (Denver - CO)
DESCRIPTION:
URL:https://soberafe.com/event/houston-rockets-vs-denver-nuggets-ball-arena-denver-co/
LOCATION:Ball Arena\, 1000 Chopper Circle\, Denver\, Colorado\, 80204\, United States
CATEGORIES:Sports (Pro)
ATTACH;FMTTYPE=image/jpeg:https://soberafe.com/wp-content/uploads/2024/11/18-11-13-Houston-Rockets-vs.-Denver-Nuggets-@-Ball-Arena-Denver-CO-Large-copy-Medium-B5Gpi4.tmp_.jpg
END:VEVENT
BEGIN:VEVENT
DTSTART;TZID=UTC:20180825T160000
DTEND;TZID=UTC:20180825T200000
DTSTAMP:20260423T190438
CREATED:20241125T164116Z
LAST-MODIFIED:20241125T164116Z
UID:923-1535212800-1535227200@soberafe.com
SUMMARY:St. Louis Cardinals vs. Colorado Rockies @ Coors Field (Denver - CO)
DESCRIPTION:
URL:https://soberafe.com/event/st-louis-cardinals-vs-colorado-rockies-coors-field-denver-co/
LOCATION:Coors Field\, 2195 Blake Street\, Denver\, Colorado\, 80205\, United States
CATEGORIES:Sports (Pro)
ATTACH;FMTTYPE=image/jpeg:https://soberafe.com/wp-content/uploads/2024/11/18-08-25-St.-Louis-Cardinals-vs.-Colorado-Rockies-@-Coors-Field-Denver-CO-Large-copy-Medium-bC1Zu7.tmp_.jpg
END:VEVENT
BEGIN:VEVENT
DTSTART;TZID=UTC:20180728T160000
DTEND;TZID=UTC:20180728T200000
DTSTAMP:20260423T190438
CREATED:20241125T164058Z
LAST-MODIFIED:20241125T164058Z
UID:917-1532793600-1532808000@soberafe.com
SUMMARY:Oakland Athletics vs. Colorado Rockies @ Coors Field (Denver - CO)
DESCRIPTION:
URL:https://soberafe.com/event/oakland-athletics-vs-colorado-rockies-coors-field-denver-co/
LOCATION:Coors Field\, 2195 Blake Street\, Denver\, Colorado\, 80205\, United States
CATEGORIES:Sports (Pro)
ATTACH;FMTTYPE=image/jpeg:https://soberafe.com/wp-content/uploads/2024/11/18-07-28-Oakland-Athletics-vs.-Colorado-Rockies-@-Coors-Field-Denver-CO-Large-copy-Medium-7HCWxU.tmp_.jpg
END:VEVENT
BEGIN:VEVENT
DTSTART;TZID=UTC:20180622T160000
DTEND;TZID=UTC:20180622T200000
DTSTAMP:20260423T190438
CREATED:20241125T164050Z
LAST-MODIFIED:20241125T164050Z
UID:911-1529683200-1529697600@soberafe.com
SUMMARY:Miami Marlins vs. Colorado Rockies @ Coors Field (Denver - CO)
DESCRIPTION:
URL:https://soberafe.com/event/miami-marlins-vs-colorado-rockies-coors-field-denver-co/
LOCATION:Coors Field\, 2195 Blake Street\, Denver\, Colorado\, 80205\, United States
CATEGORIES:Sports (Pro)
ATTACH;FMTTYPE=image/jpeg:https://soberafe.com/wp-content/uploads/2024/11/18-06-22-Miami-Marlins-vs.-Colorado-Rockies-@-Coors-Field-Denver-CO-Large-copy-Medium-JFcXAW.tmp_.jpg
END:VEVENT
END:VCALENDAR