BEGIN:VCALENDAR
VERSION:2.0
PRODID:-//SOBER AF ENTERTAINMENT - ECPv6.15.20//NONSGML v1.0//EN
CALSCALE:GREGORIAN
METHOD:PUBLISH
X-ORIGINAL-URL:https://soberafe.com
X-WR-CALDESC:Events for SOBER AF ENTERTAINMENT
REFRESH-INTERVAL;VALUE=DURATION:PT1H
X-Robots-Tag:noindex
X-PUBLISHED-TTL:PT1H
BEGIN:VTIMEZONE
TZID:UTC
BEGIN:STANDARD
TZOFFSETFROM:+0000
TZOFFSETTO:+0000
TZNAME:UTC
DTSTART:20230101T000000
END:STANDARD
END:VTIMEZONE
BEGIN:VEVENT
DTSTART;TZID=UTC:20241231T170000
DTEND;TZID=UTC:20241231T213000
DTSTAMP:20260424T133647
CREATED:20241126T145942Z
LAST-MODIFIED:20241126T145942Z
UID:1418-1735664400-1735680600@soberafe.com
SUMMARY:Winnipeg Jets vs. Colorado Avalanche @ Ball Arena (Denver - CO)
DESCRIPTION:Sober tailgate prior in the Continental Divide Conference room inside Ball Arena starting at 5:00pm MST!
URL:https://soberafe.com/event/winnipeg-jets-vs-colorado-avalanche-ball-arena-denver-co-2/
LOCATION:Ball Arena\, 1000 Chopper Circle\, Denver\, Colorado\, 80204\, United States
CATEGORIES:Sports (Pro)
ATTACH;FMTTYPE=image/jpeg:https://soberafe.com/wp-content/uploads/2024/11/Sober-AF-1st-Game-Flyer.jpg
END:VEVENT
END:VCALENDAR