BEGIN:VCALENDAR
VERSION:2.0
PRODID:-//SOBER AF ENTERTAINMENT - ECPv6.15.20//NONSGML v1.0//EN
CALSCALE:GREGORIAN
METHOD:PUBLISH
X-WR-CALNAME:SOBER AF ENTERTAINMENT
X-ORIGINAL-URL:https://soberafe.com
X-WR-CALDESC:Events for SOBER AF ENTERTAINMENT
REFRESH-INTERVAL;VALUE=DURATION:PT1H
X-Robots-Tag:noindex
X-PUBLISHED-TTL:PT1H
BEGIN:VTIMEZONE
TZID:UTC
BEGIN:STANDARD
TZOFFSETFROM:+0000
TZOFFSETTO:+0000
TZNAME:UTC
DTSTART:20240101T000000
END:STANDARD
END:VTIMEZONE
BEGIN:VEVENT
DTSTART;TZID=UTC:20251031T160000
DTEND;TZID=UTC:20251031T200000
DTSTAMP:20260421T180617
CREATED:20250912T184726Z
LAST-MODIFIED:20250912T184726Z
UID:1673-1761926400-1761940800@soberafe.com
SUMMARY:Recovery CAFE & S.AF.E Open Mic Part 3
DESCRIPTION:Performances at 5 PM\nDancing by 7:15 PM \nADDRESS: 457 4th Ave\, Longmont\, CO 80501
URL:https://soberafe.com/event/recovery-cafe-s-af-e-open-mic-part-3/
LOCATION:PMC Longmont\, 457 4th Ave\, Longmont\, 80501\, United States
CATEGORIES:Community Celebrations
ATTACH;FMTTYPE=image/jpeg:https://soberafe.com/wp-content/uploads/2025/09/Open-Mic-Night-Silent-Disco-3.jpg
END:VEVENT
END:VCALENDAR