BEGIN:VCALENDAR
VERSION:2.0
PRODID:-//SOBER AF ENTERTAINMENT - ECPv6.15.20//NONSGML v1.0//EN
CALSCALE:GREGORIAN
METHOD:PUBLISH
X-ORIGINAL-URL:https://soberafe.com
X-WR-CALDESC:Events for SOBER AF ENTERTAINMENT
REFRESH-INTERVAL;VALUE=DURATION:PT1H
X-Robots-Tag:noindex
X-PUBLISHED-TTL:PT1H
BEGIN:VTIMEZONE
TZID:UTC
BEGIN:STANDARD
TZOFFSETFROM:+0000
TZOFFSETTO:+0000
TZNAME:UTC
DTSTART:20240101T000000
END:STANDARD
END:VTIMEZONE
BEGIN:VEVENT
DTSTART;TZID=UTC:20250905T160000
DTEND;TZID=UTC:20250905T200000
DTSTAMP:20260421T194143
CREATED:20250912T184302Z
LAST-MODIFIED:20250912T184444Z
UID:1662-1757088000-1757102400@soberafe.com
SUMMARY:Recovery CAFE & S.AF.E Open Mic Part 1
DESCRIPTION:Performances at 5 PM\nDancing by 7:15 PM \nADDRESS: 457 4th Ave\, Longmont\, CO 80501
URL:https://soberafe.com/event/recovery-cafe-s-af-e-open-mic-part-1/
LOCATION:Recovery Cafe Longmont\, 801 Main Street Longmont\, Longmont\, CO\, United States
CATEGORIES:Community Celebrations
ATTACH;FMTTYPE=image/jpeg:https://soberafe.com/wp-content/uploads/2025/09/Open-Mic-Night-Silent-Disco.jpg
END:VEVENT
END:VCALENDAR