BEGIN:VCALENDAR
VERSION:2.0
PRODID:-//SOBER AF ENTERTAINMENT - ECPv6.15.20//NONSGML v1.0//EN
CALSCALE:GREGORIAN
METHOD:PUBLISH
X-WR-CALNAME:SOBER AF ENTERTAINMENT
X-ORIGINAL-URL:https://soberafe.com
X-WR-CALDESC:Events for SOBER AF ENTERTAINMENT
REFRESH-INTERVAL;VALUE=DURATION:PT1H
X-Robots-Tag:noindex
X-PUBLISHED-TTL:PT1H
BEGIN:VTIMEZONE
TZID:UTC
BEGIN:STANDARD
TZOFFSETFROM:+0000
TZOFFSETTO:+0000
TZNAME:UTC
DTSTART:20240101T000000
END:STANDARD
END:VTIMEZONE
BEGIN:VEVENT
DTSTART;TZID=UTC:20250809T180000
DTEND;TZID=UTC:20250809T200000
DTSTAMP:20260421T211754
CREATED:20250708T214214Z
LAST-MODIFIED:20250815T162117Z
UID:1597-1754762400-1754769600@soberafe.com
SUMMARY:Sunset Grooves at the Flagstaff Summit Picnic Shelter
DESCRIPTION:The Recovery & Wellness Series in Partnership with Sober AF Entertainment!
URL:https://soberafe.com/event/sunset-grooves-at-the-flagstaff-summit-picnic-shelter/
LOCATION:Flagstaff Summit Wood Picnic Shelter\, 621 Flagstaff Summit Rd\, Boulder\, CO\, 80302
CATEGORIES:Community Celebrations
ATTACH;FMTTYPE=image/png:https://soberafe.com/wp-content/uploads/2025/07/Sunset-grooves-aug-9.png
END:VEVENT
END:VCALENDAR