BEGIN:VCALENDAR
VERSION:2.0
PRODID:-//SOBER AF ENTERTAINMENT - ECPv6.15.20//NONSGML v1.0//EN
CALSCALE:GREGORIAN
METHOD:PUBLISH
X-ORIGINAL-URL:https://soberafe.com
X-WR-CALDESC:Events for SOBER AF ENTERTAINMENT
REFRESH-INTERVAL;VALUE=DURATION:PT1H
X-Robots-Tag:noindex
X-PUBLISHED-TTL:PT1H
BEGIN:VTIMEZONE
TZID:UTC
BEGIN:STANDARD
TZOFFSETFROM:+0000
TZOFFSETTO:+0000
TZNAME:UTC
DTSTART:20230101T000000
END:STANDARD
END:VTIMEZONE
BEGIN:VEVENT
DTSTART;TZID=UTC:20241019T200000
DTEND;TZID=UTC:20241019T210000
DTSTAMP:20260422T133221
CREATED:20241125T165304Z
LAST-MODIFIED:20241125T165304Z
UID:1324-1729368000-1729371600@soberafe.com
SUMMARY:Homecoming @ Colorado Mesa University (Grand Junction - CO)
DESCRIPTION:Open to all students & community members!
URL:https://soberafe.com/event/homecoming-colorado-mesa-university-grand-junction-co/
LOCATION:Colorado Mesa University\, 1100 North Ave\, Grand Junction\, Colorado\, 81501\, United States
CATEGORIES:Community Celebrations
ATTACH;FMTTYPE=image/jpeg:https://soberafe.com/wp-content/uploads/2024/11/2024-10-19-_-CMU-Homecoming-@-Colorado-Mesa-University-Grand-Junction-CO-DCSWPr.tmp_.jpg
END:VEVENT
END:VCALENDAR