BEGIN:VCALENDAR
VERSION:2.0
PRODID:-//SOBER AF ENTERTAINMENT - ECPv6.15.20//NONSGML v1.0//EN
CALSCALE:GREGORIAN
METHOD:PUBLISH
X-ORIGINAL-URL:https://soberafe.com
X-WR-CALDESC:Events for SOBER AF ENTERTAINMENT
REFRESH-INTERVAL;VALUE=DURATION:PT1H
X-Robots-Tag:noindex
X-PUBLISHED-TTL:PT1H
BEGIN:VTIMEZONE
TZID:UTC
BEGIN:STANDARD
TZOFFSETFROM:+0000
TZOFFSETTO:+0000
TZNAME:UTC
DTSTART:20240101T000000
END:STANDARD
END:VTIMEZONE
BEGIN:VEVENT
DTSTART;TZID=UTC:20250418T200000
DTEND;TZID=UTC:20250418T233000
DTSTAMP:20260419T124530
CREATED:20250407T150233Z
LAST-MODIFIED:20250407T150233Z
UID:1506-1745006400-1745019000@soberafe.com
SUMMARY:Liquid Stranger @ The Mission Ballroom (Denver - CO)
DESCRIPTION:Peer & Recovery support provided at Mission Row inside Mission Ballroom! Look for the S.AF.E booth!
URL:https://soberafe.com/event/liquid-stranger-the-mission-ballroom-denver-co/
LOCATION:The Mission Ballroom\, 4242 Wynkoop Street\, Denver\, Colorado\, 80216\, United States
CATEGORIES:Concerts
ATTACH;FMTTYPE=image/jpeg:https://soberafe.com/wp-content/uploads/2025/04/2025-04-18-Fri-Sat-Liquid-Stranger-@-The-Mission-Ballroom-Denver-CO.jpg
END:VEVENT
END:VCALENDAR