BEGIN:VCALENDAR
VERSION:2.0
PRODID:-//SOBER AF ENTERTAINMENT - ECPv6.15.20//NONSGML v1.0//EN
CALSCALE:GREGORIAN
METHOD:PUBLISH
X-WR-CALNAME:SOBER AF ENTERTAINMENT
X-ORIGINAL-URL:https://soberafe.com
X-WR-CALDESC:Events for SOBER AF ENTERTAINMENT
REFRESH-INTERVAL;VALUE=DURATION:PT1H
X-Robots-Tag:noindex
X-PUBLISHED-TTL:PT1H
BEGIN:VTIMEZONE
TZID:UTC
BEGIN:STANDARD
TZOFFSETFROM:+0000
TZOFFSETTO:+0000
TZNAME:UTC
DTSTART:20240101T000000
END:STANDARD
END:VTIMEZONE
BEGIN:VEVENT
DTSTART;TZID=UTC:20250401T080000
DTEND;TZID=UTC:20250401T170000
DTSTAMP:20260419T124404
CREATED:20250401T180632Z
LAST-MODIFIED:20250401T180632Z
UID:1494-1743494400-1743526800@soberafe.com
SUMMARY:Henderson Silver Knights vs. Colorado Eagles @ Blue FCU Arena (Loveland - CO)
DESCRIPTION:Join us for our Sober section! \nTickets at: https://link.soberafe.com/Colorado-Eagles_25-04-12
URL:https://soberafe.com/event/henderson-silver-knights-vs-colorado-eagles-blue-fcu-arena-loveland-co/
LOCATION:Blue FCU Arena\, 5290 Arena Circle\, Loveland\, Colorado\, 80538\, United States
CATEGORIES:Sports (Pro)
ATTACH;FMTTYPE=image/jpeg:https://soberafe.com/wp-content/uploads/2025/04/2025-04-12-Sat-Henderson-Silver-Knights-vs.-Colorado-Eagles-@-Blue-FCU-Arena-Loveland-CO.jpg
END:VEVENT
END:VCALENDAR