BEGIN:VCALENDAR
VERSION:2.0
PRODID:-//SOBER AF ENTERTAINMENT - ECPv6.15.20//NONSGML v1.0//EN
CALSCALE:GREGORIAN
METHOD:PUBLISH
X-ORIGINAL-URL:https://soberafe.com
X-WR-CALDESC:Events for SOBER AF ENTERTAINMENT
REFRESH-INTERVAL;VALUE=DURATION:PT1H
X-Robots-Tag:noindex
X-PUBLISHED-TTL:PT1H
BEGIN:VTIMEZONE
TZID:UTC
BEGIN:STANDARD
TZOFFSETFROM:+0000
TZOFFSETTO:+0000
TZNAME:UTC
DTSTART:20240101T000000
END:STANDARD
END:VTIMEZONE
BEGIN:VEVENT
DTSTART;TZID=UTC:20250222T183000
DTEND;TZID=UTC:20250222T233000
DTSTAMP:20260419T155927
CREATED:20241126T164815Z
LAST-MODIFIED:20250206T231436Z
UID:1424-1740249000-1740267000@soberafe.com
SUMMARY:Ravenscoon & Manic Focus @ The Mission Ballroom (Denver - CO)
DESCRIPTION:Peer & Recovery support provided at Mission Row inside Mission Ballroom! Look for the S.AF.E booth!
URL:https://soberafe.com/event/ravenscoon-manic-focus-the-mission-ballroom-denver-co/
LOCATION:The Mission Ballroom\, 4242 Wynkoop Street\, Denver\, Colorado\, 80216\, United States
CATEGORIES:Concerts
ATTACH;FMTTYPE=image/jpeg:https://soberafe.com/wp-content/uploads/2024/11/ravenscoon-tickets_02-22-25_17_670c85b335e93.jpg
END:VEVENT
END:VCALENDAR