BEGIN:VCALENDAR
VERSION:2.0
PRODID:-//SOBER AF ENTERTAINMENT - ECPv6.15.20//NONSGML v1.0//EN
CALSCALE:GREGORIAN
METHOD:PUBLISH
X-ORIGINAL-URL:https://soberafe.com
X-WR-CALDESC:Events for SOBER AF ENTERTAINMENT
REFRESH-INTERVAL;VALUE=DURATION:PT1H
X-Robots-Tag:noindex
X-PUBLISHED-TTL:PT1H
BEGIN:VTIMEZONE
TZID:UTC
BEGIN:STANDARD
TZOFFSETFROM:+0000
TZOFFSETTO:+0000
TZNAME:UTC
DTSTART:20240101T000000
END:STANDARD
END:VTIMEZONE
BEGIN:VEVENT
DTSTART;TZID=UTC:20250214T173000
DTEND;TZID=UTC:20250214T210000
DTSTAMP:20260419T161110
CREATED:20241126T170439Z
LAST-MODIFIED:20250107T223939Z
UID:1434-1739554200-1739566800@soberafe.com
SUMMARY:North Dakota Fighting Hawks vs. Denver Pioneers @ Magness Arena (Denver - CO)
DESCRIPTION:Sober tailgate prior in the DU Health Center starting at 5:30pm MST!  \nLocation:\n2240 E Buchtel Blvd\, 3N\,\nDenver\, CO 80208
URL:https://soberafe.com/event/north-dakota-fighting-hawks-vs-denver-pioneers-magness-arena-denver-co/
LOCATION:Magness Arena\, 2250 East Jewell Avenue\, Denver\, Colorado\, 80210\, United States
CATEGORIES:Sports (College)
ATTACH;FMTTYPE=image/jpeg:https://soberafe.com/wp-content/uploads/2024/11/2025-02-14-North-Dakota-Fighting-Hawks-vs.-Denver-Pioneers-@-Magness-Arena-Denver-CO.jpg
END:VEVENT
END:VCALENDAR